Workbook

Sheet PORTADA

Sheet Índice
A1: L'Alt Maestrat
B4: ÍNDICE
B6: 1. Lugar de nacimiento del total de población. Evolución 1999-2022
B8: 2. Nacidos en España o en el extranjero. Evolución 1999-2022
B10: 3. Nacionalidad española o extranjera. Evolución 2000-2022
B12: 4. Variación interanual de los españoles y extranjeros. Evolución 2001-2022
B14: 5. Grandes grupos de edad de los residentes con nacionalidad extranjera. Evolución 2002-2022
B16: 6. Residentes nacidos en el extranjero según continentes. Evolución 2002-2022
B18: 7. Residentes con nacionalidad extranjera según continentes. Evolución 2002-2022
B20: 8. Residentes nacidos en el extranjero, según los 16 principales países de nacimiento. Evolución 2002-2022
B22: 9. Residentes con nacionalidad extranjera, según las 16 principales nacionalidades. Evolución 2002-2022
B24: 10. Total de nacimientos según la nacionalidad de la madre. Evolución 2002-2022

Sheet Lugar nacimiento
A1: L'Alt Maestrat
A2: 1. Lugar de nacimiento del total de población. Evolución 1999-2022 (datos absolutos)
A5: 1.1. Lugar de nacimiento del total de población (datos absolutos)
A7: Ambos sexos | B7: 1999 | C7: 2000 | D7: 2001 | E7: 2002 | F7: 2003 | G7: 2004 | H7: 2005 | I7: 2006 | J7: 2007 | K7: 2008 | L7: 2009 | M7: 2010 | N7: 2011 | O7: 2012 | P7: 2013 | Q7: 2014 | R7: 2015 | S7: 2016 | T7: 2017 | U7: 2018 | V7: 2019 | W7: 2020 | X7: 2021 | Y7: 2022
A8: Total | B8: 8308 | C8: 8205 | D8: 8114 | E8: 8127 | F8: 8078 | G8: 8035 | H8: 8003 | I8: 7912 | J8: 7846 | K8: 7948 | L8: 7934 | M8: 7898 | N8: 7821 | O8: 7715 | P8: 7536 | Q8: 7260 | R8: 7128 | S8: 7037 | T8: 6872 | U8: 6745 | V8: 6657 | W8: 6622 | X8: 6668 | Y8: 6593
A9: Nacidos en la C. Valenciana | B9: 7642 | C9: 7532 | D9: 7417 | E9: 7272 | F9: 7120 | G9: 7011 | H9: 6898 | I9: 6729 | J9: 6622 | K9: 6540 | L9: 6505 | M9: 6432 | N9: 6368 | O9: 6278 | P9: 6158 | Q9: 6031 | R9: 5950 | S9: 5904 | T9: 5790 | U9: 5700 | V9: 5630 | W9: 5555 | X9: 5529 | Y9: 5476
A10: En el mismo municipio | B10: 4965 | C10: 4870 | D10: 4773 | E10: 4656 | F10: 4568 | G10: 4490 | H10: 4431 | I10: 4338 | J10: 4268 | K10: 4209 | L10: 4161 | M10: 4106 | N10: 4054 | O10: 3979 | P10: 3886 | Q10: 3814 | R10: 3770 | S10: 3727 | T10: 3648 | U10: 3571 | V10: 3513 | W10: 3482 | X10: 3430 | Y10: 3374
A11: Diferente municipio, misma comarca | B11: 660 | C11: 640 | D11: 634 | E11: 617 | F11: 605 | G11: 584 | H11: 570 | I11: 550 | J11: 539 | K11: 526 | L11: 512 | M11: 505 | N11: 499 | O11: 480 | P11: 472 | Q11: 463 | R11: 452 | S11: 445 | T11: 443 | U11: 430 | V11: 420 | W11: 403 | X11: 396 | Y11: 387
A12: Diferente comarca, misma provincia | B12: 1945 | C12: 1939 | D12: 1922 | E12: 1920 | F12: 1873 | G12: 1863 | H12: 1830 | I12: 1773 | J12: 1752 | K12: 1734 | L12: 1746 | M12: 1748 | N12: 1740 | O12: 1742 | P12: 1721 | Q12: 1683 | R12: 1657 | S12: 1655 | T12: 1630 | U12: 1618 | V12: 1606 | W12: 1582 | X12: 1609 | Y12: 1609
A13: Diferente provincia de la C. Valenciana | B13: 73 | C13: 83 | D13: 88 | E13: 79 | F13: 74 | G13: 74 | H13: 67 | I13: 68 | J13: 63 | K13: 71 | L13: 86 | M13: 73 | N13: 75 | O13: 77 | P13: 79 | Q13: 71 | R13: 71 | S13: 77 | T13: 69 | U13: 81 | V13: 91 | W13: 88 | X13: 94 | Y13: 106
A14: Fuera de la C. Valenciana | B14: 666 | C14: 673 | D14: 697 | E14: 855 | F14: 958 | G14: 1024 | H14: 1105 | I14: 1183 | J14: 1224 | K14: 1408 | L14: 1429 | M14: 1466 | N14: 1453 | O14: 1437 | P14: 1378 | Q14: 1229 | R14: 1178 | S14: 1133 | T14: 1082 | U14: 1045 | V14: 1027 | W14: 1067 | X14: 1139 | Y14: 1117
A15: Resto de España | B15: 586 | C15: 568 | D15: 555 | E15: 556 | F15: 539 | G15: 543 | H15: 541 | I15: 526 | J15: 533 | K15: 543 | L15: 541 | M15: 539 | N15: 546 | O15: 544 | P15: 536 | Q15: 503 | R15: 513 | S15: 501 | T15: 502 | U15: 494 | V15: 493 | W15: 507 | X15: 526 | Y15: 518
A16: Extranjero | B16: 80 | C16: 105 | D16: 142 | E16: 299 | F16: 419 | G16: 481 | H16: 564 | I16: 657 | J16: 691 | K16: 865 | L16: 888 | M16: 927 | N16: 907 | O16: 893 | P16: 842 | Q16: 726 | R16: 665 | S16: 632 | T16: 580 | U16: 551 | V16: 534 | W16: 560 | X16: 613 | Y16: 599
A17: Fuente: Portal Estadístic de la Generalitat Valenciana (PEGV)
A20: Hombres | B20: 1999 | C20: 2000 | D20: 2001 | E20: 2002 | F20: 2003 | G20: 2004 | H20: 2005 | I20: 2006 | J20: 2007 | K20: 2008 | L20: 2009 | M20: 2010 | N20: 2011 | O20: 2012 | P20: 2013 | Q20: 2014 | R20: 2015 | S20: 2016 | T20: 2017 | U20: 2018 | V20: 2019 | W20: 2020 | X20: 2021 | Y20: 2022
A21: Total | B21: 4090 | C21: 4047 | D21: 4014 | E21: 4049 | F21: 4054 | G21: 4033 | H21: 4029 | I21: 3985 | J21: 3958 | K21: 4030 | L21: 4010 | M21: 3996 | N21: 3949 | O21: 3900 | P21: 3816 | Q21: 3655 | R21: 3605 | S21: 3543 | T21: 3440 | U21: 3412 | V21: 3377 | W21: 3350 | X21: 3367 | Y21: 3349
A22: Nacidos en la C. Valenciana | B22: 3793 | C22: 3739 | D22: 3685 | E22: 3617 | F22: 3574 | G22: 3520 | H22: 3466 | I22: 3378 | J22: 3325 | K22: 3288 | L22: 3265 | M22: 3236 | N22: 3207 | O22: 3173 | P22: 3109 | Q22: 3042 | R22: 3027 | S22: 3002 | T22: 2938 | U22: 2924 | V22: 2891 | W22: 2851 | X22: 2827 | Y22: 2811
A23: En el mismo municipio | B23: 2443 | C23: 2390 | D23: 2347 | E23: 2287 | F23: 2270 | G23: 2233 | H23: 2203 | I23: 2163 | J23: 2122 | K23: 2090 | L23: 2071 | M23: 2045 | N23: 2017 | O23: 1984 | P23: 1941 | Q23: 1904 | R23: 1896 | S23: 1875 | T23: 1827 | U23: 1808 | V23: 1782 | W23: 1769 | X23: 1743 | Y23: 1718
A24: Diferente municipio, misma comarca | B24: 268 | C24: 266 | D24: 265 | E24: 261 | F24: 257 | G24: 250 | H24: 246 | I24: 234 | J24: 232 | K24: 226 | L24: 217 | M24: 218 | N24: 214 | O24: 205 | P24: 203 | Q24: 200 | R24: 194 | S24: 187 | T24: 182 | U24: 178 | V24: 172 | W24: 160 | X24: 157 | Y24: 151
A25: Diferente comarca, misma provincia | B25: 1047 | C25: 1042 | D25: 1029 | E25: 1029 | F25: 1013 | G25: 1003 | H25: 988 | I25: 952 | J25: 945 | K25: 943 | L25: 942 | M25: 946 | N25: 947 | O25: 952 | P25: 933 | Q25: 911 | R25: 912 | S25: 912 | T25: 905 | U25: 907 | V25: 895 | W25: 886 | X25: 890 | Y25: 901
A26: Diferente provincia de la C. Valenciana | B26: 35 | C26: 41 | D26: 44 | E26: 40 | F26: 34 | G26: 34 | H26: 29 | I26: 29 | J26: 26 | K26: 29 | L26: 35 | M26: 27 | N26: 29 | O26: 32 | P26: 32 | Q26: 27 | R26: 25 | S26: 28 | T26: 24 | U26: 31 | V26: 42 | W26: 36 | X26: 37 | Y26: 41
A27: Fuera de la C. Valenciana | B27: 297 | C27: 308 | D27: 329 | E27: 432 | F27: 480 | G27: 513 | H27: 563 | I27: 607 | J27: 633 | K27: 742 | L27: 745 | M27: 760 | N27: 742 | O27: 727 | P27: 707 | Q27: 613 | R27: 578 | S27: 541 | T27: 502 | U27: 488 | V27: 486 | W27: 499 | X27: 540 | Y27: 538
A28: Resto de España | B28: 252 | C28: 241 | D28: 238 | E28: 233 | F28: 221 | G28: 230 | H28: 234 | I28: 224 | J28: 234 | K28: 243 | L28: 244 | M28: 247 | N28: 252 | O28: 250 | P28: 246 | Q28: 234 | R28: 240 | S28: 230 | T28: 224 | U28: 222 | V28: 220 | W28: 227 | X28: 245 | Y28: 243
A29: Extranjero | B29: 44 | C29: 67 | D29: 91 | E29: 199 | F29: 259 | G29: 283 | H29: 329 | I29: 383 | J29: 399 | K29: 499 | L29: 501 | M29: 513 | N29: 490 | O29: 477 | P29: 461 | Q29: 379 | R29: 338 | S29: 311 | T29: 278 | U29: 266 | V29: 266 | W29: 272 | X29: 295 | Y29: 295
A30: Fuente: Portal Estadístic de la Generalitat Valenciana (PEGV)
A33: Mujeres | B33: 1999 | C33: 2000 | D33: 2001 | E33: 2002 | F33: 2003 | G33: 2004 | H33: 2005 | I33: 2006 | J33: 2007 | K33: 2008 | L33: 2009 | M33: 2010 | N33: 2011 | O33: 2012 | P33: 2013 | Q33: 2014 | R33: 2015 | S33: 2016 | T33: 2017 | U33: 2018 | V33: 2019 | W33: 2020 | X33: 2021 | Y33: 2022
A34: Total | B34: 4218 | C34: 4158 | D34: 4100 | E34: 4078 | F34: 4024 | G34: 4002 | H34: 3974 | I34: 3927 | J34: 3888 | K34: 3918 | L34: 3924 | M34: 3902 | N34: 3872 | O34: 3815 | P34: 3720 | Q34: 3605 | R34: 3523 | S34: 3494 | T34: 3432 | U34: 3333 | V34: 3280 | W34: 3272 | X34: 3301 | Y34: 3244
A35: Nacidos en la C. Valenciana | B35: 3849 | C35: 3793 | D35: 3732 | E35: 3655 | F35: 3546 | G35: 3491 | H35: 3432 | I35: 3351 | J35: 3297 | K35: 3252 | L35: 3240 | M35: 3196 | N35: 3161 | O35: 3105 | P35: 3049 | Q35: 2989 | R35: 2923 | S35: 2902 | T35: 2852 | U35: 2776 | V35: 2739 | W35: 2704 | X35: 2702 | Y35: 2665
A36: En el mismo municipio | B36: 2522 | C36: 2480 | D36: 2426 | E36: 2369 | F36: 2298 | G36: 2257 | H36: 2228 | I36: 2175 | J36: 2146 | K36: 2119 | L36: 2090 | M36: 2061 | N36: 2037 | O36: 1995 | P36: 1945 | Q36: 1910 | R36: 1874 | S36: 1852 | T36: 1821 | U36: 1763 | V36: 1731 | W36: 1713 | X36: 1687 | Y36: 1656
A37: Diferente municipio, misma comarca | B37: 391 | C37: 374 | D37: 369 | E37: 356 | F37: 348 | G37: 334 | H37: 324 | I37: 316 | J37: 307 | K37: 300 | L37: 295 | M37: 287 | N37: 285 | O37: 275 | P37: 269 | Q37: 263 | R37: 258 | S37: 258 | T37: 261 | U37: 252 | V37: 248 | W37: 243 | X37: 239 | Y37: 236
A38: Diferente comarca, misma provincia | B38: 898 | C38: 897 | D38: 893 | E38: 891 | F38: 860 | G38: 860 | H38: 842 | I38: 821 | J38: 807 | K38: 791 | L38: 804 | M38: 802 | N38: 793 | O38: 790 | P38: 788 | Q38: 772 | R38: 745 | S38: 743 | T38: 725 | U38: 711 | V38: 711 | W38: 696 | X38: 719 | Y38: 708
A39: Diferente provincia de la C. Valenciana | B39: 37 | C39: 42 | D39: 44 | E39: 39 | F39: 40 | G39: 40 | H39: 38 | I39: 39 | J39: 37 | K39: 42 | L39: 51 | M39: 46 | N39: 46 | O39: 45 | P39: 47 | Q39: 44 | R39: 46 | S39: 49 | T39: 45 | U39: 50 | V39: 49 | W39: 52 | X39: 57 | Y39: 65
A40: Fuera de la C. Valenciana | B40: 369 | C40: 365 | D40: 368 | E40: 423 | F40: 478 | G40: 511 | H40: 542 | I40: 576 | J40: 591 | K40: 666 | L40: 684 | M40: 706 | N40: 711 | O40: 710 | P40: 671 | Q40: 616 | R40: 600 | S40: 592 | T40: 580 | U40: 557 | V40: 541 | W40: 568 | X40: 599 | Y40: 579
A41: Resto de España | B41: 334 | C41: 327 | D41: 317 | E41: 323 | F41: 318 | G41: 313 | H41: 307 | I41: 302 | J41: 299 | K41: 300 | L41: 297 | M41: 292 | N41: 294 | O41: 294 | P41: 290 | Q41: 269 | R41: 273 | S41: 271 | T41: 278 | U41: 272 | V41: 273 | W41: 280 | X41: 281 | Y41: 275
A42: Extranjero | B42: 35 | C42: 38 | D42: 51 | E42: 100 | F42: 160 | G42: 198 | H42: 235 | I42: 274 | J42: 292 | K42: 366 | L42: 387 | M42: 414 | N42: 417 | O42: 416 | P42: 381 | Q42: 347 | R42: 327 | S42: 321 | T42: 302 | U42: 285 | V42: 268 | W42: 288 | X42: 318 | Y42: 304
A43: Fuente: Portal Estadístic de la Generalitat Valenciana (PEGV)
A47: 1.2. Proporción de lugar de nacimiento del total de población
A49: Ambos sexos | B49: 1999 | C49: 2000 | D49: 2001 | E49: 2002 | F49: 2003 | G49: 2004 | H49: 2005 | I49: 2006 | J49: 2007 | K49: 2008 | L49: 2009 | M49: 2010 | N49: 2011 | O49: 2012 | P49: 2013 | Q49: 2014 | R49: 2015 | S49: 2016 | T49: 2017 | U49: 2018 | V49: 2019 | W49: 2020 | X49: 2021 | Y49: 2022
A50: Total | B50: =B8/B8 -> 1 | C50: =C8/C8 -> 1 | D50: =D8/D8 -> 1 | E50: =E8/E8 -> 1 | F50: =F8/F8 -> 1 | G50: =G8/G8 -> 1 | H50: =H8/H8 -> 1 | I50: =I8/I8 -> 1 | ... Y50: =Y8/Y8 -> 1
A51: Nacidos en la C. Valenciana | B51: =B9/B8 -> 0.9198363 | C51: =C9/C8 -> 0.91797684 | D51: =D9/D8 -> 0.91409909 | E51: =E9/E8 -> 0.89479513 | F51: =F9/F8 -> 0.88140629 | G51: =G9/G8 -> 0.87255756 | H51: =H9/H8 -> 0.86192678 | I51: =I9/I8 -> 0.85048028 | ... Y51: =Y9/Y8 -> 0.83057789
...

Sheet Nacimiento (Esp-ext)
A1: L'Alt Maestrat
A2: 2. Nacidos en España o en el extranjero. Evolución 1999-2022
A5: 2.1. Nacidos en España o en el extranjero (datos absolutos)
A7: Ambos sexos | B7: 1999 | C7: 2000 | D7: 2001 | E7: 2002 | F7: 2003 | G7: 2004 | H7: 2005 | I7: 2006 | J7: 2007 | K7: 2008 | L7: 2009 | M7: 2010 | N7: 2011 | O7: 2012 | P7: 2013 | Q7: 2014 | R7: 2015 | S7: 2016 | T7: 2017 | U7: 2018 | V7: 2019 | W7: 2020 | X7: 2021 | Y7: 2022
A8: Total | B8: =B14+B21 -> 8308 | C8: =C14+C21 -> 8205 | D8: =D14+D21 -> 8114 | E8: =E14+E21 -> 8127 | F8: =F14+F21 -> 8078 | G8: =G14+G21 -> 8035 | H8: =H14+H21 -> 8003 | I8: =I14+I21 -> 7912 | ... Y8: =Y14+Y21 -> 6593
A9: Nacidos en España | B9: =B15+B22 -> 8229 | C9: =C15+C22 -> 8100 | D9: =D15+D22 -> 7972 | E9: =E15+E22 -> 7828 | F9: =F15+F22 -> 7659 | G9: =G15+G22 -> 7554 | H9: =H15+H22 -> 7439 | I9: =I15+I22 -> 7255 | ... Y9: =Y15+Y22 -> 5994
A10: Nacidos en el extranjero | B10: =B16+B23 -> 79 | C10: =C16+C23 -> 105 | D10: =D16+D23 -> 142 | E10: =E16+E23 -> 299 | F10: =F16+F23 -> 419 | G10: =G16+G23 -> 481 | H10: =H16+H23 -> 564 | I10: =I16+I23 -> 657 | ... Y10: =Y16+Y23 -> 599
A11: Fuente: Portal Estadístic de la Generalitat Valenciana (PEGV)
A13: Hombres | B13: 1999 | C13: 2000 | D13: 2001 | E13: 2002 | F13: 2003 | G13: 2004 | H13: 2005 | I13: 2006 | J13: 2007 | K13: 2008 | L13: 2009 | M13: 2010 | N13: 2011 | O13: 2012 | P13: 2013 | Q13: 2014 | R13: 2015 | S13: 2016 | T13: 2017 | U13: 2018 | V13: 2019 | W13: 2020 | X13: 2021 | Y13: 2022
A14: Total | B14: 4090 | C14: 4047 | D14: 4014 | E14: 4049 | F14: 4054 | G14: 4033 | H14: 4029 | I14: 3985 | J14: 3958 | K14: 4030 | L14: 4010 | M14: 3996 | N14: 3949 | O14: 3900 | P14: 3816 | Q14: 3655 | R14: 3605 | S14: 3543 | T14: 3440 | U14: 3412 | V14: 3377 | W14: 3350 | X14: 3367 | Y14: 3349
A15: Nacidos en España | B15: =B14-B16 -> 4046 | C15: =C14-C16 -> 3980 | D15: =D14-D16 -> 3923 | E15: =E14-E16 -> 3850 | F15: =F14-F16 -> 3795 | G15: =G14-G16 -> 3750 | H15: =H14-H16 -> 3700 | I15: =I14-I16 -> 3602 | ... Y15: =Y14-Y16 -> 3054
A16: Nacidos en el extranjero | B16: 44 | C16: 67 | D16: 91 | E16: 199 | F16: 259 | G16: 283 | H16: 329 | I16: 383 | J16: 399 | K16: 499 | L16: 501 | M16: 513 | N16: 490 | O16: 477 | P16: 461 | Q16: 379 | R16: 338 | S16: 311 | T16: 278 | U16: 266 | V16: 266 | W16: 272 | X16: 295 | Y16: 295
A17: Fuente: Portal Estadístic de la Generalitat Valenciana (PEGV)
A20: Mujeres | B20: 1999 | C20: 2000 | D20: 2001 | E20: 2002 | F20: 2003 | G20: 2004 | H20: 2005 | I20: 2006 | J20: 2007 | K20: 2008 | L20: 2009 | M20: 2010 | N20: 2011 | O20: 2012 | P20: 2013 | Q20: 2014 | R20: 2015 | S20: 2016 | T20: 2017 | U20: 2018 | V20: 2019 | W20: 2020 | X20: 2021 | Y20: 2022
A21: Total | B21: 4218 | C21: 4158 | D21: 4100 | E21: 4078 | F21: 4024 | G21: 4002 | H21: 3974 | I21: 3927 | J21: 3888 | K21: 3918 | L21: 3924 | M21: 3902 | N21: 3872 | O21: 3815 | P21: 3720 | Q21: 3605 | R21: 3523 | S21: 3494 | T21: 3432 | U21: 3333 | V21: 3280 | W21: 3272 | X21: 3301 | Y21: 3244
A22: Nacidos en España | B22: =B21-B23 -> 4183 | C22: =C21-C23 -> 4120 | D22: =D21-D23 -> 4049 | E22: =E21-E23 -> 3978 | F22: =F21-F23 -> 3864 | G22: =G21-G23 -> 3804 | H22: =H21-H23 -> 3739 | I22: =I21-I23 -> 3653 | ... Y22: =Y21-Y23 -> 2940
A23: Nacidos en el extranjero | B23: 35 | C23: 38 | D23: 51 | E23: 100 | F23: 160 | G23: 198 | H23: 235 | I23: 274 | J23: 292 | K23: 366 | L23: 387 | M23: 414 | N23: 417 | O23: 416 | P23: 381 | Q23: 347 | R23: 327 | S23: 321 | T23: 302 | U23: 285 | V23: 268 | W23: 288 | X23: 318 | Y23: 304
A24: Fuente: Portal Estadístic de la Generalitat Valenciana (PEGV)
A28: 2.2. Proporción de nacidos en España o en el extranjero
A30: Ambos sexos | B30: 1999 | C30: 2000 | D30: 2001 | E30: 2002 | F30: 2003 | G30: 2004 | H30: 2005 | I30: 2006 | J30: 2007 | K30: 2008 | L30: 2009 | M30: 2010 | N30: 2011 | O30: 2012 | P30: 2013 | Q30: 2014 | R30: 2015 | S30: 2016 | T30: 2017 | U30: 2018 | V30: 2019 | W30: 2020 | X30: 2021 | Y30: 2022
A31: Nacidos en España | B31: =B9/B8 -> 0.99049109 | C31: =C9/C8 -> 0.98720293 | D31: =D9/D8 -> 0.98249938 | E31: =E9/E8 -> 0.96320906 | F31: =F9/F8 -> 0.94813073 | G31: =G9/G8 -> 0.9401369 | H31: =H9/H8 -> 0.92952643 | I31: =I9/I8 -> 0.91696158 | ... Y31: =Y9/Y8 -> 0.90914606
A32: Nacidos en el extranjero | B32: =B10/B8 -> 0.0095089071 | C32: =C10/C8 -> 0.012797075 | D32: =D10/D8 -> 0.017500616 | E32: =E10/E8 -> 0.036790944 | F32: =F10/F8 -> 0.051869275 | G32: =G10/G8 -> 0.059863099 | H32: =H10/H8 -> 0.070473572 | I32: =I10/I8 -> 0.083038423 | ... Y32: =Y10/Y8 -> 0.090853936
A33: Total | B33: =B31+B32 -> 1 | C33: =C31+C32 -> 1 | D33: =D31+D32 -> 1 | E33: =E31+E32 -> 1 | F33: =F31+F32 -> 1 | G33: =G31+G32 -> 1 | H33: =H31+H32 -> 1 | I33: =I31+I32 -> 1 | ... Y33: =Y31+Y32 -> 1
A34: Fuente: Elaboración Social·Lab a partir de los datos del Portal Estadístic de la Generalitat Valenciana (PEGV)
A37: Hombres | B37: 1999 | C37: 2000 | D37: 2001 | E37: 2002 | F37: 2003 | G37: 2004 | H37: 2005 | I37: 2006 | J37: 2007 | K37: 2008 | L37: 2009 | M37: 2010 | N37: 2011 | O37: 2012 | P37: 2013 | Q37: 2014 | R37: 2015 | S37: 2016 | T37: 2017 | U37: 2018 | V37: 2019 | W37: 2020 | X37: 2021 | Y37: 2022
A38: Nacidos en España | B38: =B15/B14 -> 0.98924205 | C38: =C15/C14 -> 0.98344453 | D38: =D15/D14 -> 0.97732935 | E38: =E15/E14 -> 0.95085206 | F38: =F15/F14 -> 0.93611248 | G38: =G15/G14 -> 0.92982891 | H38: =H15/H14 -> 0.91834202 | I38: =I15/I14 -> 0.90388959 | ... Y38: =Y15/Y14 -> 0.911914
A39: Nacidos en el extranjero | B39: =B16/B14 -> 0.010757946 | C39: =C16/C14 -> 0.016555473 | D39: =D16/D14 -> 0.022670653 | E39: =E16/E14 -> 0.049147938 | F39: =F16/F14 -> 0.063887519 | G39: =G16/G14 -> 0.070171089 | H39: =H16/H14 -> 0.08165798 | I39: =I16/I14 -> 0.096110414 | ... Y39: =Y16/Y14 -> 0.088085996
A40: Total | B40: =B38+B39 -> 1 | C40: =C38+C39 -> 1 | D40: =D38+D39 -> 1 | E40: =E38+E39 -> 1 | F40: =F38+F39 -> 1 | G40: =G38+G39 -> 1 | H40: =H38+H39 -> 1 | I40: =I38+I39 -> 1 | ... Y40: =Y38+Y39 -> 1
A41: Fuente: Elaboración Social·Lab a partir de los datos del Portal Estadístic de la Generalitat Valenciana (PEGV)
A44: Mujeres | B44: 1999 | C44: 2000 | D44: 2001 | E44: 2002 | F44: 2003 | G44: 2004 | H44: 2005 | I44: 2006 | J44: 2007 | K44: 2008 | L44: 2009 | M44: 2010 | N44: 2011 | O44: 2012 | P44: 2013 | Q44: 2014 | R44: 2015 | S44: 2016 | T44: 2017 | U44: 2018 | V44: 2019 | W44: 2020 | X44: 2021 | Y44: 2022
A45: Nacidos en España | B45: =B22/B21 -> 0.99170223 | C45: =C22/C21 -> 0.99086099 | D45: =D22/D21 -> 0.98756098 | E45: =E22/E21 -> 0.97547818 | F45: =F22/F21 -> 0.96023857 | G45: =G22/G21 -> 0.95052474 | H45: =H22/H21 -> 0.94086563 | I45: =I22/I21 -> 0.93022664 | ... Y45: =Y22/Y21 -> 0.90628853
A46: Nacidos en el extranjero | B46: =B23/B21 -> 0.0082977715 | C46: =C23/C21 -> 0.0091390091 | D46: =D23/D21 -> 0.012439024 | E46: =E23/E21 -> 0.024521824 | F46: =F23/F21 -> 0.039761431 | G46: =G23/G21 -> 0.049475262 | H46: =H23/H21 -> 0.059134373 | I46: =I23/I21 -> 0.069773364 | ... Y46: =Y23/Y21 -> 0.093711467
A47: Total | B47: =B45+B46 -> 1 | C47: =C45+C46 -> 1 | D47: =D45+D46 -> 1 | E47: =E45+E46 -> 1 | F47: =F45+F46 -> 1 | G47: =G45+G46 -> 1 | H47: =H45+H46 -> 1 | I47: =I45+I46 -> 1 | ... Y47: =Y45+Y46 -> 1
A48: Fuente: Elaboración Social·Lab a partir de los datos del Portal Estadístic de la Generalitat Valenciana (PEGV)
A52: 2.3. Comparación hombres y mujeres nacidos en España o en el extranjero (porcentaje)
B54: 1999 | C54: 2000 | D54: 2001 | E54: 2002 | F54: 2003 | G54: 2004 | H54: 2005 | I54: 2006 | J54: 2007 | K54: 2008 | L54: 2009 | M54: 2010 | N54: 2011 | O54: 2012 | P54: 2013 | Q54: 2014 | R54: 2015 | S54: 2016 | T54: 2017 | U54: 2018 | V54: 2019 | W54: 2020 | X54: 2021 | Y54: 2022
A55: Total | B55: =B10 -> 79 | C55: =C10 -> 105 | D55: =D10 -> 142 | E55: =E10 -> 299 | F55: =F10 -> 419 | G55: =G10 -> 481 | H55: =H10 -> 564 | I55: =I10 -> 657 | ... Y55: =Y10 -> 599
A56: Hombres nacidos en el extranjero | B56: =B16 -> 44 | C56: =C16 -> 67 | D56: =D16 -> 91 | E56: =E16 -> 199 | F56: =F16 -> 259 | G56: =G16 -> 283 | H56: =H16 -> 329 | I56: =I16 -> 383 | ... Y56: =Y16 -> 295
A57: Mujeres nacidas en el extranjero | B57: =B23 -> 35 | C57: =C23 -> 38 | D57: =D23 -> 51 | E57: =E23 -> 100 | F57: =F23 -> 160 | G57: =G23 -> 198 | H57: =H23 -> 235 | I57: =I23 -> 274 | ... Y57: =Y23 -> 304
A58: Fuente: Elaboración Social·Lab a partir de los datos del Portal Estadístic de la Generalitat Valenciana (PEGV)
...

Sheet Nacionalidad (esp-extr)
A1: L'Alt Maestrat
A2: 3. Nacionalidad española o extranjera. Evolución 2000-2022
A5: 3.1. Nacionalidad española o extranjera (datos absolutos)
A7: Ambos sexos | B7: 2000 | C7: 2001 | D7: 2002 | E7: 2003 | F7: 2004 | G7: 2005 | H7: 2006 | I7: 2007 | J7: 2008 | K7: 2009 | L7: 2010 | M7: 2011 | N7: 2012 | O7: 2013 | P7: 2014 | Q7: 2015 | R7: 2016 | S7: 2017 | T7: 2018 | U7: 2019 | V7: 2020 | W7: 2021 | X7: 2022
A8: Total | B8: =B9+B10 -> 8205 | C8: =C9+C10 -> 8114 | D8: =D9+D10 -> 8127 | E8: =E9+E10 -> 8078 | F8: =F9+F10 -> 8035 | G8: =G9+G10 -> 8003 | H8: =H9+H10 -> 7912 | I8: =I9+I10 -> 7846 | ... X8: =X9+X10 -> 6593
A9: Nacionalidad española | B9: 8138 | C9: 8007 | D9: 7860 | E9: 7699 | F9: 7595 | G9: 7473 | H9: 7276 | I9: 7163 | J9: 7085 | K9: 7040 | L9: 6959 | M9: 6891 | N9: 6792 | O9: 6662 | P9: 6499 | Q9: 6424 | R9: 6364 | S9: 6254 | T9: 6146 | U9: 6063 | V9: 6007 | W9: 6026 | X9: 5967
A10: Nacionalidad extranjera | B10: 67 | C10: 107 | D10: 267 | E10: 379 | F10: 440 | G10: 530 | H10: 636 | I10: 683 | J10: 863 | K10: 894 | L10: 939 | M10: 930 | N10: 923 | O10: 874 | P10: 761 | Q10: 704 | R10: 673 | S10: 618 | T10: 599 | U10: 594 | V10: 615 | W10: 642 | X10: 626
A11: Fuente: Portal Estadístic de la Generalitat Valenciana (PEGV)
A14: Hombres | B14: 2000 | C14: 2001 | D14: 2002 | E14: 2003 | F14: 2004 | G14: 2005 | H14: 2006 | I14: 2007 | J14: 2008 | K14: 2009 | L14: 2010 | M14: 2011 | N14: 2012 | O14: 2013 | P14: 2014 | Q14: 2015 | R14: 2016 | S14: 2017 | T14: 2018 | U14: 2019 | V14: 2020 | W14: 2021 | X14: 2022
A15: Total | B15: =B16+B17 -> 4047 | C15: =C16+C17 -> 4014 | D15: =D16+D17 -> 4049 | E15: =E16+E17 -> 4054 | F15: =F16+F17 -> 4033 | G15: =G16+G17 -> 4029 | H15: =H16+H17 -> 3985 | I15: =I16+I17 -> 3958 | ... X15: =X16+X17 -> 3349
A16: Nacionalidad española | B16: 3997 | C16: 3938 | D16: 3867 | E16: 3816 | F16: 3774 | G16: 3717 | H16: 3609 | I16: 3560 | J16: 3526 | K16: 3497 | L16: 3473 | M16: 3440 | N16: 3395 | O16: 3324 | P16: 3245 | Q16: 3236 | R16: 3200 | S16: 3135 | T16: 3114 | U16: 3072 | V16: 3042 | W16: 3045 | X16: 3028
A17: Nacionalidad extranjera | B17: 50 | C17: 76 | D17: 182 | E17: 238 | F17: 259 | G17: 312 | H17: 376 | I17: 398 | J17: 504 | K17: 513 | L17: 523 | M17: 509 | N17: 505 | O17: 492 | P17: 410 | Q17: 369 | R17: 343 | S17: 305 | T17: 298 | U17: 305 | V17: 308 | W17: 322 | X17: 321
A18: Fuente: Portal Estadístic de la Generalitat Valenciana (PEGV)
A21: Mujeres | B21: 2000 | C21: 2001 | D21: 2002 | E21: 2003 | F21: 2004 | G21: 2005 | H21: 2006 | I21: 2007 | J21: 2008 | K21: 2009 | L21: 2010 | M21: 2011 | N21: 2012 | O21: 2013 | P21: 2014 | Q21: 2015 | R21: 2016 | S21: 2017 | T21: 2018 | U21: 2019 | V21: 2020 | W21: 2021 | X21: 2022
A22: Total | B22: =B23+B24 -> 4158 | C22: =C23+C24 -> 4100 | D22: =D23+D24 -> 4078 | E22: =E23+E24 -> 4024 | F22: =F23+F24 -> 4002 | G22: =G23+G24 -> 3974 | H22: =H23+H24 -> 3927 | I22: =I23+I24 -> 3888 | ... X22: =X23+X24 -> 3244
A23: Nacionalidad española | B23: 4141 | C23: 4069 | D23: 3993 | E23: 3883 | F23: 3821 | G23: 3756 | H23: 3667 | I23: 3603 | J23: 3559 | K23: 3543 | L23: 3486 | M23: 3451 | N23: 3397 | O23: 3338 | P23: 3254 | Q23: 3188 | R23: 3164 | S23: 3119 | T23: 3032 | U23: 2991 | V23: 2965 | W23: 2981 | X23: 2939
A24: Nacionalidad extranjera | B24: 17 | C24: 31 | D24: 85 | E24: 141 | F24: 181 | G24: 218 | H24: 260 | I24: 285 | J24: 359 | K24: 381 | L24: 416 | M24: 421 | N24: 418 | O24: 382 | P24: 351 | Q24: 335 | R24: 330 | S24: 313 | T24: 301 | U24: 289 | V24: 307 | W24: 320 | X24: 305
A25: Fuente: Portal Estadístic de la Generalitat Valenciana (PEGV)
A29: 3.2. Proporción de nacionalidad española o extranjera
A31: Ambos sexos | B31: 2000 | C31: 2001 | D31: 2002 | E31: 2003 | F31: 2004 | G31: 2005 | H31: 2006 | I31: 2007 | J31: 2008 | K31: 2009 | L31: 2010 | M31: 2011 | N31: 2012 | O31: 2013 | P31: 2014 | Q31: 2015 | R31: 2016 | S31: 2017 | T31: 2018 | U31: 2019 | V31: 2020 | W31: 2021 | X31: 2022
A32: Nacionalidad española | B32: =B9/B8 -> 0.99183425 | C32: =C9/C8 -> 0.98681292 | D32: =D9/D8 -> 0.96714655 | E32: =E9/E8 -> 0.95308245 | F32: =F9/F8 -> 0.94523958 | G32: =G9/G8 -> 0.93377483 | H32: =H9/H8 -> 0.91961577 | I32: =I9/I8 -> 0.91294927 | ... X32: =X9/X8 -> 0.90505081
A33: Nacionalidad extranjera | B33: =B10/B8 -> 0.0081657526 | C33: =C10/C8 -> 0.013187084 | D33: =D10/D8 -> 0.032853451 | E33: =E10/E8 -> 0.046917554 | F33: =F10/F8 -> 0.054760423 | G33: =G10/G8 -> 0.066225166 | H33: =H10/H8 -> 0.080384226 | I33: =I10/I8 -> 0.087050726 | ... X33: =X10/X8 -> 0.094949189
A34: Total | B34: =SUM(B32:B33) -> 1 | C34: =SUM(C32:C33) -> 1 | D34: =SUM(D32:D33) -> 1 | E34: =SUM(E32:E33) -> 1 | F34: =SUM(F32:F33) -> 1 | G34: =SUM(G32:G33) -> 1 | H34: =SUM(H32:H33) -> 1 | I34: =SUM(I32:I33) -> 1 | ... X34: =SUM(X32:X33) -> 1
A35: Fuente: Elaboración Social·Lab a partir de los datos del Portal Estadístic de la Generalitat Valenciana (PEGV)
A38: Hombres | B38: 2000 | C38: 2001 | D38: 2002 | E38: 2003 | F38: 2004 | G38: 2005 | H38: 2006 | I38: 2007 | J38: 2008 | K38: 2009 | L38: 2010 | M38: 2011 | N38: 2012 | O38: 2013 | P38: 2014 | Q38: 2015 | R38: 2016 | S38: 2017 | T38: 2018 | U38: 2019 | V38: 2020 | W38: 2021 | X38: 2022
A39: Nacionalidad española | B39: =B16/B15 -> 0.98764517 | C39: =C16/C15 -> 0.98106627 | D39: =D16/D15 -> 0.95505063 | E39: =E16/E15 -> 0.94129255 | F39: =F16/F15 -> 0.93577982 | G39: =G16/G15 -> 0.92256143 | H39: =H16/H15 -> 0.90564617 | I39: =I16/I15 -> 0.89944416 | ... X39: =X16/X15 -> 0.90415049
A40: Nacionalidad extranjera | B40: =B17/B15 -> 0.012354831 | C40: =C17/C15 -> 0.018933732 | D40: =D17/D15 -> 0.04494937 | E40: =E17/E15 -> 0.058707449 | F40: =F17/F15 -> 0.064220183 | G40: =G17/G15 -> 0.07743857 | H40: =H17/H15 -> 0.094353827 | I40: =I17/I15 -> 0.10055584 | ... X40: =X17/X15 -> 0.095849507
A41: Total | B41: =SUM(B39:B40) -> 1 | C41: =SUM(C39:C40) -> 1 | D41: =SUM(D39:D40) -> 1 | E41: =SUM(E39:E40) -> 1 | F41: =SUM(F39:F40) -> 1 | G41: =SUM(G39:G40) -> 1 | H41: =SUM(H39:H40) -> 1 | I41: =SUM(I39:I40) -> 1 | ... X41: =SUM(X39:X40) -> 1
A42: Fuente: Elaboración Social·Lab a partir de los datos del Portal Estadístic de la Generalitat Valenciana (PEGV)
A45: Mujeres | B45: 2000 | C45: 2001 | D45: 2002 | E45: 2003 | F45: 2004 | G45: 2005 | H45: 2006 | I45: 2007 | J45: 2008 | K45: 2009 | L45: 2010 | M45: 2011 | N45: 2012 | O45: 2013 | P45: 2014 | Q45: 2015 | R45: 2016 | S45: 2017 | T45: 2018 | U45: 2019 | V45: 2020 | W45: 2021 | X45: 2022
A46: Nacionalidad española | B46: =B23/B22 -> 0.9959115 | C46: =C23/C22 -> 0.99243902 | D46: =D23/D22 -> 0.97915645 | E46: =E23/E22 -> 0.96496024 | F46: =F23/F22 -> 0.95477261 | G46: =G23/G22 -> 0.94514343 | H46: =H23/H22 -> 0.9337917 | I46: =I23/I22 -> 0.92669753 | ... X46: =X23/X22 -> 0.90598027
A47: Nacionalidad extranjera | B47: =B24/B22 -> 0.0040885041 | C47: =C24/C22 -> 0.0075609756 | D47: =D24/D22 -> 0.020843551 | E47: =E24/E22 -> 0.035039761 | F47: =F24/F22 -> 0.045227386 | G47: =G24/G22 -> 0.054856568 | H47: =H24/H22 -> 0.066208302 | I47: =I24/I22 -> 0.073302469 | ... X47: =X24/X22 -> 0.094019729
A48: Total | B48: =SUM(B46:B47) -> 1 | C48: =SUM(C46:C47) -> 1 | D48: =SUM(D46:D47) -> 1 | E48: =SUM(E46:E47) -> 1 | F48: =SUM(F46:F47) -> 1 | G48: =SUM(G46:G47) -> 1 | H48: =SUM(H46:H47) -> 1 | I48: =SUM(I46:I47) -> 1 | ... X48: =SUM(X46:X47) -> 1
A49: Fuente: Elaboración Social·Lab a partir de los datos del Portal Estadístic de la Generalitat Valenciana (PEGV)
A53: 3.3. Comparación hombres y mujeres según nacionalidad española o extranjera
B55: 2000 | C55: 2001 | D55: 2002 | E55: 2003 | F55: 2004 | G55: 2005 | H55: 2006 | I55: 2007 | J55: 2008 | K55: 2009 | L55: 2010 | M55: 2011 | N55: 2012 | O55: 2013 | P55: 2014 | Q55: 2015 | R55: 2016 | S55: 2017 | T55: 2018 | U55: 2019 | V55: 2020 | W55: 2021 | X55: 2022
A56: Total | B56: =B10 -> 67 | C56: =C10 -> 107 | D56: =D10 -> 267 | E56: =E10 -> 379 | F56: =F10 -> 440 | G56: =G10 -> 530 | H56: =H10 -> 636 | I56: =I10 -> 683 | ... X56: =X10 -> 626
A57: Hombres nacionalidad extranjera | B57: =B17 -> 50 | C57: =C17 -> 76 | D57: =D17 -> 182 | E57: =E17 -> 238 | F57: =F17 -> 259 | G57: =G17 -> 312 | H57: =H17 -> 376 | I57: =I17 -> 398 | ... X57: =X17 -> 321
A58: Mujeres nacionalidad extranjera | B58: =B24 -> 17 | C58: =C24 -> 31 | D58: =D24 -> 85 | E58: =E24 -> 141 | F58: =F24 -> 181 | G58: =G24 -> 218 | H58: =H24 -> 260 | I58: =I24 -> 285 | ... X58: =X24 -> 305
A59: Fuente: Elaboración Social·Lab a partir de los datos del Portal Estadístic de la Generalitat Valenciana (PEGV)
...

Sheet Variación interanual
A1: L'Alt Maestrat
A2: 4. Variación interanual de los españoles y extranjeros. Evolución 2001-2022
A5: 4.1. Variación interanual de los españoles y extranjeros (datos absolutos)
A7: Ambos sexos | B7: 2001 | C7: 2002 | D7: 2003 | E7: 2004 | F7: 2005 | G7: 2006 | H7: 2007 | I7: 2008 | J7: 2009 | K7: 2010 | L7: 2011 | M7: 2012 | N7: 2013 | O7: 2014 | P7: 2015 | Q7: 2016 | R7: 2017 | S7: 2018 | T7: 2019 | U7: 2020 | V7: 2021 | W7: 2022
A8: Variación Interanual TOTAL | B8: ='Nacionalidad (esp-extr)'!C8-'Nacionalidad (esp-extr)'!B8 -> -91 | C8: ='Nacionalidad (esp-extr)'!D8-'Nacionalidad (esp-extr)'!C8 -> 13 | D8: ='Nacionalidad (esp-extr)'!E8-'Nacionalidad (esp-extr)'!D8 -> -49 | E8: ='Nacionalidad (esp-extr)'!F8-'Nacionalidad (esp-extr)'!E8 -> -43 | F8: ='Nacionalidad (esp-extr)'!G8-'Nacionalidad (esp-extr)'!F8 -> -32 | G8: ='Nacionalidad (esp-extr)'!H8-'Nacionalidad (esp-extr)'!G8 -> -91 | H8: ='Nacionalidad (esp-extr)'!I8-'Nacionalidad (esp-extr)'!H8 -> -66 | I8: ='Nacionalidad (esp-extr)'!J8-'Nacionalidad (esp-extr)'!I8 -> 102 | ... W8: ='Nacionalidad (esp-extr)'!X8-'Nacionalidad (esp-extr)'!W8 -> -75
A9: Variación interanual españoles | B9: ='Nacionalidad (esp-extr)'!C9-'Nacionalidad (esp-extr)'!B9 -> -131 | C9: ='Nacionalidad (esp-extr)'!D9-'Nacionalidad (esp-extr)'!C9 -> -147 | D9: ='Nacionalidad (esp-extr)'!E9-'Nacionalidad (esp-extr)'!D9 -> -161 | E9: ='Nacionalidad (esp-extr)'!F9-'Nacionalidad (esp-extr)'!E9 -> -104 | F9: ='Nacionalidad (esp-extr)'!G9-'Nacionalidad (esp-extr)'!F9 -> -122 | G9: ='Nacionalidad (esp-extr)'!H9-'Nacionalidad (esp-extr)'!G9 -> -197 | H9: ='Nacionalidad (esp-extr)'!I9-'Nacionalidad (esp-extr)'!H9 -> -113 | I9: ='Nacionalidad (esp-extr)'!J9-'Nacionalidad (esp-extr)'!I9 -> -78 | ... W9: ='Nacionalidad (esp-extr)'!X9-'Nacionalidad (esp-extr)'!W9 -> -59
A10: Variación interanual extranjeros | B10: ='Nacionalidad (esp-extr)'!C10-'Nacionalidad (esp-extr)'!B10 -> 40 | C10: ='Nacionalidad (esp-extr)'!D10-'Nacionalidad (esp-extr)'!C10 -> 160 | D10: ='Nacionalidad (esp-extr)'!E10-'Nacionalidad (esp-extr)'!D10 -> 112 | E10: ='Nacionalidad (esp-extr)'!F10-'Nacionalidad (esp-extr)'!E10 -> 61 | F10: ='Nacionalidad (esp-extr)'!G10-'Nacionalidad (esp-extr)'!F10 -> 90 | G10: ='Nacionalidad (esp-extr)'!H10-'Nacionalidad (esp-extr)'!G10 -> 106 | H10: ='Nacionalidad (esp-extr)'!I10-'Nacionalidad (esp-extr)'!H10 -> 47 | I10: ='Nacionalidad (esp-extr)'!J10-'Nacionalidad (esp-extr)'!I10 -> 180 | ... W10: ='Nacionalidad (esp-extr)'!X10-'Nacionalidad (esp-extr)'!W10 -> -16
A11: Fuente: Portal Estadístic de la Generalitat Valenciana (PEGV)
A14: Hombres | B14: 2001 | C14: 2002 | D14: 2003 | E14: 2004 | F14: 2005 | G14: 2006 | H14: 2007 | I14: 2008 | J14: 2009 | K14: 2010 | L14: 2011 | M14: 2012 | N14: 2013 | O14: 2014 | P14: 2015 | Q14: 2016 | R14: 2017 | S14: 2018 | T14: 2019 | U14: 2020 | V14: 2021 | W14: 2022
A15: Variación Interanual TOTAL | B15: ='Nacionalidad (esp-extr)'!C15-'Nacionalidad (esp-extr)'!B15 -> -33 | C15: ='Nacionalidad (esp-extr)'!D15-'Nacionalidad (esp-extr)'!C15 -> 35 | D15: ='Nacionalidad (esp-extr)'!E15-'Nacionalidad (esp-extr)'!D15 -> 5 | E15: ='Nacionalidad (esp-extr)'!F15-'Nacionalidad (esp-extr)'!E15 -> -21 | F15: ='Nacionalidad (esp-extr)'!G15-'Nacionalidad (esp-extr)'!F15 -> -4 | G15: ='Nacionalidad (esp-extr)'!H15-'Nacionalidad (esp-extr)'!G15 -> -44 | H15: ='Nacionalidad (esp-extr)'!I15-'Nacionalidad (esp-extr)'!H15 -> -27 | I15: ='Nacionalidad (esp-extr)'!J15-'Nacionalidad (esp-extr)'!I15 -> 72 | ... W15: ='Nacionalidad (esp-extr)'!X15-'Nacionalidad (esp-extr)'!W15 -> -18
A16: Variación interanual españoles | B16: ='Nacionalidad (esp-extr)'!C16-'Nacionalidad (esp-extr)'!B16 -> -59 | C16: ='Nacionalidad (esp-extr)'!D16-'Nacionalidad (esp-extr)'!C16 -> -71 | D16: ='Nacionalidad (esp-extr)'!E16-'Nacionalidad (esp-extr)'!D16 -> -51 | E16: ='Nacionalidad (esp-extr)'!F16-'Nacionalidad (esp-extr)'!E16 -> -42 | F16: ='Nacionalidad (esp-extr)'!G16-'Nacionalidad (esp-extr)'!F16 -> -57 | G16: ='Nacionalidad (esp-extr)'!H16-'Nacionalidad (esp-extr)'!G16 -> -108 | H16: ='Nacionalidad (esp-extr)'!I16-'Nacionalidad (esp-extr)'!H16 -> -49 | I16: ='Nacionalidad (esp-extr)'!J16-'Nacionalidad (esp-extr)'!I16 -> -34 | ... W16: ='Nacionalidad (esp-extr)'!X16-'Nacionalidad (esp-extr)'!W16 -> -17
A17: Variación interanual extranjeros | B17: ='Nacionalidad (esp-extr)'!C17-'Nacionalidad (esp-extr)'!B17 -> 26 | C17: ='Nacionalidad (esp-extr)'!D17-'Nacionalidad (esp-extr)'!C17 -> 106 | D17: ='Nacionalidad (esp-extr)'!E17-'Nacionalidad (esp-extr)'!D17 -> 56 | E17: ='Nacionalidad (esp-extr)'!F17-'Nacionalidad (esp-extr)'!E17 -> 21 | F17: ='Nacionalidad (esp-extr)'!G17-'Nacionalidad (esp-extr)'!F17 -> 53 | G17: ='Nacionalidad (esp-extr)'!H17-'Nacionalidad (esp-extr)'!G17 -> 64 | H17: ='Nacionalidad (esp-extr)'!I17-'Nacionalidad (esp-extr)'!H17 -> 22 | I17: ='Nacionalidad (esp-extr)'!J17-'Nacionalidad (esp-extr)'!I17 -> 106 | ... W17: ='Nacionalidad (esp-extr)'!X17-'Nacionalidad (esp-extr)'!W17 -> -1
A18: Fuente: Portal Estadístic de la Generalitat Valenciana (PEGV)
A21: Mujeres | B21: 2001 | C21: 2002 | D21: 2003 | E21: 2004 | F21: 2005 | G21: 2006 | H21: 2007 | I21: 2008 | J21: 2009 | K21: 2010 | L21: 2011 | M21: 2012 | N21: 2013 | O21: 2014 | P21: 2015 | Q21: 2016 | R21: 2017 | S21: 2018 | T21: 2019 | U21: 2020 | V21: 2021 | W21: 2022
A22: Variación Interanual TOTAL | B22: ='Nacionalidad (esp-extr)'!C22-'Nacionalidad (esp-extr)'!B22 -> -58 | C22: ='Nacionalidad (esp-extr)'!D22-'Nacionalidad (esp-extr)'!C22 -> -22 | D22: ='Nacionalidad (esp-extr)'!E22-'Nacionalidad (esp-extr)'!D22 -> -54 | E22: ='Nacionalidad (esp-extr)'!F22-'Nacionalidad (esp-extr)'!E22 -> -22 | F22: ='Nacionalidad (esp-extr)'!G22-'Nacionalidad (esp-extr)'!F22 -> -28 | G22: ='Nacionalidad (esp-extr)'!H22-'Nacionalidad (esp-extr)'!G22 -> -47 | H22: ='Nacionalidad (esp-extr)'!I22-'Nacionalidad (esp-extr)'!H22 -> -39 | I22: ='Nacionalidad (esp-extr)'!J22-'Nacionalidad (esp-extr)'!I22 -> 30 | ... W22: ='Nacionalidad (esp-extr)'!X22-'Nacionalidad (esp-extr)'!W22 -> -57
A23: Variación interanual españoles | B23: ='Nacionalidad (esp-extr)'!C23-'Nacionalidad (esp-extr)'!B23 -> -72 | C23: ='Nacionalidad (esp-extr)'!D23-'Nacionalidad (esp-extr)'!C23 -> -76 | D23: ='Nacionalidad (esp-extr)'!E23-'Nacionalidad (esp-extr)'!D23 -> -110 | E23: ='Nacionalidad (esp-extr)'!F23-'Nacionalidad (esp-extr)'!E23 -> -62 | F23: ='Nacionalidad (esp-extr)'!G23-'Nacionalidad (esp-extr)'!F23 -> -65 | G23: ='Nacionalidad (esp-extr)'!H23-'Nacionalidad (esp-extr)'!G23 -> -89 | H23: ='Nacionalidad (esp-extr)'!I23-'Nacionalidad (esp-extr)'!H23 -> -64 | I23: ='Nacionalidad (esp-extr)'!J23-'Nacionalidad (esp-extr)'!I23 -> -44 | ... W23: ='Nacionalidad (esp-extr)'!X23-'Nacionalidad (esp-extr)'!W23 -> -42
A24: Variación interanual extranjeros | B24: ='Nacionalidad (esp-extr)'!C24-'Nacionalidad (esp-extr)'!B24 -> 14 | C24: ='Nacionalidad (esp-extr)'!D24-'Nacionalidad (esp-extr)'!C24 -> 54 | D24: ='Nacionalidad (esp-extr)'!E24-'Nacionalidad (esp-extr)'!D24 -> 56 | E24: ='Nacionalidad (esp-extr)'!F24-'Nacionalidad (esp-extr)'!E24 -> 40 | F24: ='Nacionalidad (esp-extr)'!G24-'Nacionalidad (esp-extr)'!F24 -> 37 | G24: ='Nacionalidad (esp-extr)'!H24-'Nacionalidad (esp-extr)'!G24 -> 42 | H24: ='Nacionalidad (esp-extr)'!I24-'Nacionalidad (esp-extr)'!H24 -> 25 | I24: ='Nacionalidad (esp-extr)'!J24-'Nacionalidad (esp-extr)'!I24 -> 74 | ... W24: ='Nacionalidad (esp-extr)'!X24-'Nacionalidad (esp-extr)'!W24 -> -15
A25: Fuente: Portal Estadístic de la Generalitat Valenciana (PEGV)
A29: 4.2. Proporción de variación interanual de los españoles y extranjeros
A31: Ambos sexos | B31: 2001 | C31: 2002 | D31: 2003 | E31: 2004 | F31: 2005 | G31: 2006 | H31: 2007 | I31: 2008 | J31: 2009 | K31: 2010 | L31: 2011 | M31: 2012 | N31: 2013 | O31: 2014 | P31: 2015 | Q31: 2016 | R31: 2017 | S31: 2018 | T31: 2019 | U31: 2020 | V31: 2021 | W31: 2022
A32: Variación Interanual TOTAL | B32: =('Nacionalidad (esp-extr)'!C8-'Nacionalidad (esp-extr)'!B8)/'Nacionalidad (esp-extr)'!B8 -> -0.011090798 | C32: =('Nacionalidad (esp-extr)'!D8-'Nacionalidad (esp-extr)'!C8)/'Nacionalidad (esp-extr)'!C8 -> 0.0016021691 | D32: =('Nacionalidad (esp-extr)'!E8-'Nacionalidad (esp-extr)'!D8)/'Nacionalidad (esp-extr)'!D8 -> -0.0060292851 | E32: =('Nacionalidad (esp-extr)'!F8-'Nacionalidad (esp-extr)'!E8)/'Nacionalidad (esp-extr)'!E8 -> -0.0053230998 | F32: =('Nacionalidad (esp-extr)'!G8-'Nacionalidad (esp-extr)'!F8)/'Nacionalidad (esp-extr)'!F8 -> -0.0039825762 | G32: =('Nacionalidad (esp-extr)'!H8-'Nacionalidad (esp-extr)'!G8)/'Nacionalidad (esp-extr)'!G8 -> -0.011370736 | H32: =('Nacionalidad (esp-extr)'!I8-'Nacionalidad (esp-extr)'!H8)/'Nacionalidad (esp-extr)'!H8 -> -0.0083417594 | I32: =('Nacionalidad (esp-extr)'!J8-'Nacionalidad (esp-extr)'!I8)/'Nacionalidad (esp-extr)'!I8 -> 0.013000255 | ... W32: =('Nacionalidad (esp-extr)'!X8-'Nacionalidad (esp-extr)'!W8)/'Nacionalidad (esp-extr)'!W8 -> -0.01124775
A33: Variación interanual españoles | B33: =('Nacionalidad (esp-extr)'!C9-'Nacionalidad (esp-extr)'!B9)/'Nacionalidad (esp-extr)'!B9 -> -0.016097321 | C33: =('Nacionalidad (esp-extr)'!D9-'Nacionalidad (esp-extr)'!C9)/'Nacionalidad (esp-extr)'!C9 -> -0.018358936 | D33: =('Nacionalidad (esp-extr)'!E9-'Nacionalidad (esp-extr)'!D9)/'Nacionalidad (esp-extr)'!D9 -> -0.020483461 | E33: =('Nacionalidad (esp-extr)'!F9-'Nacionalidad (esp-extr)'!E9)/'Nacionalidad (esp-extr)'!E9 -> -0.013508248 | F33: =('Nacionalidad (esp-extr)'!G9-'Nacionalidad (esp-extr)'!F9)/'Nacionalidad (esp-extr)'!F9 -> -0.016063199 | G33: =('Nacionalidad (esp-extr)'!H9-'Nacionalidad (esp-extr)'!G9)/'Nacionalidad (esp-extr)'!G9 -> -0.026361568 | H33: =('Nacionalidad (esp-extr)'!I9-'Nacionalidad (esp-extr)'!H9)/'Nacionalidad (esp-extr)'!H9 -> -0.015530511 | I33: =('Nacionalidad (esp-extr)'!J9-'Nacionalidad (esp-extr)'!I9)/'Nacionalidad (esp-extr)'!I9 -> -0.010889292 | ... W33: =('Nacionalidad (esp-extr)'!X9-'Nacionalidad (esp-extr)'!W9)/'Nacionalidad (esp-extr)'!W9 -> -0.0097909061
A34: Variación interanual extranjeros | B34: =('Nacionalidad (esp-extr)'!C10-'Nacionalidad (esp-extr)'!B10)/'Nacionalidad (esp-extr)'!B10 -> 0.59701493 | C34: =('Nacionalidad (esp-extr)'!D10-'Nacionalidad (esp-extr)'!C10)/'Nacionalidad (esp-extr)'!C10 -> 1.4953271 | D34: =('Nacionalidad (esp-extr)'!E10-'Nacionalidad (esp-extr)'!D10)/'Nacionalidad (esp-extr)'!D10 -> 0.41947566 | E34: =('Nacionalidad (esp-extr)'!F10-'Nacionalidad (esp-extr)'!E10)/'Nacionalidad (esp-extr)'!E10 -> 0.16094987 | F34: =('Nacionalidad (esp-extr)'!G10-'Nacionalidad (esp-extr)'!F10)/'Nacionalidad (esp-extr)'!F10 -> 0.20454545 | G34: =('Nacionalidad (esp-extr)'!H10-'Nacionalidad (esp-extr)'!G10)/'Nacionalidad (esp-extr)'!G10 -> 0.2 | H34: =('Nacionalidad (esp-extr)'!I10-'Nacionalidad (esp-extr)'!H10)/'Nacionalidad (esp-extr)'!H10 -> 0.073899371 | I34: =('Nacionalidad (esp-extr)'!J10-'Nacionalidad (esp-extr)'!I10)/'Nacionalidad (esp-extr)'!I10 -> 0.26354319 | ... W34: =('Nacionalidad (esp-extr)'!X10-'Nacionalidad (esp-extr)'!W10)/'Nacionalidad (esp-extr)'!W10 -> -0.024922118
A35: Fuente: Elaboración Social·Lab a partir de los datos del Portal Estadístic de la Generalitat Valenciana (PEGV)
A38: Hombres | B38: 2001 | C38: 2002 | D38: 2003 | E38: 2004 | F38: 2005 | G38: 2006 | H38: 2007 | I38: 2008 | J38: 2009 | K38: 2010 | L38: 2011 | M38: 2012 | N38: 2013 | O38: 2014 | P38: 2015 | Q38: 2016 | R38: 2017 | S38: 2018 | T38: 2019 | U38: 2020 | V38: 2021 | W38: 2022
A39: Variación Interanual TOTAL | B39: =('Nacionalidad (esp-extr)'!C15-'Nacionalidad (esp-extr)'!B15)/'Nacionalidad (esp-extr)'!B15 -> -0.0081541883 | C39: =('Nacionalidad (esp-extr)'!D15-'Nacionalidad (esp-extr)'!C15)/'Nacionalidad (esp-extr)'!C15 -> 0.0087194818 | D39: =('Nacionalidad (esp-extr)'!E15-'Nacionalidad (esp-extr)'!D15)/'Nacionalidad (esp-extr)'!D15 -> 0.0012348728 | E39: =('Nacionalidad (esp-extr)'!F15-'Nacionalidad (esp-extr)'!E15)/'Nacionalidad (esp-extr)'!E15 -> -0.0051800691 | F39: =('Nacionalidad (esp-extr)'!G15-'Nacionalidad (esp-extr)'!F15)/'Nacionalidad (esp-extr)'!F15 -> -0.00099181751 | G39: =('Nacionalidad (esp-extr)'!H15-'Nacionalidad (esp-extr)'!G15)/'Nacionalidad (esp-extr)'!G15 -> -0.010920824 | H39: =('Nacionalidad (esp-extr)'!I15-'Nacionalidad (esp-extr)'!H15)/'Nacionalidad (esp-extr)'!H15 -> -0.0067754078 | I39: =('Nacionalidad (esp-extr)'!J15-'Nacionalidad (esp-extr)'!I15)/'Nacionalidad (esp-extr)'!I15 -> 0.018191006 | ... W39: =('Nacionalidad (esp-extr)'!X15-'Nacionalidad (esp-extr)'!W15)/'Nacionalidad (esp-extr)'!W15 -> -0.0053460053
A40: Variación interanual españoles | B40: =('Nacionalidad (esp-extr)'!C16-'Nacionalidad (esp-extr)'!B16)/'Nacionalidad (esp-extr)'!B16 -> -0.014761071 | C40: =('Nacionalidad (esp-extr)'!D16-'Nacionalidad (esp-extr)'!C16)/'Nacionalidad (esp-extr)'!C16 -> -0.018029457 | D40: =('Nacionalidad (esp-extr)'!E16-'Nacionalidad (esp-extr)'!D16)/'Nacionalidad (esp-extr)'!D16 -> -0.013188518 | E40: =('Nacionalidad (esp-extr)'!F16-'Nacionalidad (esp-extr)'!E16)/'Nacionalidad (esp-extr)'!E16 -> -0.011006289 | F40: =('Nacionalidad (esp-extr)'!G16-'Nacionalidad (esp-extr)'!F16)/'Nacionalidad (esp-extr)'!F16 -> -0.015103339 | G40: =('Nacionalidad (esp-extr)'!H16-'Nacionalidad (esp-extr)'!G16)/'Nacionalidad (esp-extr)'!G16 -> -0.02905569 | H40: =('Nacionalidad (esp-extr)'!I16-'Nacionalidad (esp-extr)'!H16)/'Nacionalidad (esp-extr)'!H16 -> -0.013577168 | I40: =('Nacionalidad (esp-extr)'!J16-'Nacionalidad (esp-extr)'!I16)/'Nacionalidad (esp-extr)'!I16 -> -0.0095505618 | ... W40: =('Nacionalidad (esp-extr)'!X16-'Nacionalidad (esp-extr)'!W16)/'Nacionalidad (esp-extr)'!W16 -> -0.0055829228
A41: Variación interanual extranjeros | B41: =('Nacionalidad (esp-extr)'!C17-'Nacionalidad (esp-extr)'!B17)/'Nacionalidad (esp-extr)'!B17 -> 0.52 | C41: =('Nacionalidad (esp-extr)'!D17-'Nacionalidad (esp-extr)'!C17)/'Nacionalidad (esp-extr)'!C17 -> 1.3947368 | D41: =('Nacionalidad (esp-extr)'!E17-'Nacionalidad (esp-extr)'!D17)/'Nacionalidad (esp-extr)'!D17 -> 0.30769231 | E41: =('Nacionalidad (esp-extr)'!F17-'Nacionalidad (esp-extr)'!E17)/'Nacionalidad (esp-extr)'!E17 -> 0.088235294 | F41: =('Nacionalidad (esp-extr)'!G17-'Nacionalidad (esp-extr)'!F17)/'Nacionalidad (esp-extr)'!F17 -> 0.2046332 | G41: =('Nacionalidad (esp-extr)'!H17-'Nacionalidad (esp-extr)'!G17)/'Nacionalidad (esp-extr)'!G17 -> 0.20512821 | H41: =('Nacionalidad (esp-extr)'!I17-'Nacionalidad (esp-extr)'!H17)/'Nacionalidad (esp-extr)'!H17 -> 0.058510638 | I41: =('Nacionalidad (esp-extr)'!J17-'Nacionalidad (esp-extr)'!I17)/'Nacionalidad (esp-extr)'!I17 -> 0.26633166 | ... W41: =('Nacionalidad (esp-extr)'!X17-'Nacionalidad (esp-extr)'!W17)/'Nacionalidad (esp-extr)'!W17 -> -0.0031055901
A42: Fuente: Elaboración Social·Lab a partir de los datos del Portal Estadístic de la Generalitat Valenciana (PEGV)
A45: Mujeres | B45: 2001 | C45: 2002 | D45: 2003 | E45: 2004 | F45: 2005 | G45: 2006 | H45: 2007 | I45: 2008 | J45: 2009 | K45: 2010 | L45: 2011 | M45: 2012 | N45: 2013 | O45: 2014 | P45: 2015 | Q45: 2016 | R45: 2017 | S45: 2018 | T45: 2019 | U45: 2020 | V45: 2021 | W45: 2022
A46: Variación Interanual TOTAL | B46: =('Nacionalidad (esp-extr)'!C22-'Nacionalidad (esp-extr)'!B22)/'Nacionalidad (esp-extr)'!B22 -> -0.013949014 | C46: =('Nacionalidad (esp-extr)'!D22-'Nacionalidad (esp-extr)'!C22)/'Nacionalidad (esp-extr)'!C22 -> -0.0053658537 | D46: =('Nacionalidad (esp-extr)'!E22-'Nacionalidad (esp-extr)'!D22)/'Nacionalidad (esp-extr)'!D22 -> -0.013241785 | E46: =('Nacionalidad (esp-extr)'!F22-'Nacionalidad (esp-extr)'!E22)/'Nacionalidad (esp-extr)'!E22 -> -0.0054671968 | F46: =('Nacionalidad (esp-extr)'!G22-'Nacionalidad (esp-extr)'!F22)/'Nacionalidad (esp-extr)'!F22 -> -0.0069965017 | G46: =('Nacionalidad (esp-extr)'!H22-'Nacionalidad (esp-extr)'!G22)/'Nacionalidad (esp-extr)'!G22 -> -0.011826875 | H46: =('Nacionalidad (esp-extr)'!I22-'Nacionalidad (esp-extr)'!H22)/'Nacionalidad (esp-extr)'!H22 -> -0.0099312452 | I46: =('Nacionalidad (esp-extr)'!J22-'Nacionalidad (esp-extr)'!I22)/'Nacionalidad (esp-extr)'!I22 -> 0.0077160494 | ... W46: =('Nacionalidad (esp-extr)'!X22-'Nacionalidad (esp-extr)'!W22)/'Nacionalidad (esp-extr)'!W22 -> -0.017267495
A47: Variación interanual españoles | B47: =('Nacionalidad (esp-extr)'!C23-'Nacionalidad (esp-extr)'!B23)/'Nacionalidad (esp-extr)'!B23 -> -0.017387105 | C47: =('Nacionalidad (esp-extr)'!D23-'Nacionalidad (esp-extr)'!C23)/'Nacionalidad (esp-extr)'!C23 -> -0.018677808 | D47: =('Nacionalidad (esp-extr)'!E23-'Nacionalidad (esp-extr)'!D23)/'Nacionalidad (esp-extr)'!D23 -> -0.027548209 | E47: =('Nacionalidad (esp-extr)'!F23-'Nacionalidad (esp-extr)'!E23)/'Nacionalidad (esp-extr)'!E23 -> -0.015967036 | F47: =('Nacionalidad (esp-extr)'!G23-'Nacionalidad (esp-extr)'!F23)/'Nacionalidad (esp-extr)'!F23 -> -0.017011254 | G47: =('Nacionalidad (esp-extr)'!H23-'Nacionalidad (esp-extr)'!G23)/'Nacionalidad (esp-extr)'!G23 -> -0.023695421 | H47: =('Nacionalidad (esp-extr)'!I23-'Nacionalidad (esp-extr)'!H23)/'Nacionalidad (esp-extr)'!H23 -> -0.017452959 | I47: =('Nacionalidad (esp-extr)'!J23-'Nacionalidad (esp-extr)'!I23)/'Nacionalidad (esp-extr)'!I23 -> -0.012212046 | ... W47: =('Nacionalidad (esp-extr)'!X23-'Nacionalidad (esp-extr)'!W23)/'Nacionalidad (esp-extr)'!W23 -> -0.014089232
A48: Variación interanual extranjeros | B48: =('Nacionalidad (esp-extr)'!C24-'Nacionalidad (esp-extr)'!B24)/'Nacionalidad (esp-extr)'!B24 -> 0.82352941 | C48: =('Nacionalidad (esp-extr)'!D24-'Nacionalidad (esp-extr)'!C24)/'Nacionalidad (esp-extr)'!C24 -> 1.7419355 | D48: =('Nacionalidad (esp-extr)'!E24-'Nacionalidad (esp-extr)'!D24)/'Nacionalidad (esp-extr)'!D24 -> 0.65882353 | E48: =('Nacionalidad (esp-extr)'!F24-'Nacionalidad (esp-extr)'!E24)/'Nacionalidad (esp-extr)'!E24 -> 0.28368794 | F48: =('Nacionalidad (esp-extr)'!G24-'Nacionalidad (esp-extr)'!F24)/'Nacionalidad (esp-extr)'!F24 -> 0.20441989 | G48: =('Nacionalidad (esp-extr)'!H24-'Nacionalidad (esp-extr)'!G24)/'Nacionalidad (esp-extr)'!G24 -> 0.19266055 | H48: =('Nacionalidad (esp-extr)'!I24-'Nacionalidad (esp-extr)'!H24)/'Nacionalidad (esp-extr)'!H24 -> 0.096153846 | I48: =('Nacionalidad (esp-extr)'!J24-'Nacionalidad (esp-extr)'!I24)/'Nacionalidad (esp-extr)'!I24 -> 0.25964912 | ... W48: =('Nacionalidad (esp-extr)'!X24-'Nacionalidad (esp-extr)'!W24)/'Nacionalidad (esp-extr)'!W24 -> -0.046875
A49: Fuente: Elaboración Social·Lab a partir de los datos del Portal Estadístic de la Generalitat Valenciana (PEGV)

Sheet Grupos de edad
A1: L'Alt Maestrat
A2: 5. Grandes grupos de edad de los residentes con nacionalidad extranjera. Evolución 2002-2022
A5: 5.1. Grandes grupos de edad de los residentes con nacionalidad extranjera (datos absolutos)
A7: Ambos sexos | B7: 2002 | C7: 2003 | D7: 2004 | E7: 2005 | F7: 2006 | G7: 2007 | H7: 2008 | I7: 2009 | J7: 2010 | K7: 2011 | L7: 2012 | M7: 2013 | N7: 2014 | O7: 2015 | P7: 2016 | Q7: 2017 | R7: 2018 | S7: 2019 | T7: 2020 | U7: 2021 | V7: 2022
A8: Total edades | B8: 267 | C8: 379 | D8: 440 | E8: 530 | F8: 636 | G8: 683 | H8: 863 | I8: 894 | J8: 939 | K8: 930 | L8: 923 | M8: 874 | N8: 761 | O8: 704 | P8: 673 | Q8: 618 | R8: 599 | S8: 594 | T8: 615 | U8: 642 | V8: 626
A9: Menores 16 | B9: 29 | C9: 56 | D9: 70 | E9: 74 | F9: 92 | G9: 106 | H9: 145 | I9: 153 | J9: 173 | K9: 176 | L9: 169 | M9: 156 | N9: 140 | O9: 143 | P9: 148 | Q9: 126 | R9: 126 | S9: 136 | T9: 129 | U9: 126 | V9: 119
A10: De 16 a 39 | B10: 187 | C10: 250 | D10: 292 | E10: 362 | F10: 428 | G10: 461 | H10: 559 | I10: 560 | J10: 570 | K10: 539 | L10: 523 | M10: 493 | N10: 416 | O10: 369 | P10: 328 | Q10: 290 | R10: 268 | S10: 243 | T10: 246 | U10: 259 | V10: 238
A11: De 40 a 64 | B11: 50 | C11: 70 | D11: 75 | E11: 90 | F11: 112 | G11: 112 | H11: 154 | I11: 175 | J11: 186 | K11: 202 | L11: 217 | M11: 211 | N11: 195 | O11: 181 | P11: 180 | Q11: 186 | R11: 191 | S11: 198 | T11: 222 | U11: 236 | V11: 246
A12: De 65 a 74 | B12: 0 | C12: 2 | D12: 2 | E12: 3 | F12: 3 | G12: 4 | H12: 5 | I12: 6 | J12: 8 | K12: 7 | L12: 8 | M12: 9 | N12: 6 | O12: 7 | P12: 12 | Q12: 11 | R12: 10 | S12: 12 | T12: 13 | U12: 18 | V12: 19
A13: 75 y más | B13: 1 | C13: 1 | D13: 1 | E13: 1 | F13: 1 | G13: 0 | H13: 0 | I13: 0 | J13: 2 | K13: 6 | L13: 6 | M13: 5 | N13: 4 | O13: 4 | P13: 5 | Q13: 5 | R13: 4 | S13: 5 | T13: 5 | U13: 3 | V13: 4
A14: Fuente: Portal Estadístic de la Generalitat Valenciana (PEGV)
A17: Hombres | B17: 2002 | C17: 2003 | D17: 2004 | E17: 2005 | F17: 2006 | G17: 2007 | H17: 2008 | I17: 2009 | J17: 2010 | K17: 2011 | L17: 2012 | M17: 2013 | N17: 2014 | O17: 2015 | P17: 2016 | Q17: 2017 | R17: 2018 | S17: 2019 | T17: 2020 | U17: 2021 | V17: 2022
A18: Total edades | B18: 182 | C18: 238 | D18: 259 | E18: 312 | F18: 376 | G18: 398 | H18: 504 | I18: 513 | J18: 523 | K18: 509 | L18: 505 | M18: 492 | N18: 410 | O18: 369 | P18: 343 | Q18: 305 | R18: 298 | S18: 305 | T18: 308 | U18: 322 | V18: 321
A19: Menores 16 | B19: 15 | C19: 26 | D19: 30 | E19: 32 | F19: 42 | G19: 51 | H19: 73 | I19: 81 | J19: 87 | K19: 90 | L19: 91 | M19: 85 | N19: 73 | O19: 73 | P19: 75 | Q19: 61 | R19: 61 | S19: 69 | T19: 67 | U19: 69 | V19: 65
A20: De 16 a 39 | B20: 132 | C20: 162 | D20: 182 | E20: 222 | F20: 266 | G20: 280 | H20: 340 | I20: 328 | J20: 332 | K20: 307 | L20: 293 | M20: 282 | N20: 231 | O20: 197 | P20: 173 | Q20: 144 | R20: 132 | S20: 126 | T20: 115 | U20: 122 | V20: 121
A21: De 40 a 64 | B21: 34 | C21: 48 | D21: 46 | E21: 57 | F21: 67 | G21: 66 | H21: 89 | I21: 102 | J21: 100 | K21: 107 | L21: 115 | M21: 119 | N21: 104 | O21: 97 | P21: 90 | Q21: 95 | R21: 99 | S21: 104 | T21: 120 | U21: 122 | V21: 125
A22: De 65 a 74 | B22: 0 | C22: 1 | D22: 1 | E22: 1 | F22: 1 | G22: 1 | H22: 2 | I22: 2 | J22: 3 | K22: 2 | L22: 3 | M22: 4 | N22: 2 | O22: 2 | P22: 4 | Q22: 4 | R22: 5 | S22: 6 | T22: 6 | U22: 9 | V22: 9
A23: 75 y más | B23: 1 | C23: 1 | D23: 0 | E23: 0 | F23: 0 | G23: 0 | H23: 0 | I23: 0 | J23: 1 | K23: 3 | L23: 3 | M23: 2 | N23: 0 | O23: 0 | P23: 1 | Q23: 1 | R23: 1 | S23: 0 | T23: 0 | U23: 0 | V23: 1
A24: Fuente: Portal Estadístic de la Generalitat Valenciana (PEGV)
A27: Mujeres | B27: 2002 | C27: 2003 | D27: 2004 | E27: 2005 | F27: 2006 | G27: 2007 | H27: 2008 | I27: 2009 | J27: 2010 | K27: 2011 | L27: 2012 | M27: 2013 | N27: 2014 | O27: 2015 | P27: 2016 | Q27: 2017 | R27: 2018 | S27: 2019 | T27: 2020 | U27: 2021 | V27: 2022
A28: Total edades | B28: 85 | C28: 141 | D28: 181 | E28: 218 | F28: 260 | G28: 285 | H28: 359 | I28: 381 | J28: 416 | K28: 421 | L28: 418 | M28: 382 | N28: 351 | O28: 335 | P28: 330 | Q28: 313 | R28: 301 | S28: 289 | T28: 307 | U28: 320 | V28: 305
A29: Menores 16 | B29: 14 | C29: 30 | D29: 40 | E29: 42 | F29: 50 | G29: 55 | H29: 72 | I29: 72 | J29: 86 | K29: 86 | L29: 78 | M29: 71 | N29: 67 | O29: 70 | P29: 73 | Q29: 65 | R29: 65 | S29: 67 | T29: 62 | U29: 57 | V29: 54
A30: De 16 a 39 | B30: 55 | C30: 88 | D30: 110 | E30: 140 | F30: 162 | G30: 181 | H30: 219 | I30: 232 | J30: 238 | K30: 232 | L30: 230 | M30: 211 | N30: 185 | O30: 172 | P30: 155 | Q30: 146 | R30: 136 | S30: 117 | T30: 131 | U30: 137 | V30: 117
A31: De 40 a 64 | B31: 16 | C31: 22 | D31: 29 | E31: 33 | F31: 45 | G31: 46 | H31: 65 | I31: 73 | J31: 86 | K31: 95 | L31: 102 | M31: 92 | N31: 91 | O31: 84 | P31: 90 | Q31: 91 | R31: 92 | S31: 94 | T31: 102 | U31: 114 | V31: 121
A32: De 65 a 74 | B32: 0 | C32: 1 | D32: 1 | E32: 2 | F32: 2 | G32: 3 | H32: 3 | I32: 4 | J32: 5 | K32: 5 | L32: 5 | M32: 5 | N32: 4 | O32: 5 | P32: 8 | Q32: 7 | R32: 5 | S32: 6 | T32: 7 | U32: 9 | V32: 10
A33: 75 y más | B33: 0 | C33: 0 | D33: 1 | E33: 1 | F33: 1 | G33: 0 | H33: 0 | I33: 0 | J33: 1 | K33: 3 | L33: 3 | M33: 3 | N33: 4 | O33: 4 | P33: 4 | Q33: 4 | R33: 3 | S33: 5 | T33: 5 | U33: 3 | V33: 3
A34: Fuente: Portal Estadístic de la Generalitat Valenciana (PEGV)
A38: 5.2. Proporción de grandes grupos de edad de los residentes con nacionalidad extranjera
A40: Ambos sexos | B40: 2002 | C40: 2003 | D40: 2004 | E40: 2005 | F40: 2006 | G40: 2007 | H40: 2008 | I40: 2009 | J40: 2010 | K40: 2011 | L40: 2012 | M40: 2013 | N40: 2014 | O40: 2015 | P40: 2016 | Q40: 2017 | R40: 2018 | S40: 2019 | T40: 2020 | U40: 2021 | V40: 2022
A41: Total edades | B41: =SUM(B42:B46) -> 1 | C41: =SUM(C42:C46) -> 1 | D41: =SUM(D42:D46) -> 1 | E41: =SUM(E42:E46) -> 1 | F41: =SUM(F42:F46) -> 1 | G41: =SUM(G42:G46) -> 1 | H41: =SUM(H42:H46) -> 1 | I41: =SUM(I42:I46) -> 1 | ... V41: =SUM(V42:V46) -> 1
A42: Menores 16 | B42: =B9/B8 -> 0.10861423 | C42: =C9/C8 -> 0.14775726 | D42: =D9/D8 -> 0.15909091 | E42: =E9/E8 -> 0.13962264 | F42: =F9/F8 -> 0.14465409 | G42: =G9/G8 -> 0.15519766 | H42: =H9/H8 -> 0.16801854 | I42: =I9/I8 -> 0.17114094 | ... V42: =V9/V8 -> 0.19009585
A43: De 16 a 39 | B43: =B10/B8 -> 0.70037453 | C43: =C10/C8 -> 0.65963061 | D43: =D10/D8 -> 0.66363636 | E43: =E10/E8 -> 0.68301887 | F43: =F10/F8 -> 0.67295597 | G43: =G10/G8 -> 0.6749634 | H43: =H10/H8 -> 0.64774044 | I43: =I10/I8 -> 0.62639821 | ... V43: =V10/V8 -> 0.38019169
A44: De 40 a 64 | B44: =B11/B8 -> 0.18726592 | C44: =C11/C8 -> 0.18469657 | D44: =D11/D8 -> 0.17045455 | E44: =E11/E8 -> 0.16981132 | F44: =F11/F8 -> 0.17610063 | G44: =G11/G8 -> 0.16398243 | H44: =H11/H8 -> 0.17844728 | I44: =I11/I8 -> 0.19574944 | ... V44: =V11/V8 -> 0.39297125
A45: De 65 a 74 | B45: =B12/B8 -> 0 | C45: =C12/C8 -> 0.0052770449 | D45: =D12/D8 -> 0.0045454545 | E45: =E12/E8 -> 0.0056603774 | F45: =F12/F8 -> 0.0047169811 | G45: =G12/G8 -> 0.0058565154 | H45: =H12/H8 -> 0.0057937428 | I45: =I12/I8 -> 0.0067114094 | ... V45: =V12/V8 -> 0.030351438
A46: 75 y más | B46: =B13/B8 -> 0.0037453184 | C46: =C13/C8 -> 0.0026385224 | D46: =D13/D8 -> 0.0022727273 | E46: =E13/E8 -> 0.0018867925 | F46: =F13/F8 -> 0.001572327 | G46: =G13/G8 -> 0 | H46: =H13/H8 -> 0 | I46: =I13/I8 -> 0 | ... V46: =V13/V8 -> 0.0063897764
A47: Fuente: Elaboración Social·Lab a partir de los datos del Portal Estadístic de la Generalitat Valenciana (PEGV)
A50: Hombres | B50: 2002 | C50: 2003 | D50: 2004 | E50: 2005 | F50: 2006 | G50: 2007 | H50: 2008 | I50: 2009 | J50: 2010 | K50: 2011 | L50: 2012 | M50: 2013 | N50: 2014 | O50: 2015 | P50: 2016 | Q50: 2017 | R50: 2018 | S50: 2019 | T50: 2020 | U50: 2021 | V50: 2022
A51: Total edades | B51: =SUM(B52:B56) -> 1 | C51: =SUM(C52:C56) -> 1 | D51: =SUM(D52:D56) -> 1 | E51: =SUM(E52:E56) -> 1 | F51: =SUM(F52:F56) -> 1 | G51: =SUM(G52:G56) -> 1 | H51: =SUM(H52:H56) -> 1 | I51: =SUM(I52:I56) -> 1 | ... V51: =SUM(V52:V56) -> 1
A52: Menores 16 | B52: =B19/B18 -> 0.082417582 | C52: =C19/C18 -> 0.1092437 | D52: =D19/D18 -> 0.11583012 | E52: =E19/E18 -> 0.1025641 | F52: =F19/F18 -> 0.11170213 | G52: =G19/G18 -> 0.1281407 | H52: =H19/H18 -> 0.14484127 | I52: =I19/I18 -> 0.15789474 | ... V52: =V19/V18 -> 0.20249221
A53: De 16 a 39 | B53: =B20/B18 -> 0.72527473 | C53: =C20/C18 -> 0.68067227 | D53: =D20/D18 -> 0.7027027 | E53: =E20/E18 -> 0.71153846 | F53: =F20/F18 -> 0.70744681 | G53: =G20/G18 -> 0.70351759 | H53: =H20/H18 -> 0.67460317 | I53: =I20/I18 -> 0.63937622 | ... V53: =V20/V18 -> 0.37694704
...

Sheet Continente de nacimiento
A1: L'Alt Maestrat
A2: 6. Residentes nacidos en el extranjero según continentes. Evolución 2002-2022
A5: 6.1. Residentes nacidos en el extranjero según continentes (datos absolutos)
A7: Ambos sexos | B7: 2002 | C7: 2003 | D7: 2004 | E7: 2005 | F7: 2006 | G7: 2007 | H7: 2008 | I7: 2009 | J7: 2010 | K7: 2011 | L7: 2012 | M7: 2013 | N7: 2014 | O7: 2015 | P7: 2016 | Q7: 2017 | R7: 2018 | S7: 2019 | T7: 2020 | U7: 2021 | V7: 2022
A8: Total | B8: 299 | C8: 419 | D8: 481 | E8: 564 | F8: 657 | G8: 691 | H8: 865 | I8: 888 | J8: 927 | K8: 907 | L8: 893 | M8: 842 | N8: 726 | O8: 665 | P8: 632 | Q8: 580 | R8: 551 | S8: 534 | T8: 560 | U8: 613 | V8: 599
A9: Unión Europea | B9: 30 | C9: 32 | D9: 32 | E9: 33 | F9: 31 | G9: 465 | H9: 570 | I9: 613 | J9: 654 | K9: 660 | L9: 656 | M9: 612 | N9: 497 | O9: 434 | P9: 411 | Q9: 384 | R9: 353 | S9: 334 | T9: 317 | U9: 309 | V9: 298
A10: Europa (sin UE) | B10: 122 | C10: 211 | D10: 271 | E10: 362 | F10: 432 | G10: 5 | H10: 7 | I10: 7 | J10: 6 | K10: 5 | L10: 4 | M10: 4 | N10: 4 | O10: 4 | P10: 7 | Q10: 5 | R10: 6 | S10: 6 | T10: 10 | U10: 24 | V10: 23
A11: África | B11: 118 | C11: 126 | D11: 126 | E11: 115 | F11: 134 | G11: 146 | H11: 193 | I11: 178 | J11: 165 | K11: 156 | L11: 149 | M11: 146 | N11: 148 | O11: 151 | P11: 147 | Q11: 131 | R11: 132 | S11: 142 | T11: 152 | U11: 170 | V11: 167
A12: América del Norte | B12: 0 | C12: 0 | D12: 0 | E12: 0 | F12: 0 | G12: 0 | H12: 0 | I12: 0 | J12: 2 | K12: 2 | L12: 0 | M12: 0 | N12: 0 | O12: 0 | P12: 1 | Q12: 1 | R12: 2 | S12: 1 | T12: 1 | U12: 2 | V12: 2
A13: América Central/Caribe | B13: 1 | C13: 5 | D13: 4 | E13: 5 | F13: 4 | G13: 4 | H13: 5 | I13: 5 | J13: 6 | K13: 9 | L13: 9 | M13: 9 | N13: 8 | O13: 7 | P13: 6 | Q13: 8 | R13: 8 | S13: 4 | T13: 11 | U13: 19 | V13: 21
A14: América del Sur | B14: 27 | C14: 41 | D14: 42 | E14: 41 | F14: 51 | G14: 63 | H14: 78 | I14: 71 | J14: 73 | K14: 54 | L14: 51 | M14: 43 | N14: 38 | O14: 37 | P14: 34 | Q14: 28 | R14: 30 | S14: 29 | T14: 38 | U14: 50 | V14: 63
A15: Asia | B15: 1 | C15: 4 | D15: 6 | E15: 8 | F15: 5 | G15: 8 | H15: 12 | I15: 14 | J15: 21 | K15: 21 | L15: 24 | M15: 28 | N15: 31 | O15: 32 | P15: 26 | Q15: 23 | R15: 20 | S15: 18 | T15: 31 | U15: 39 | V15: 25
A16: Oceanía | B16: 0 | C16: 0 | D16: 0 | E16: 0 | F16: 0 | G16: 0 | H16: 0 | I16: 0 | J16: 0 | K16: 0 | L16: 0 | M16: 0 | N16: 0 | O16: 0 | P16: 0 | Q16: 0 | R16: 0 | S16: 0 | T16: 0 | U16: 0 | V16: 0
A17: Fuente: Portal Estadístic de la Generalitat Valenciana (PEGV)
A20: Hombres | B20: 2002 | C20: 2003 | D20: 2004 | E20: 2005 | F20: 2006 | G20: 2007 | H20: 2008 | I20: 2009 | J20: 2010 | K20: 2011 | L20: 2012 | M20: 2013 | N20: 2014 | O20: 2015 | P20: 2016 | Q20: 2017 | R20: 2018 | S20: 2019 | T20: 2020 | U20: 2021 | V20: 2022
A21: Total | B21: 199 | C21: 259 | D21: 283 | E21: 329 | F21: 383 | G21: 399 | H21: 499 | I21: 501 | J21: 513 | K21: 490 | L21: 477 | M21: 461 | N21: 379 | O21: 338 | P21: 311 | Q21: 278 | R21: 266 | S21: 266 | T21: 272 | U21: 295 | V21: 295
A22: Unión Europea | B22: 15 | C22: 17 | D22: 17 | E22: 17 | F22: 16 | G22: 271 | H22: 329 | I22: 347 | J22: 366 | K22: 361 | L22: 355 | M22: 340 | N22: 262 | O22: 219 | P22: 201 | Q22: 181 | R22: 171 | S22: 162 | T22: 148 | U22: 147 | V22: 143
A23: Europa (sin UE) | B23: 83 | C23: 139 | D23: 164 | E23: 219 | F23: 254 | G23: 2 | H23: 4 | I23: 4 | J23: 3 | K23: 2 | L23: 1 | M23: 1 | N23: 1 | O23: 1 | P23: 3 | Q23: 2 | R23: 3 | S23: 3 | T23: 4 | U23: 8 | V23: 8
A24: África | B24: 88 | C24: 86 | D24: 80 | E24: 72 | F24: 90 | G24: 93 | H24: 125 | I24: 111 | J24: 101 | K24: 93 | L24: 86 | M24: 83 | N24: 82 | O24: 83 | P24: 79 | Q24: 72 | R24: 71 | S24: 82 | T24: 91 | U24: 102 | V24: 106
A25: América del Norte | B25: 0 | C25: 0 | D25: 0 | E25: 0 | F25: 0 | G25: 0 | H25: 0 | I25: 0 | J25: 1 | K25: 1 | L25: 0 | M25: 0 | N25: 0 | O25: 0 | P25: 1 | Q25: 1 | R25: 2 | S25: 1 | T25: 1 | U25: 1 | V25: 0
A26: América Central/Caribe | B26: 0 | C26: 1 | D26: 1 | E26: 1 | F26: 1 | G26: 1 | H26: 1 | I26: 1 | J26: 1 | K26: 2 | L26: 2 | M26: 2 | N26: 1 | O26: 1 | P26: 1 | Q26: 1 | R26: 1 | S26: 1 | T26: 2 | U26: 5 | V26: 6
A27: América del Sur | B27: 13 | C27: 15 | D27: 17 | E27: 15 | F27: 19 | G27: 29 | H27: 35 | I27: 31 | J27: 27 | K27: 17 | L27: 16 | M27: 14 | N27: 11 | O27: 11 | P27: 9 | Q27: 7 | R27: 7 | S27: 7 | T27: 9 | U27: 13 | V27: 20
A28: Asia | B28: 0 | C28: 1 | D28: 4 | E28: 5 | F28: 3 | G28: 3 | H28: 5 | I28: 7 | J28: 14 | K28: 14 | L28: 17 | M28: 21 | N28: 22 | O28: 23 | P28: 17 | Q28: 14 | R28: 11 | S28: 10 | T28: 17 | U28: 19 | V28: 12
A29: Oceanía | B29: 0 | C29: 0 | D29: 0 | E29: 0 | F29: 0 | G29: 0 | H29: 0 | I29: 0 | J29: 0 | K29: 0 | L29: 0 | M29: 0 | N29: 0 | O29: 0 | P29: 0 | Q29: 0 | R29: 0 | S29: 0 | T29: 0 | U29: 0 | V29: 0
A30: Fuente: Portal Estadístic de la Generalitat Valenciana (PEGV)
