Workbook

Sheet PORTADA

Sheet Índice
A1: L'Alt Maestrat
B4: ÍNDICE
B6: 1. Lugar de nacimiento del total de población. Evolución 1999-2022
B8: 2. Nacidos en España o en el extranjero. Evolución 1999-2022
B10: 3. Nacionalidad española o extranjera. Evolución 2000-2022
B12: 4. Variación interanual de los españoles y extranjeros. Evolución 2001-2022
B14: 5. Grandes grupos de edad de los residentes con nacionalidad extranjera. Evolución 2002-2022
B16: 6. Residentes nacidos en el extranjero según continentes. Evolución 2002-2022
B18: 7. Residentes con nacionalidad extranjera según continentes. Evolución 2002-2022
B20: 8. Residentes nacidos en el extranjero, según los 16 principales países de nacimiento. Evolución 2002-2022
B22: 9. Residentes con nacionalidad extranjera, según las 16 principales nacionalidades. Evolución 2002-2022
B24: 10. Total de nacimientos según la nacionalidad de la madre. Evolución 2002-2022

Sheet Lugar nacimiento
A1: L'Alt Maestrat
A2: 1. Lugar de nacimiento del total de población. Evolución 1999-2022 (datos absolutos)
A5: 1.1. Lugar de nacimiento del total de población (datos absolutos)
A7: Ambos sexos | B7: 1999 | C7: 2000 | D7: 2001 | E7: 2002 | F7: 2003 | G7: 2004 | H7: 2005 | I7: 2006 | J7: 2007 | K7: 2008 | L7: 2009 | M7: 2010 | N7: 2011 | O7: 2012 | P7: 2013 | Q7: 2014 | R7: 2015 | S7: 2016 | T7: 2017 | U7: 2018 | V7: 2019 | W7: 2020 | X7: 2021 | Y7: 2022
A8: Total | B8: 8308 | C8: 8205 | D8: 8114 | E8: 8127 | F8: 8078 | G8: 8035 | H8: 8003 | I8: 7912 | J8: 7846 | K8: 7948 | L8: 7934 | M8: 7898 | N8: 7821 | O8: 7715 | P8: 7536 | Q8: 7260 | R8: 7128 | S8: 7037 | T8: 6872 | U8: 6745 | V8: 6657 | W8: 6622 | X8: 6668 | Y8: 6593
A9: Nacidos en la C. Valenciana | B9: 7642 | C9: 7532 | D9: 7417 | E9: 7272 | F9: 7120 | G9: 7011 | H9: 6898 | I9: 6729 | J9: 6622 | K9: 6540 | L9: 6505 | M9: 6432 | N9: 6368 | O9: 6278 | P9: 6158 | Q9: 6031 | R9: 5950 | S9: 5904 | T9: 5790 | U9: 5700 | V9: 5630 | W9: 5555 | X9: 5529 | Y9: 5476
A10: En el mismo municipio | B10: 4965 | C10: 4870 | D10: 4773 | E10: 4656 | F10: 4568 | G10: 4490 | H10: 4431 | I10: 4338 | J10: 4268 | K10: 4209 | L10: 4161 | M10: 4106 | N10: 4054 | O10: 3979 | P10: 3886 | Q10: 3814 | R10: 3770 | S10: 3727 | T10: 3648 | U10: 3571 | V10: 3513 | W10: 3482 | X10: 3430 | Y10: 3374
A11: Diferente municipio, misma comarca | B11: 660 | C11: 640 | D11: 634 | E11: 617 | F11: 605 | G11: 584 | H11: 570 | I11: 550 | J11: 539 | K11: 526 | L11: 512 | M11: 505 | N11: 499 | O11: 480 | P11: 472 | Q11: 463 | R11: 452 | S11: 445 | T11: 443 | U11: 430 | V11: 420 | W11: 403 | X11: 396 | Y11: 387
A12: Diferente comarca, misma provincia | B12: 1945 | C12: 1939 | D12: 1922 | E12: 1920 | F12: 1873 | G12: 1863 | H12: 1830 | I12: 1773 | J12: 1752 | K12: 1734 | L12: 1746 | M12: 1748 | N12: 1740 | O12: 1742 | P12: 1721 | Q12: 1683 | R12: 1657 | S12: 1655 | T12: 1630 | U12: 1618 | V12: 1606 | W12: 1582 | X12: 1609 | Y12: 1609
A13: Diferente provincia de la C. Valenciana | B13: 73 | C13: 83 | D13: 88 | E13: 79 | F13: 74 | G13: 74 | H13: 67 | I13: 68 | J13: 63 | K13: 71 | L13: 86 | M13: 73 | N13: 75 | O13: 77 | P13: 79 | Q13: 71 | R13: 71 | S13: 77 | T13: 69 | U13: 81 | V13: 91 | W13: 88 | X13: 94 | Y13: 106
A14: Fuera de la C. Valenciana | B14: 666 | C14: 673 | D14: 697 | E14: 855 | F14: 958 | G14: 1024 | H14: 1105 | I14: 1183 | J14: 1224 | K14: 1408 | L14: 1429 | M14: 1466 | N14: 1453 | O14: 1437 | P14: 1378 | Q14: 1229 | R14: 1178 | S14: 1133 | T14: 1082 | U14: 1045 | V14: 1027 | W14: 1067 | X14: 1139 | Y14: 1117
A15: Resto de España | B15: 586 | C15: 568 | D15: 555 | E15: 556 | F15: 539 | G15: 543 | H15: 541 | I15: 526 | J15: 533 | K15: 543 | L15: 541 | M15: 539 | N15: 546 | O15: 544 | P15: 536 | Q15: 503 | R15: 513 | S15: 501 | T15: 502 | U15: 494 | V15: 493 | W15: 507 | X15: 526 | Y15: 518
A16: Extranjero | B16: 80 | C16: 105 | D16: 142 | E16: 299 | F16: 419 | G16: 481 | H16: 564 | I16: 657 | J16: 691 | K16: 865 | L16: 888 | M16: 927 | N16: 907 | O16: 893 | P16: 842 | Q16: 726 | R16: 665 | S16: 632 | T16: 580 | U16: 551 | V16: 534 | W16: 560 | X16: 613 | Y16: 599
A17: Fuente: Portal Estadístic de la Generalitat Valenciana (PEGV)
A20: Hombres | B20: 1999 | C20: 2000 | D20: 2001 | E20: 2002 | F20: 2003 | G20: 2004 | H20: 2005 | I20: 2006 | J20: 2007 | K20: 2008 | L20: 2009 | M20: 2010 | N20: 2011 | O20: 2012 | P20: 2013 | Q20: 2014 | R20: 2015 | S20: 2016 | T20: 2017 | U20: 2018 | V20: 2019 | W20: 2020 | X20: 2021 | Y20: 2022
A21: Total | B21: 4090 | C21: 4047 | D21: 4014 | E21: 4049 | F21: 4054 | G21: 4033 | H21: 4029 | I21: 3985 | J21: 3958 | K21: 4030 | L21: 4010 | M21: 3996 | N21: 3949 | O21: 3900 | P21: 3816 | Q21: 3655 | R21: 3605 | S21: 3543 | T21: 3440 | U21: 3412 | V21: 3377 | W21: 3350 | X21: 3367 | Y21: 3349
A22: Nacidos en la C. Valenciana | B22: 3793 | C22: 3739 | D22: 3685 | E22: 3617 | F22: 3574 | G22: 3520 | H22: 3466 | I22: 3378 | J22: 3325 | K22: 3288 | L22: 3265 | M22: 3236 | N22: 3207 | O22: 3173 | P22: 3109 | Q22: 3042 | R22: 3027 | S22: 3002 | T22: 2938 | U22: 2924 | V22: 2891 | W22: 2851 | X22: 2827 | Y22: 2811
A23: En el mismo municipio | B23: 2443 | C23: 2390 | D23: 2347 | E23: 2287 | F23: 2270 | G23: 2233 | H23: 2203 | I23: 2163 | J23: 2122 | K23: 2090 | L23: 2071 | M23: 2045 | N23: 2017 | O23: 1984 | P23: 1941 | Q23: 1904 | R23: 1896 | S23: 1875 | T23: 1827 | U23: 1808 | V23: 1782 | W23: 1769 | X23: 1743 | Y23: 1718
A24: Diferente municipio, misma comarca | B24: 268 | C24: 266 | D24: 265 | E24: 261 | F24: 257 | G24: 250 | H24: 246 | I24: 234 | J24: 232 | K24: 226 | L24: 217 | M24: 218 | N24: 214 | O24: 205 | P24: 203 | Q24: 200 | R24: 194 | S24: 187 | T24: 182 | U24: 178 | V24: 172 | W24: 160 | X24: 157 | Y24: 151
A25: Diferente comarca, misma provincia | B25: 1047 | C25: 1042 | D25: 1029 | E25: 1029 | F25: 1013 | G25: 1003 | H25: 988 | I25: 952 | J25: 945 | K25: 943 | L25: 942 | M25: 946 | N25: 947 | O25: 952 | P25: 933 | Q25: 911 | R25: 912 | S25: 912 | T25: 905 | U25: 907 | V25: 895 | W25: 886 | X25: 890 | Y25: 901
A26: Diferente provincia de la C. Valenciana | B26: 35 | C26: 41 | D26: 44 | E26: 40 | F26: 34 | G26: 34 | H26: 29 | I26: 29 | J26: 26 | K26: 29 | L26: 35 | M26: 27 | N26: 29 | O26: 32 | P26: 32 | Q26: 27 | R26: 25 | S26: 28 | T26: 24 | U26: 31 | V26: 42 | W26: 36 | X26: 37 | Y26: 41
A27: Fuera de la C. Valenciana | B27: 297 | C27: 308 | D27: 329 | E27: 432 | F27: 480 | G27: 513 | H27: 563 | I27: 607 | J27: 633 | K27: 742 | L27: 745 | M27: 760 | N27: 742 | O27: 727 | P27: 707 | Q27: 613 | R27: 578 | S27: 541 | T27: 502 | U27: 488 | V27: 486 | W27: 499 | X27: 540 | Y27: 538
A28: Resto de España | B28: 252 | C28: 241 | D28: 238 | E28: 233 | F28: 221 | G28: 230 | H28: 234 | I28: 224 | J28: 234 | K28: 243 | L28: 244 | M28: 247 | N28: 252 | O28: 250 | P28: 246 | Q28: 234 | R28: 240 | S28: 230 | T28: 224 | U28: 222 | V28: 220 | W28: 227 | X28: 245 | Y28: 243
A29: Extranjero | B29: 44 | C29: 67 | D29: 91 | E29: 199 | F29: 259 | G29: 283 | H29: 329 | I29: 383 | J29: 399 | K29: 499 | L29: 501 | M29: 513 | N29: 490 | O29: 477 | P29: 461 | Q29: 379 | R29: 338 | S29: 311 | T29: 278 | U29: 266 | V29: 266 | W29: 272 | X29: 295 | Y29: 295
A30: Fuente: Portal Estadístic de la Generalitat Valenciana (PEGV)
A33: Mujeres | B33: 1999 | C33: 2000 | D33: 2001 | E33: 2002 | F33: 2003 | G33: 2004 | H33: 2005 | I33: 2006 | J33: 2007 | K33: 2008 | L33: 2009 | M33: 2010 | N33: 2011 | O33: 2012 | P33: 2013 | Q33: 2014 | R33: 2015 | S33: 2016 | T33: 2017 | U33: 2018 | V33: 2019 | W33: 2020 | X33: 2021 | Y33: 2022
A34: Total | B34: 4218 | C34: 4158 | D34: 4100 | E34: 4078 | F34: 4024 | G34: 4002 | H34: 3974 | I34: 3927 | J34: 3888 | K34: 3918 | L34: 3924 | M34: 3902 | N34: 3872 | O34: 3815 | P34: 3720 | Q34: 3605 | R34: 3523 | S34: 3494 | T34: 3432 | U34: 3333 | V34: 3280 | W34: 3272 | X34: 3301 | Y34: 3244
A35: Nacidos en la C. Valenciana | B35: 3849 | C35: 3793 | D35: 3732 | E35: 3655 | F35: 3546 | G35: 3491 | H35: 3432 | I35: 3351 | J35: 3297 | K35: 3252 | L35: 3240 | M35: 3196 | N35: 3161 | O35: 3105 | P35: 3049 | Q35: 2989 | R35: 2923 | S35: 2902 | T35: 2852 | U35: 2776 | V35: 2739 | W35: 2704 | X35: 2702 | Y35: 2665
A36: En el mismo municipio | B36: 2522 | C36: 2480 | D36: 2426 | E36: 2369 | F36: 2298 | G36: 2257 | H36: 2228 | I36: 2175 | J36: 2146 | K36: 2119 | L36: 2090 | M36: 2061 | N36: 2037 | O36: 1995 | P36: 1945 | Q36: 1910 | R36: 1874 | S36: 1852 | T36: 1821 | U36: 1763 | V36: 1731 | W36: 1713 | X36: 1687 | Y36: 1656
A37: Diferente municipio, misma comarca | B37: 391 | C37: 374 | D37: 369 | E37: 356 | F37: 348 | G37: 334 | H37: 324 | I37: 316 | J37: 307 | K37: 300 | L37: 295 | M37: 287 | N37: 285 | O37: 275 | P37: 269 | Q37: 263 | R37: 258 | S37: 258 | T37: 261 | U37: 252 | V37: 248 | W37: 243 | X37: 239 | Y37: 236
A38: Diferente comarca, misma provincia | B38: 898 | C38: 897 | D38: 893 | E38: 891 | F38: 860 | G38: 860 | H38: 842 | I38: 821 | J38: 807 | K38: 791 | L38: 804 | M38: 802 | N38: 793 | O38: 790 | P38: 788 | Q38: 772 | R38: 745 | S38: 743 | T38: 725 | U38: 711 | V38: 711 | W38: 696 | X38: 719 | Y38: 708
A39: Diferente provincia de la C. Valenciana | B39: 37 | C39: 42 | D39: 44 | E39: 39 | F39: 40 | G39: 40 | H39: 38 | I39: 39 | J39: 37 | K39: 42 | L39: 51 | M39: 46 | N39: 46 | O39: 45 | P39: 47 | Q39: 44 | R39: 46 | S39: 49 | T39: 45 | U39: 50 | V39: 49 | W39: 52 | X39: 57 | Y39: 65
A40: Fuera de la C. Valenciana | B40: 369 | C40: 365 | D40: 368 | E40: 423 | F40: 478 | G40: 511 | H40: 542 | I40: 576 | J40: 591 | K40: 666 | L40: 684 | M40: 706 | N40: 711 | O40: 710 | P40: 671 | Q40: 616 | R40: 600 | S40: 592 | T40: 580 | U40: 557 | V40: 541 | W40: 568 | X40: 599 | Y40: 579
A41: Resto de España | B41: 334 | C41: 327 | D41: 317 | E41: 323 | F41: 318 | G41: 313 | H41: 307 | I41: 302 | J41: 299 | K41: 300 | L41: 297 | M41: 292 | N41: 294 | O41: 294 | P41: 290 | Q41: 269 | R41: 273 | S41: 271 | T41: 278 | U41: 272 | V41: 273 | W41: 280 | X41: 281 | Y41: 275
A42: Extranjero | B42: 35 | C42: 38 | D42: 51 | E42: 100 | F42: 160 | G42: 198 | H42: 235 | I42: 274 | J42: 292 | K42: 366 | L42: 387 | M42: 414 | N42: 417 | O42: 416 | P42: 381 | Q42: 347 | R42: 327 | S42: 321 | T42: 302 | U42: 285 | V42: 268 | W42: 288 | X42: 318 | Y42: 304
A43: Fuente: Portal Estadístic de la Generalitat Valenciana (PEGV)
A47: 1.2. Proporción de lugar de nacimiento del total de población
A49: Ambos sexos | B49: 1999 | C49: 2000 | D49: 2001 | E49: 2002 | F49: 2003 | G49: 2004 | H49: 2005 | I49: 2006 | J49: 2007 | K49: 2008 | L49: 2009 | M49: 2010 | N49: 2011 | O49: 2012 | P49: 2013 | Q49: 2014 | R49: 2015 | S49: 2016 | T49: 2017 | U49: 2018 | V49: 2019 | W49: 2020 | X49: 2021 | Y49: 2022
A50: Total | B50: =B8/B8 -> 1 | C50: =C8/C8 -> 1 | D50: =D8/D8 -> 1 | E50: =E8/E8 -> 1 | F50: =F8/F8 -> 1 | G50: =G8/G8 -> 1 | H50: =H8/H8 -> 1 | I50: =I8/I8 -> 1 | ... Y50: =Y8/Y8 -> 1
A51: Nacidos en la C. Valenciana | B51: =B9/B8 -> 0.9198363 | C51: =C9/C8 -> 0.91797684 | D51: =D9/D8 -> 0.91409909 | E51: =E9/E8 -> 0.89479513 | F51: =F9/F8 -> 0.88140629 | G51: =G9/G8 -> 0.87255756 | H51: =H9/H8 -> 0.86192678 | I51: =I9/I8 -> 0.85048028 | ... Y51: =Y9/Y8 -> 0.83057789
A52: En el mismo municipio | B52: =B10/B8 -> 0.59761675 | C52: =C10/C8 -> 0.59354052 | D52: =D10/D8 -> 0.58824254 | E52: =E10/E8 -> 0.57290513 | F52: =F10/F8 -> 0.56548651 | G52: =G10/G8 -> 0.55880523 | H52: =H10/H8 -> 0.55366737 | I52: =I10/I8 -> 0.54828109 | ... Y52: =Y10/Y8 -> 0.51175489
A53: Diferente municipio, misma comarca | B53: =B11/B8 -> 0.079441502 | C53: =C11/C8 -> 0.078001219 | D53: =D11/D8 -> 0.078136554 | E53: =E11/E8 -> 0.075919774 | F53: =F11/F8 -> 0.074894776 | G53: =G11/G8 -> 0.072682016 | H53: =H11/H8 -> 0.071223291 | I53: =I11/I8 -> 0.069514661 | ... Y53: =Y11/Y8 -> 0.05869862
A54: Diferente comarca, misma provincia | B54: =B12/B8 -> 0.2341117 | C54: =C12/C8 -> 0.23631932 | D54: =D12/D8 -> 0.23687454 | E54: =E12/E8 -> 0.23624954 | F54: =F12/F8 -> 0.23186432 | G54: =G12/G8 -> 0.23186061 | H54: =H12/H8 -> 0.22866425 | I54: =I12/I8 -> 0.22408999 | ... Y54: =Y12/Y8 -> 0.24404672
A55: Diferente provincia de la C. Valenciana | B55: =B13/B8 -> 0.0087867116 | C55: =C13/C8 -> 0.010115783 | D55: =D13/D8 -> 0.010845452 | E55: =E13/E8 -> 0.0097206841 | F55: =F13/F8 -> 0.0091606833 | G55: =G13/G8 -> 0.0092097075 | H55: =H13/H8 -> 0.0083718606 | I55: =I13/I8 -> 0.0085945399 | ... Y55: =Y13/Y8 -> 0.016077658
A56: Fuera de la C. Valenciana | B56: =B14/B8 -> 0.080163698 | C56: =C14/C8 -> 0.082023157 | D56: =D14/D8 -> 0.085900912 | E56: =E14/E8 -> 0.10520487 | F56: =F14/F8 -> 0.11859371 | G56: =G14/G8 -> 0.12744244 | H56: =H14/H8 -> 0.13807322 | I56: =I14/I8 -> 0.14951972 | ... Y56: =Y14/Y8 -> 0.16942211
A57: Resto de España | B57: =B15/B8 -> 0.070534425 | C57: =C15/C8 -> 0.069226082 | D57: =D15/D8 -> 0.068400296 | E57: =E15/E8 -> 0.068413929 | F57: =F15/F8 -> 0.066724437 | G57: =G15/G8 -> 0.06757934 | H57: =H15/H8 -> 0.06759965 | I57: =I15/I8 -> 0.066481294 | ... Y57: =Y15/Y8 -> 0.078568178
A58: Extranjero | B58: =B16/B8 -> 0.009629273 | C58: =C16/C8 -> 0.012797075 | D58: =D16/D8 -> 0.017500616 | E58: =E16/E8 -> 0.036790944 | F58: =F16/F8 -> 0.051869275 | G58: =G16/G8 -> 0.059863099 | H58: =H16/H8 -> 0.070473572 | I58: =I16/I8 -> 0.083038423 | ... Y58: =Y16/Y8 -> 0.090853936
A59: Fuente: Elaboración Social·Lab a partir de los datos del Portal Estadístic de la Generalitat Valenciana (PEGV)
A62: Hombres | B62: 1999 | C62: 2000 | D62: 2001 | E62: 2002 | F62: 2003 | G62: 2004 | H62: 2005 | I62: 2006 | J62: 2007 | K62: 2008 | L62: 2009 | M62: 2010 | N62: 2011 | O62: 2012 | P62: 2013 | Q62: 2014 | R62: 2015 | S62: 2016 | T62: 2017 | U62: 2018 | V62: 2019 | W62: 2020 | X62: 2021 | Y62: 2022
A63: Total | B63: =B21/B21 -> 1 | C63: =C21/C21 -> 1 | D63: =D21/D21 -> 1 | E63: =E21/E21 -> 1 | F63: =F21/F21 -> 1 | G63: =G21/G21 -> 1 | H63: =H21/H21 -> 1 | I63: =I21/I21 -> 1 | ... Y63: =Y21/Y21 -> 1
A64: Nacidos en la C. Valenciana | B64: =B22/B21 -> 0.92738386 | C64: =C22/C21 -> 0.92389424 | D64: =D22/D21 -> 0.91803687 | E64: =E22/E21 -> 0.89330699 | F64: =F22/F21 -> 0.88159842 | G64: =G22/G21 -> 0.8727994 | H64: =H22/H21 -> 0.86026309 | I64: =I22/I21 -> 0.8476788 | ... Y64: =Y22/Y21 -> 0.83935503
A65: En el mismo municipio | B65: =B23/B21 -> 0.59731051 | C65: =C23/C21 -> 0.59056091 | D65: =D23/D21 -> 0.58470354 | E65: =E23/E21 -> 0.56483082 | F65: =F23/F21 -> 0.5599408 | G65: =G23/G21 -> 0.55368212 | H65: =H23/H21 -> 0.5467858 | I65: =I23/I21 -> 0.54278545 | ... Y65: =Y23/Y21 -> 0.51298895
A66: Diferente municipio, misma comarca | B66: =B24/B21 -> 0.065525672 | C66: =C24/C21 -> 0.0657277 | D66: =D24/D21 -> 0.066018934 | E66: =E24/E21 -> 0.064460361 | F66: =F24/F21 -> 0.063394179 | G66: =G24/G21 -> 0.061988594 | H66: =H24/H21 -> 0.061057334 | I66: =I24/I21 -> 0.058720201 | ... Y66: =Y24/Y21 -> 0.045088086
A67: Diferente comarca, misma provincia | B67: =B25/B21 -> 0.25599022 | C67: =C25/C21 -> 0.25747467 | D67: =D25/D21 -> 0.25635277 | E67: =E25/E21 -> 0.25413682 | F67: =F25/F21 -> 0.24987667 | G67: =G25/G21 -> 0.24869824 | H67: =H25/H21 -> 0.24522214 | I67: =I25/I21 -> 0.23889586 | ... Y67: =Y25/Y21 -> 0.26903553
A68: Diferente provincia de la C. Valenciana | B68: =B26/B21 -> 0.0085574572 | C68: =C26/C21 -> 0.010130961 | D68: =D26/D21 -> 0.010961634 | E68: =E26/E21 -> 0.0098789825 | F68: =F26/F21 -> 0.0083867785 | G68: =G26/G21 -> 0.0084304488 | H68: =H26/H21 -> 0.0071978158 | I68: =I26/I21 -> 0.0072772898 | ... Y68: =Y26/Y21 -> 0.01224246
A69: Fuera de la C. Valenciana | B69: =B27/B21 -> 0.072616137 | C69: =C27/C21 -> 0.076105757 | D69: =D27/D21 -> 0.081963129 | E69: =E27/E21 -> 0.10669301 | F69: =F27/F21 -> 0.11840158 | G69: =G27/G21 -> 0.1272006 | H69: =H27/H21 -> 0.13973691 | I69: =I27/I21 -> 0.1523212 | ... Y69: =Y27/Y21 -> 0.16064497
A70: Resto de España | B70: =B28/B21 -> 0.061613692 | C70: =C28/C21 -> 0.059550284 | D70: =D28/D21 -> 0.059292476 | E70: =E28/E21 -> 0.057545073 | F70: =F28/F21 -> 0.05451406 | G70: =G28/G21 -> 0.057029507 | H70: =H28/H21 -> 0.058078928 | I70: =I28/I21 -> 0.05621079 | ... Y70: =Y28/Y21 -> 0.072558973
A71: Extranjero | B71: =B29/B21 -> 0.010757946 | C71: =C29/C21 -> 0.016555473 | D71: =D29/D21 -> 0.022670653 | E71: =E29/E21 -> 0.049147938 | F71: =F29/F21 -> 0.063887519 | G71: =G29/G21 -> 0.070171089 | H71: =H29/H21 -> 0.08165798 | I71: =I29/I21 -> 0.096110414 | ... Y71: =Y29/Y21 -> 0.088085996
A72: Fuente: Elaboración Social·Lab a partir de los datos del Portal Estadístic de la Generalitat Valenciana (PEGV)
A75: Mujeres | B75: 1999 | C75: 2000 | D75: 2001 | E75: 2002 | F75: 2003 | G75: 2004 | H75: 2005 | I75: 2006 | J75: 2007 | K75: 2008 | L75: 2009 | M75: 2010 | N75: 2011 | O75: 2012 | P75: 2013 | Q75: 2014 | R75: 2015 | S75: 2016 | T75: 2017 | U75: 2018 | V75: 2019 | W75: 2020 | X75: 2021 | Y75: 2022
A76: Total | B76: =B34/B34 -> 1 | C76: =C34/C34 -> 1 | D76: =D34/D34 -> 1 | E76: =E34/E34 -> 1 | F76: =F34/F34 -> 1 | G76: =G34/G34 -> 1 | H76: =H34/H34 -> 1 | I76: =I34/I34 -> 1 | ... Y76: =Y34/Y34 -> 1
A77: Nacidos en la C. Valenciana | B77: =B35/B34 -> 0.91251778 | C77: =C35/C34 -> 0.91221741 | D77: =D35/D34 -> 0.9102439 | E77: =E35/E34 -> 0.89627268 | F77: =F35/F34 -> 0.88121272 | G77: =G35/G34 -> 0.87231384 | H77: =H35/H34 -> 0.86361349 | I77: =I35/I34 -> 0.85332315 | ... Y77: =Y35/Y34 -> 0.82151665
A78: En el mismo municipio | B78: =B36/B34 -> 0.5979137 | C78: =C36/C34 -> 0.5964406 | D78: =D36/D34 -> 0.59170732 | E78: =E36/E34 -> 0.58092202 | F78: =F36/F34 -> 0.57107356 | G78: =G36/G34 -> 0.56396802 | H78: =H36/H34 -> 0.56064419 | I78: =I36/I34 -> 0.55385791 | ... Y78: =Y36/Y34 -> 0.51048089
A79: Diferente municipio, misma comarca | B79: =B37/B34 -> 0.092697961 | C79: =C37/C34 -> 0.08994709 | D79: =D37/D34 -> 0.09 | E79: =E37/E34 -> 0.087297695 | F79: =F37/F34 -> 0.086481113 | G79: =G37/G34 -> 0.083458271 | H79: =H37/H34 -> 0.081529945 | I79: =I37/I34 -> 0.080468551 | ... Y79: =Y37/Y34 -> 0.072749692
A80: Diferente comarca, misma provincia | B80: =B38/B34 -> 0.21289711 | C80: =C38/C34 -> 0.21572872 | D80: =D38/D34 -> 0.21780488 | E80: =E38/E34 -> 0.21848946 | F80: =F38/F34 -> 0.21371769 | G80: =G38/G34 -> 0.21489255 | H80: =H38/H34 -> 0.2118772 | I80: =I38/I34 -> 0.20906544 | ... Y80: =Y38/Y34 -> 0.21824908
A81: Diferente provincia de la C. Valenciana | B81: =B39/B34 -> 0.0087719298 | C81: =C39/C34 -> 0.01010101 | D81: =D39/D34 -> 0.010731707 | E81: =E39/E34 -> 0.0095635115 | F81: =F39/F34 -> 0.0099403579 | G81: =G39/G34 -> 0.0099950025 | H81: =H39/H34 -> 0.009562154 | I81: =I39/I34 -> 0.0099312452 | ... Y81: =Y39/Y34 -> 0.020036991
A82: Fuera de la C. Valenciana | B82: =B40/B34 -> 0.087482219 | C82: =C40/C34 -> 0.087782588 | D82: =D40/D34 -> 0.089756098 | E82: =E40/E34 -> 0.10372732 | F82: =F40/F34 -> 0.11878728 | G82: =G40/G34 -> 0.12768616 | H82: =H40/H34 -> 0.13638651 | I82: =I40/I34 -> 0.14667685 | ... Y82: =Y40/Y34 -> 0.17848335
A83: Resto de España | B83: =B41/B34 -> 0.079184448 | C83: =C41/C34 -> 0.078643579 | D83: =D41/D34 -> 0.077317073 | E83: =E41/E34 -> 0.079205493 | F83: =F41/F34 -> 0.079025845 | G83: =G41/G34 -> 0.078210895 | H83: =H41/H34 -> 0.077252139 | I83: =I41/I34 -> 0.076903489 | ... Y83: =Y41/Y34 -> 0.084771887
A84: Extranjero | B84: =B42/B34 -> 0.0082977715 | C84: =C42/C34 -> 0.0091390091 | D84: =D42/D34 -> 0.012439024 | E84: =E42/E34 -> 0.024521824 | F84: =F42/F34 -> 0.039761431 | G84: =G42/G34 -> 0.049475262 | H84: =H42/H34 -> 0.059134373 | I84: =I42/I34 -> 0.069773364 | ... Y84: =Y42/Y34 -> 0.093711467
A85: Fuente: Elaboración Social·Lab a partir de los datos del Portal Estadístic de la Generalitat Valenciana (PEGV)

Sheet Nacimiento (Esp-ext)
A1: L'Alt Maestrat
A2: 2. Nacidos en España o en el extranjero. Evolución 1999-2022
A5: 2.1. Nacidos en España o en el extranjero (datos absolutos)
A7: Ambos sexos | B7: 1999 | C7: 2000 | D7: 2001 | E7: 2002 | F7: 2003 | G7: 2004 | H7: 2005 | I7: 2006 | J7: 2007 | K7: 2008 | L7: 2009 | M7: 2010 | N7: 2011 | O7: 2012 | P7: 2013 | Q7: 2014 | R7: 2015 | S7: 2016 | T7: 2017 | U7: 2018 | V7: 2019 | W7: 2020 | X7: 2021 | Y7: 2022
A8: Total | B8: =B14+B21 -> 8308 | C8: =C14+C21 -> 8205 | D8: =D14+D21 -> 8114 | E8: =E14+E21 -> 8127 | F8: =F14+F21 -> 8078 | G8: =G14+G21 -> 8035 | H8: =H14+H21 -> 8003 | I8: =I14+I21 -> 7912 | ... Y8: =Y14+Y21 -> 6593
A9: Nacidos en España | B9: =B15+B22 -> 8229 | C9: =C15+C22 -> 8100 | D9: =D15+D22 -> 7972 | E9: =E15+E22 -> 7828 | F9: =F15+F22 -> 7659 | G9: =G15+G22 -> 7554 | H9: =H15+H22 -> 7439 | I9: =I15+I22 -> 7255 | ... Y9: =Y15+Y22 -> 5994
A10: Nacidos en el extranjero | B10: =B16+B23 -> 79 | C10: =C16+C23 -> 105 | D10: =D16+D23 -> 142 | E10: =E16+E23 -> 299 | F10: =F16+F23 -> 419 | G10: =G16+G23 -> 481 | H10: =H16+H23 -> 564 | I10: =I16+I23 -> 657 | ... Y10: =Y16+Y23 -> 599
A11: Fuente: Portal Estadístic de la Generalitat Valenciana (PEGV)
A13: Hombres | B13: 1999 | C13: 2000 | D13: 2001 | E13: 2002 | F13: 2003 | G13: 2004 | H13: 2005 | I13: 2006 | J13: 2007 | K13: 2008 | L13: 2009 | M13: 2010 | N13: 2011 | O13: 2012 | P13: 2013 | Q13: 2014 | R13: 2015 | S13: 2016 | T13: 2017 | U13: 2018 | V13: 2019 | W13: 2020 | X13: 2021 | Y13: 2022
A14: Total | B14: 4090 | C14: 4047 | D14: 4014 | E14: 4049 | F14: 4054 | G14: 4033 | H14: 4029 | I14: 3985 | J14: 3958 | K14: 4030 | L14: 4010 | M14: 3996 | N14: 3949 | O14: 3900 | P14: 3816 | Q14: 3655 | R14: 3605 | S14: 3543 | T14: 3440 | U14: 3412 | V14: 3377 | W14: 3350 | X14: 3367 | Y14: 3349
A15: Nacidos en España | B15: =B14-B16 -> 4046 | C15: =C14-C16 -> 3980 | D15: =D14-D16 -> 3923 | E15: =E14-E16 -> 3850 | F15: =F14-F16 -> 3795 | G15: =G14-G16 -> 3750 | H15: =H14-H16 -> 3700 | I15: =I14-I16 -> 3602 | ... Y15: =Y14-Y16 -> 3054
A16: Nacidos en el extranjero | B16: 44 | C16: 67 | D16: 91 | E16: 199 | F16: 259 | G16: 283 | H16: 329 | I16: 383 | J16: 399 | K16: 499 | L16: 501 | M16: 513 | N16: 490 | O16: 477 | P16: 461 | Q16: 379 | R16: 338 | S16: 311 | T16: 278 | U16: 266 | V16: 266 | W16: 272 | X16: 295 | Y16: 295
A17: Fuente: Portal Estadístic de la Generalitat Valenciana (PEGV)
A20: Mujeres | B20: 1999 | C20: 2000 | D20: 2001 | E20: 2002 | F20: 2003 | G20: 2004 | H20: 2005 | I20: 2006 | J20: 2007 | K20: 2008 | L20: 2009 | M20: 2010 | N20: 2011 | O20: 2012 | P20: 2013 | Q20: 2014 | R20: 2015 | S20: 2016 | T20: 2017 | U20: 2018 | V20: 2019 | W20: 2020 | X20: 2021 | Y20: 2022
A21: Total | B21: 4218 | C21: 4158 | D21: 4100 | E21: 4078 | F21: 4024 | G21: 4002 | H21: 3974 | I21: 3927 | J21: 3888 | K21: 3918 | L21: 3924 | M21: 3902 | N21: 3872 | O21: 3815 | P21: 3720 | Q21: 3605 | R21: 3523 | S21: 3494 | T21: 3432 | U21: 3333 | V21: 3280 | W21: 3272 | X21: 3301 | Y21: 3244
A22: Nacidos en España | B22: =B21-B23 -> 4183 | C22: =C21-C23 -> 4120 | D22: =D21-D23 -> 4049 | E22: =E21-E23 -> 3978 | F22: =F21-F23 -> 3864 | G22: =G21-G23 -> 3804 | H22: =H21-H23 -> 3739 | I22: =I21-I23 -> 3653 | ... Y22: =Y21-Y23 -> 2940
A23: Nacidos en el extranjero | B23: 35 | C23: 38 | D23: 51 | E23: 100 | F23: 160 | G23: 198 | H23: 235 | I23: 274 | J23: 292 | K23: 366 | L23: 387 | M23: 414 | N23: 417 | O23: 416 | P23: 381 | Q23: 347 | R23: 327 | S23: 321 | T23: 302 | U23: 285 | V23: 268 | W23: 288 | X23: 318 | Y23: 304
A24: Fuente: Portal Estadístic de la Generalitat Valenciana (PEGV)
A28: 2.2. Proporción de nacidos en España o en el extranjero
A30: Ambos sexos | B30: 1999 | C30: 2000 | D30: 2001 | E30: 2002 | F30: 2003 | G30: 2004 | H30: 2005 | I30: 2006 | J30: 2007 | K30: 2008 | L30: 2009 | M30: 2010 | N30: 2011 | O30: 2012 | P30: 2013 | Q30: 2014 | R30: 2015 | S30: 2016 | T30: 2017 | U30: 2018 | V30: 2019 | W30: 2020 | X30: 2021 | Y30: 2022
A31: Nacidos en España | B31: =B9/B8 -> 0.99049109 | C31: =C9/C8 -> 0.98720293 | D31: =D9/D8 -> 0.98249938 | E31: =E9/E8 -> 0.96320906 | F31: =F9/F8 -> 0.94813073 | G31: =G9/G8 -> 0.9401369 | H31: =H9/H8 -> 0.92952643 | I31: =I9/I8 -> 0.91696158 | ... Y31: =Y9/Y8 -> 0.90914606
A32: Nacidos en el extranjero | B32: =B10/B8 -> 0.0095089071 | C32: =C10/C8 -> 0.012797075 | D32: =D10/D8 -> 0.017500616 | E32: =E10/E8 -> 0.036790944 | F32: =F10/F8 -> 0.051869275 | G32: =G10/G8 -> 0.059863099 | H32: =H10/H8 -> 0.070473572 | I32: =I10/I8 -> 0.083038423 | ... Y32: =Y10/Y8 -> 0.090853936
A33: Total | B33: =B31+B32 -> 1 | C33: =C31+C32 -> 1 | D33: =D31+D32 -> 1 | E33: =E31+E32 -> 1 | F33: =F31+F32 -> 1 | G33: =G31+G32 -> 1 | H33: =H31+H32 -> 1 | I33: =I31+I32 -> 1 | ... Y33: =Y31+Y32 -> 1
A34: Fuente: Elaboración Social·Lab a partir de los datos del Portal Estadístic de la Generalitat Valenciana (PEGV)
A37: Hombres | B37: 1999 | C37: 2000 | D37: 2001 | E37: 2002 | F37: 2003 | G37: 2004 | H37: 2005 | I37: 2006 | J37: 2007 | K37: 2008 | L37: 2009 | M37: 2010 | N37: 2011 | O37: 2012 | P37: 2013 | Q37: 2014 | R37: 2015 | S37: 2016 | T37: 2017 | U37: 2018 | V37: 2019 | W37: 2020 | X37: 2021 | Y37: 2022
A38: Nacidos en España | B38: =B15/B14 -> 0.98924205 | C38: =C15/C14 -> 0.98344453 | D38: =D15/D14 -> 0.97732935 | E38: =E15/E14 -> 0.95085206 | F38: =F15/F14 -> 0.93611248 | G38: =G15/G14 -> 0.92982891 | H38: =H15/H14 -> 0.91834202 | I38: =I15/I14 -> 0.90388959 | ... Y38: =Y15/Y14 -> 0.911914
A39: Nacidos en el extranjero | B39: =B16/B14 -> 0.010757946 | C39: =C16/C14 -> 0.016555473 | D39: =D16/D14 -> 0.022670653 | E39: =E16/E14 -> 0.049147938 | F39: =F16/F14 -> 0.063887519 | G39: =G16/G14 -> 0.070171089 | H39: =H16/H14 -> 0.08165798 | I39: =I16/I14 -> 0.096110414 | ... Y39: =Y16/Y14 -> 0.088085996
A40: Total | B40: =B38+B39 -> 1 | C40: =C38+C39 -> 1 | D40: =D38+D39 -> 1 | E40: =E38+E39 -> 1 | F40: =F38+F39 -> 1 | G40: =G38+G39 -> 1 | H40: =H38+H39 -> 1 | I40: =I38+I39 -> 1 | ... Y40: =Y38+Y39 -> 1
A41: Fuente: Elaboración Social·Lab a partir de los datos del Portal Estadístic de la Generalitat Valenciana (PEGV)
A44: Mujeres | B44: 1999 | C44: 2000 | D44: 2001 | E44: 2002 | F44: 2003 | G44: 2004 | H44: 2005 | I44: 2006 | J44: 2007 | K44: 2008 | L44: 2009 | M44: 2010 | N44: 2011 | O44: 2012 | P44: 2013 | Q44: 2014 | R44: 2015 | S44: 2016 | T44: 2017 | U44: 2018 | V44: 2019 | W44: 2020 | X44: 2021 | Y44: 2022
A45: Nacidos en España | B45: =B22/B21 -> 0.99170223 | C45: =C22/C21 -> 0.99086099 | D45: =D22/D21 -> 0.98756098 | E45: =E22/E21 -> 0.97547818 | F45: =F22/F21 -> 0.96023857 | G45: =G22/G21 -> 0.95052474 | H45: =H22/H21 -> 0.94086563 | I45: =I22/I21 -> 0.93022664 | ... Y45: =Y22/Y21 -> 0.90628853
A46: Nacidos en el extranjero | B46: =B23/B21 -> 0.0082977715 | C46: =C23/C21 -> 0.0091390091 | D46: =D23/D21 -> 0.012439024 | E46: =E23/E21 -> 0.024521824 | F46: =F23/F21 -> 0.039761431 | G46: =G23/G21 -> 0.049475262 | H46: =H23/H21 -> 0.059134373 | I46: =I23/I21 -> 0.069773364 | ... Y46: =Y23/Y21 -> 0.093711467
A47: Total | B47: =B45+B46 -> 1 | C47: =C45+C46 -> 1 | D47: =D45+D46 -> 1 | E47: =E45+E46 -> 1 | F47: =F45+F46 -> 1 | G47: =G45+G46 -> 1 | H47: =H45+H46 -> 1 | I47: =I45+I46 -> 1 | ... Y47: =Y45+Y46 -> 1
A48: Fuente: Elaboración Social·Lab a partir de los datos del Portal Estadístic de la Generalitat Valenciana (PEGV)
A52: 2.3. Comparación hombres y mujeres nacidos en España o en el extranjero (porcentaje)
B54: 1999 | C54: 2000 | D54: 2001 | E54: 2002 | F54: 2003 | G54: 2004 | H54: 2005 | I54: 2006 | J54: 2007 | K54: 2008 | L54: 2009 | M54: 2010 | N54: 2011 | O54: 2012 | P54: 2013 | Q54: 2014 | R54: 2015 | S54: 2016 | T54: 2017 | U54: 2018 | V54: 2019 | W54: 2020 | X54: 2021 | Y54: 2022
A55: Total | B55: =B10 -> 79 | C55: =C10 -> 105 | D55: =D10 -> 142 | E55: =E10 -> 299 | F55: =F10 -> 419 | G55: =G10 -> 481 | H55: =H10 -> 564 | I55: =I10 -> 657 | ... Y55: =Y10 -> 599
A56: Hombres nacidos en el extranjero | B56: =B16 -> 44 | C56: =C16 -> 67 | D56: =D16 -> 91 | E56: =E16 -> 199 | F56: =F16 -> 259 | G56: =G16 -> 283 | H56: =H16 -> 329 | I56: =I16 -> 383 | ... Y56: =Y16 -> 295
A57: Mujeres nacidas en el extranjero | B57: =B23 -> 35 | C57: =C23 -> 38 | D57: =D23 -> 51 | E57: =E23 -> 100 | F57: =F23 -> 160 | G57: =G23 -> 198 | H57: =H23 -> 235 | I57: =I23 -> 274 | ... Y57: =Y23 -> 304
A58: Fuente: Elaboración Social·Lab a partir de los datos del Portal Estadístic de la Generalitat Valenciana (PEGV)
B61: 1999 | C61: 2000 | D61: 2001 | E61: 2002 | F61: 2003 | G61: 2004 | H61: 2005 | I61: 2006 | J61: 2007 | K61: 2008 | L61: 2009 | M61: 2010 | N61: 2011 | O61: 2012 | P61: 2013 | Q61: 2014 | R61: 2015 | S61: 2016 | T61: 2017 | U61: 2018 | V61: 2019 | W61: 2020 | X61: 2021 | Y61: 2022
A62: Hombres nacidos en el extranjero | B62: =B56/B55 -> 0.55696203 | C62: =C56/C55 -> 0.63809524 | D62: =D56/D55 -> 0.64084507 | E62: =E56/E55 -> 0.66555184 | F62: =F56/F55 -> 0.61813842 | G62: =G56/G55 -> 0.58835759 | H62: =H56/H55 -> 0.58333333 | I62: =I56/I55 -> 0.58295282 | ... Y62: =Y56/Y55 -> 0.49248748
A63: Mujeres nacidas en el extranjero | B63: =B57/B55 -> 0.44303797 | C63: =C57/C55 -> 0.36190476 | D63: =D57/D55 -> 0.35915493 | E63: =E57/E55 -> 0.33444816 | F63: =F57/F55 -> 0.38186158 | G63: =G57/G55 -> 0.41164241 | H63: =H57/H55 -> 0.41666667 | I63: =I57/I55 -> 0.41704718 | ... Y63: =Y57/Y55 -> 0.50751252
A64: Total | B64: =SUM(B62:B63) -> 1 | C64: =SUM(C62:C63) -> 1 | D64: =SUM(D62:D63) -> 1 | E64: =SUM(E62:E63) -> 1 | F64: =SUM(F62:F63) -> 1 | G64: =SUM(G62:G63) -> 1 | H64: =SUM(H62:H63) -> 1 | I64: =SUM(I62:I63) -> 1 | ... Y64: =SUM(Y62:Y63) -> 1
A65: Fuente: Elaboración Social·Lab a partir de los datos del Portal Estadístic de la Generalitat Valenciana (PEGV)

Sheet Nacionalidad (esp-extr)
A1: L'Alt Maestrat
A2: 3. Nacionalidad española o extranjera. Evolución 2000-2022
A5: 3.1. Nacionalidad española o extranjera (datos absolutos)
A7: Ambos sexos | B7: 2000 | C7: 2001 | D7: 2002 | E7: 2003 | F7: 2004 | G7: 2005 | H7: 2006 | I7: 2007 | J7: 2008 | K7: 2009 | L7: 2010 | M7: 2011 | N7: 2012 | O7: 2013 | P7: 2014 | Q7: 2015 | R7: 2016 | S7: 2017 | T7: 2018 | U7: 2019 | V7: 2020 | W7: 2021 | X7: 2022
A8: Total | B8: =B9+B10 -> 8205 | C8: =C9+C10 -> 8114 | D8: =D9+D10 -> 8127 | E8: =E9+E10 -> 8078 | F8: =F9+F10 -> 8035 | G8: =G9+G10 -> 8003 | H8: =H9+H10 -> 7912 | I8: =I9+I10 -> 7846 | ... X8: =X9+X10 -> 6593
A9: Nacionalidad española | B9: 8138 | C9: 8007 | D9: 7860 | E9: 7699 | F9: 7595 | G9: 7473 | H9: 7276 | I9: 7163 | J9: 7085 | K9: 7040 | L9: 6959 | M9: 6891 | N9: 6792 | O9: 6662 | P9: 6499 | Q9: 6424 | R9: 6364 | S9: 6254 | T9: 6146 | U9: 6063 | V9: 6007 | W9: 6026 | X9: 5967
A10: Nacionalidad extranjera | B10: 67 | C10: 107 | D10: 267 | E10: 379 | F10: 440 | G10: 530 | H10: 636 | I10: 683 | J10: 863 | K10: 894 | L10: 939 | M10: 930 | N10: 923 | O10: 874 | P10: 761 | Q10: 704 | R10: 673 | S10: 618 | T10: 599 | U10: 594 | V10: 615 | W10: 642 | X10: 626
A11: Fuente: Portal Estadístic de la Generalitat Valenciana (PEGV)
A14: Hombres | B14: 2000 | C14: 2001 | D14: 2002 | E14: 2003 | F14: 2004 | G14: 2005 | H14: 2006 | I14: 2007 | J14: 2008 | K14: 2009 | L14: 2010 | M14: 2011 | N14: 2012 | O14: 2013 | P14: 2014 | Q14: 2015 | R14: 2016 | S14: 2017 | T14: 2018 | U14: 2019 | V14: 2020 | W14: 2021 | X14: 2022
A15: Total | B15: =B16+B17 -> 4047 | C15: =C16+C17 -> 4014 | D15: =D16+D17 -> 4049 | E15: =E16+E17 -> 4054 | F15: =F16+F17 -> 4033 | G15: =G16+G17 -> 4029 | H15: =H16+H17 -> 3985 | I15: =I16+I17 -> 3958 | ... X15: =X16+X17 -> 3349
A16: Nacionalidad española | B16: 3997 | C16: 3938 | D16: 3867 | E16: 3816 | F16: 3774 | G16: 3717 | H16: 3609 | I16: 3560 | J16: 3526 | K16: 3497 | L16: 3473 | M16: 3440 | N16: 3395 | O16: 3324 | P16: 3245 | Q16: 3236 | R16: 3200 | S16: 3135 | T16: 3114 | U16: 3072 | V16: 3042 | W16: 3045 | X16: 3028
A17: Nacionalidad extranjera | B17: 50 | C17: 76 | D17: 182 | E17: 238 | F17: 259 | G17: 312 | H17: 376 | I17: 398 | J17: 504 | K17: 513 | L17: 523 | M17: 509 | N17: 505 | O17: 492 | P17: 410 | Q17: 369 | R17: 343 | S17: 305 | T17: 298 | U17: 305 | V17: 308 | W17: 322 | X17: 321
A18: Fuente: Portal Estadístic de la Generalitat Valenciana (PEGV)
A21: Mujeres | B21: 2000 | C21: 2001 | D21: 2002 | E21: 2003 | F21: 2004 | G21: 2005 | H21: 2006 | I21: 2007 | J21: 2008 | K21: 2009 | L21: 2010 | M21: 2011 | N21: 2012 | O21: 2013 | P21: 2014 | Q21: 2015 | R21: 2016 | S21: 2017 | T21: 2018 | U21: 2019 | V21: 2020 | W21: 2021 | X21: 2022
A22: Total | B22: =B23+B24 -> 4158 | C22: =C23+C24 -> 4100 | D22: =D23+D24 -> 4078 | E22: =E23+E24 -> 4024 | F22: =F23+F24 -> 4002 | G22: =G23+G24 -> 3974 | H22: =H23+H24 -> 3927 | I22: =I23+I24 -> 3888 | ... X22: =X23+X24 -> 3244
A23: Nacionalidad española | B23: 4141 | C23: 4069 | D23: 3993 | E23: 3883 | F23: 3821 | G23: 3756 | H23: 3667 | I23: 3603 | J23: 3559 | K23: 3543 | L23: 3486 | M23: 3451 | N23: 3397 | O23: 3338 | P23: 3254 | Q23: 3188 | R23: 3164 | S23: 3119 | T23: 3032 | U23: 2991 | V23: 2965 | W23: 2981 | X23: 2939
A24: Nacionalidad extranjera | B24: 17 | C24: 31 | D24: 85 | E24: 141 | F24: 181 | G24: 218 | H24: 260 | I24: 285 | J24: 359 | K24: 381 | L24: 416 | M24: 421 | N24: 418 | O24: 382 | P24: 351 | Q24: 335 | R24: 330 | S24: 313 | T24: 301 | U24: 289 | V24: 307 | W24: 320 | X24: 305
A25: Fuente: Portal Estadístic de la Generalitat Valenciana (PEGV)
A29: 3.2. Proporción de nacionalidad española o extranjera
A31: Ambos sexos | B31: 2000 | C31: 2001 | D31: 2002 | E31: 2003 | F31: 2004 | G31: 2005 | H31: 2006 | I31: 2007 | J31: 2008 | K31: 2009 | L31: 2010 | M31: 2011 | N31: 2012 | O31: 2013 | P31: 2014 | Q31: 2015 | R31: 2016 | S31: 2017 | T31: 2018 | U31: 2019 | V31: 2020 | W31: 2021 | X31: 2022
A32: Nacionalidad española | B32: =B9/B8 -> 0.99183425 | C32: =C9/C8 -> 0.98681292 | D32: =D9/D8 -> 0.96714655 | E32: =E9/E8 -> 0.95308245 | F32: =F9/F8 -> 0.94523958 | G32: =G9/G8 -> 0.93377483 | H32: =H9/H8 -> 0.91961577 | I32: =I9/I8 -> 0.91294927 | ... X32: =X9/X8 -> 0.90505081
A33: Nacionalidad extranjera | B33: =B10/B8 -> 0.0081657526 | C33: =C10/C8 -> 0.013187084 | D33: =D10/D8 -> 0.032853451 | E33: =E10/E8 -> 0.046917554 | F33: =F10/F8 -> 0.054760423 | G33: =G10/G8 -> 0.066225166 | H33: =H10/H8 -> 0.080384226 | I33: =I10/I8 -> 0.087050726 | ... X33: =X10/X8 -> 0.094949189
A34: Total | B34: =SUM(B32:B33) -> 1 | C34: =SUM(C32:C33) -> 1 | D34: =SUM(D32:D33) -> 1 | E34: =SUM(E32:E33) -> 1 | F34: =SUM(F32:F33) -> 1 | G34: =SUM(G32:G33) -> 1 | H34: =SUM(H32:H33) -> 1 | I34: =SUM(I32:I33) -> 1 | ... X34: =SUM(X32:X33) -> 1
A35: Fuente: Elaboración Social·Lab a partir de los datos del Portal Estadístic de la Generalitat Valenciana (PEGV)
A38: Hombres | B38: 2000 | C38: 2001 | D38: 2002 | E38: 2003 | F38: 2004 | G38: 2005 | H38: 2006 | I38: 2007 | J38: 2008 | K38: 2009 | L38: 2010 | M38: 2011 | N38: 2012 | O38: 2013 | P38: 2014 | Q38: 2015 | R38: 2016 | S38: 2017 | T38: 2018 | U38: 2019 | V38: 2020 | W38: 2021 | X38: 2022
A39: Nacionalidad española | B39: =B16/B15 -> 0.98764517 | C39: =C16/C15 -> 0.98106627 | D39: =D16/D15 -> 0.95505063 | E39: =E16/E15 -> 0.94129255 | F39: =F16/F15 -> 0.93577982 | G39: =G16/G15 -> 0.92256143 | H39: =H16/H15 -> 0.90564617 | I39: =I16/I15 -> 0.89944416 | ... X39: =X16/X15 -> 0.90415049
A40: Nacionalidad extranjera | B40: =B17/B15 -> 0.012354831 | C40: =C17/C15 -> 0.018933732 | D40: =D17/D15 -> 0.04494937 | E40: =E17/E15 -> 0.058707449 | F40: =F17/F15 -> 0.064220183 | G40: =G17/G15 -> 0.07743857 | H40: =H17/H15 -> 0.094353827 | I40: =I17/I15 -> 0.10055584 | ... X40: =X17/X15 -> 0.095849507
A41: Total | B41: =SUM(B39:B40) -> 1 | C41: =SUM(C39:C40) -> 1 | D41: =SUM(D39:D40) -> 1 | E41: =SUM(E39:E40) -> 1 | F41: =SUM(F39:F40) -> 1 | G41: =SUM(G39:G40) -> 1 | H41: =SUM(H39:H40) -> 1 | I41: =SUM(I39:I40) -> 1 | ... X41: =SUM(X39:X40) -> 1
A42: Fuente: Elaboración Social·Lab a partir de los datos del Portal Estadístic de la Generalitat Valenciana (PEGV)
A45: Mujeres | B45: 2000 | C45: 2001 | D45: 2002 | E45: 2003 | F45: 2004 | G45: 2005 | H45: 2006 | I45: 2007 | J45: 2008 | K45: 2009 | L45: 2010 | M45: 2011 | N45: 2012 | O45: 2013 | P45: 2014 | Q45: 2015 | R45: 2016 | S45: 2017 | T45: 2018 | U45: 2019 | V45: 2020 | W45: 2021 | X45: 2022
A46: Nacionalidad española | B46: =B23/B22 -> 0.9959115 | C46: =C23/C22 -> 0.99243902 | D46: =D23/D22 -> 0.97915645 | E46: =E23/E22 -> 0.96496024 | F46: =F23/F22 -> 0.95477261 | G46: =G23/G22 -> 0.94514343 | H46: =H23/H22 -> 0.9337917 | I46: =I23/I22 -> 0.92669753 | ... X46: =X23/X22 -> 0.90598027
A47: Nacionalidad extranjera | B47: =B24/B22 -> 0.0040885041 | C47: =C24/C22 -> 0.0075609756 | D47: =D24/D22 -> 0.020843551 | E47: =E24/E22 -> 0.035039761 | F47: =F24/F22 -> 0.045227386 | G47: =G24/G22 -> 0.054856568 | H47: =H24/H22 -> 0.066208302 | I47: =I24/I22 -> 0.073302469 | ... X47: =X24/X22 -> 0.094019729
A48: Total | B48: =SUM(B46:B47) -> 1 | C48: =SUM(C46:C47) -> 1 | D48: =SUM(D46:D47) -> 1 | E48: =SUM(E46:E47) -> 1 | F48: =SUM(F46:F47) -> 1 | G48: =SUM(G46:G47) -> 1 | H48: =SUM(H46:H47) -> 1 | I48: =SUM(I46:I47) -> 1 | ... X48: =SUM(X46:X47) -> 1
A49: Fuente: Elaboración Social·Lab a partir de los datos del Portal Estadístic de la Generalitat Valenciana (PEGV)
A53: 3.3. Comparación hombres y mujeres según nacionalidad española o extranjera
B55: 2000 | C55: 2001 | D55: 2002 | E55: 2003 | F55: 2004 | G55: 2005 | H55: 2006 | I55: 2007 | J55: 2008 | K55: 2009 | L55: 2010 | M55: 2011 | N55: 2012 | O55: 2013 | P55: 2014 | Q55: 2015 | R55: 2016 | S55: 2017 | T55: 2018 | U55: 2019 | V55: 2020 | W55: 2021 | X55: 2022
A56: Total | B56: =B10 -> 67 | C56: =C10 -> 107 | D56: =D10 -> 267 | E56: =E10 -> 379 | F56: =F10 -> 440 | G56: =G10 -> 530 | H56: =H10 -> 636 | I56: =I10 -> 683 | ... X56: =X10 -> 626
A57: Hombres nacionalidad extranjera | B57: =B17 -> 50 | C57: =C17 -> 76 | D57: =D17 -> 182 | E57: =E17 -> 238 | F57: =F17 -> 259 | G57: =G17 -> 312 | H57: =H17 -> 376 | I57: =I17 -> 398 | ... X57: =X17 -> 321
A58: Mujeres nacionalidad extranjera | B58: =B24 -> 17 | C58: =C24 -> 31 | D58: =D24 -> 85 | E58: =E24 -> 141 | F58: =F24 -> 181 | G58: =G24 -> 218 | H58: =H24 -> 260 | I58: =I24 -> 285 | ... X58: =X24 -> 305
A59: Fuente: Elaboración Social·Lab a partir de los datos del Portal Estadístic de la Generalitat Valenciana (PEGV)
B62: 2000 | C62: 2001 | D62: 2002 | E62: 2003 | F62: 2004 | G62: 2005 | H62: 2006 | I62: 2007 | J62: 2008 | K62: 2009 | L62: 2010 | M62: 2011 | N62: 2012 | O62: 2013 | P62: 2014 | Q62: 2015 | R62: 2016 | S62: 2017 | T62: 2018 | U62: 2019 | V62: 2020 | W62: 2021 | X62: 2022
A63: Hombres nacionalidad extranjera | B63: =B57/B56 -> 0.74626866 | C63: =C57/C56 -> 0.71028037 | D63: =D57/D56 -> 0.68164794 | E63: =E57/E56 -> 0.62796834 | F63: =F57/F56 -> 0.58863636 | G63: =G57/G56 -> 0.58867925 | H63: =H57/H56 -> 0.59119497 | I63: =I57/I56 -> 0.58272328 | ... X63: =X57/X56 -> 0.51277955
A64: Mujeres nacionalidad extranjera | B64: =B58/B56 -> 0.25373134 | C64: =C58/C56 -> 0.28971963 | D64: =D58/D56 -> 0.31835206 | E64: =E58/E56 -> 0.37203166 | F64: =F58/F56 -> 0.41136364 | G64: =G58/G56 -> 0.41132075 | H64: =H58/H56 -> 0.40880503 | I64: =I58/I56 -> 0.41727672 | ... X64: =X58/X56 -> 0.48722045
A65: Total | B65: =SUM(B63:B64) -> 1 | C65: =SUM(C63:C64) -> 1 | D65: =SUM(D63:D64) -> 1 | E65: =SUM(E63:E64) -> 1 | F65: =SUM(F63:F64) -> 1 | G65: =SUM(G63:G64) -> 1 | H65: =SUM(H63:H64) -> 1 | I65: =SUM(I63:I64) -> 1 | ... X65: =SUM(X63:X64) -> 1
A66: Fuente: Elaboración Social·Lab a partir de los datos del Portal Estadístic de la Generalitat Valenciana (PEGV)

Sheet Variación interanual
A1: L'Alt Maestrat
A2: 4. Variación interanual de los españoles y extranjeros. Evolución 2001-2022
A5: 4.1. Variación interanual de los españoles y extranjeros (datos absolutos)
A7: Ambos sexos | B7: 2001 | C7: 2002 | D7: 2003 | E7: 2004 | F7: 2005 | G7: 2006 | H7: 2007 | I7: 2008 | J7: 2009 | K7: 2010 | L7: 2011 | M7: 2012 | N7: 2013 | O7: 2014 | P7: 2015 | Q7: 2016 | R7: 2017 | S7: 2018 | T7: 2019 | U7: 2020 | V7: 2021 | W7: 2022
A8: Variación Interanual TOTAL | B8: ='Nacionalidad (esp-extr)'!C8-'Nacionalidad (esp-extr)'!B8 -> -91 | C8: ='Nacionalidad (esp-extr)'!D8-'Nacionalidad (esp-extr)'!C8 -> 13 | D8: ='Nacionalidad (esp-extr)'!E8-'Nacionalidad (esp-extr)'!D8 -> -49 | E8: ='Nacionalidad (esp-extr)'!F8-'Nacionalidad (esp-extr)'!E8 -> -43 | F8: ='Nacionalidad (esp-extr)'!G8-'Nacionalidad (esp-extr)'!F8 -> -32 | G8: ='Nacionalidad (esp-extr)'!H8-'Nacionalidad (esp-extr)'!G8 -> -91 | H8: ='Nacionalidad (esp-extr)'!I8-'Nacionalidad (esp-extr)'!H8 -> -66 | I8: ='Nacionalidad (esp-extr)'!J8-'Nacionalidad (esp-extr)'!I8 -> 102 | ... W8: ='Nacionalidad (esp-extr)'!X8-'Nacionalidad (esp-extr)'!W8 -> -75
A9: Variación interanual españoles | B9: ='Nacionalidad (esp-extr)'!C9-'Nacionalidad (esp-extr)'!B9 -> -131 | C9: ='Nacionalidad (esp-extr)'!D9-'Nacionalidad (esp-extr)'!C9 -> -147 | D9: ='Nacionalidad (esp-extr)'!E9-'Nacionalidad (esp-extr)'!D9 -> -161 | E9: ='Nacionalidad (esp-extr)'!F9-'Nacionalidad (esp-extr)'!E9 -> -104 | F9: ='Nacionalidad (esp-extr)'!G9-'Nacionalidad (esp-extr)'!F9 -> -122 | G9: ='Nacionalidad (esp-extr)'!H9-'Nacionalidad (esp-extr)'!G9 -> -197 | H9: ='Nacionalidad (esp-extr)'!I9-'Nacionalidad (esp-extr)'!H9 -> -113 | I9: ='Nacionalidad (esp-extr)'!J9-'Nacionalidad (esp-extr)'!I9 -> -78 | ... W9: ='Nacionalidad (esp-extr)'!X9-'Nacionalidad (esp-extr)'!W9 -> -59
A10: Variación interanual extranjeros | B10: ='Nacionalidad (esp-extr)'!C10-'Nacionalidad (esp-extr)'!B10 -> 40 | C10: ='Nacionalidad (esp-extr)'!D10-'Nacionalidad (esp-extr)'!C10 -> 160 | D10: ='Nacionalidad (esp-extr)'!E10-'Nacionalidad (esp-extr)'!D10 -> 112 | E10: ='Nacionalidad (esp-extr)'!F10-'Nacionalidad (esp-extr)'!E10 -> 61 | F10: ='Nacionalidad (esp-extr)'!G10-'Nacionalidad (esp-extr)'!F10 -> 90 | G10: ='Nacionalidad (esp-extr)'!H10-'Nacionalidad (esp-extr)'!G10 -> 106 | H10: ='Nacionalidad (esp-extr)'!I10-'Nacionalidad (esp-extr)'!H10 -> 47 | I10: ='Nacionalidad (esp-extr)'!J10-'Nacionalidad (esp-extr)'!I10 -> 180 | ... W10: ='Nacionalidad (esp-extr)'!X10-'Nacionalidad (esp-extr)'!W10 -> -16
A11: Fuente: Portal Estadístic de la Generalitat Valenciana (PEGV)
A14: Hombres | B14: 2001 | C14: 2002 | D14: 2003 | E14: 2004 | F14: 2005 | G14: 2006 | H14: 2007 | I14: 2008 | J14: 2009 | K14: 2010 | L14: 2011 | M14: 2012 | N14: 2013 | O14: 2014 | P14: 2015 | Q14: 2016 | R14: 2017 | S14: 2018 | T14: 2019 | U14: 2020 | V14: 2021 | W14: 2022
A15: Variación Interanual TOTAL | B15: ='Nacionalidad (esp-extr)'!C15-'Nacionalidad (esp-extr)'!B15 -> -33 | C15: ='Nacionalidad (esp-extr)'!D15-'Nacionalidad (esp-extr)'!C15 -> 35 | D15: ='Nacionalidad (esp-extr)'!E15-'Nacionalidad (esp-extr)'!D15 -> 5 | E15: ='Nacionalidad (esp-extr)'!F15-'Nacionalidad (esp-extr)'!E15 -> -21 | F15: ='Nacionalidad (esp-extr)'!G15-'Nacionalidad (esp-extr)'!F15 -> -4 | G15: ='Nacionalidad (esp-extr)'!H15-'Nacionalidad (esp-extr)'!G15 -> -44 | H15: ='Nacionalidad (esp-extr)'!I15-'Nacionalidad (esp-extr)'!H15 -> -27 | I15: ='Nacionalidad (esp-extr)'!J15-'Nacionalidad (esp-extr)'!I15 -> 72 | ... W15: ='Nacionalidad (esp-extr)'!X15-'Nacionalidad (esp-extr)'!W15 -> -18
A16: Variación interanual españoles | B16: ='Nacionalidad (esp-extr)'!C16-'Nacionalidad (esp-extr)'!B16 -> -59 | C16: ='Nacionalidad (esp-extr)'!D16-'Nacionalidad (esp-extr)'!C16 -> -71 | D16: ='Nacionalidad (esp-extr)'!E16-'Nacionalidad (esp-extr)'!D16 -> -51 | E16: ='Nacionalidad (esp-extr)'!F16-'Nacionalidad (esp-extr)'!E16 -> -42 | F16: ='Nacionalidad (esp-extr)'!G16-'Nacionalidad (esp-extr)'!F16 -> -57 | G16: ='Nacionalidad (esp-extr)'!H16-'Nacionalidad (esp-extr)'!G16 -> -108 | H16: ='Nacionalidad (esp-extr)'!I16-'Nacionalidad (esp-extr)'!H16 -> -49 | I16: ='Nacionalidad (esp-extr)'!J16-'Nacionalidad (esp-extr)'!I16 -> -34 | ... W16: ='Nacionalidad (esp-extr)'!X16-'Nacionalidad (esp-extr)'!W16 -> -17
A17: Variación interanual extranjeros | B17: ='Nacionalidad (esp-extr)'!C17-'Nacionalidad (esp-extr)'!B17 -> 26 | C17: ='Nacionalidad (esp-extr)'!D17-'Nacionalidad (esp-extr)'!C17 -> 106 | D17: ='Nacionalidad (esp-extr)'!E17-'Nacionalidad (esp-extr)'!D17 -> 56 | E17: ='Nacionalidad (esp-extr)'!F17-'Nacionalidad (esp-extr)'!E17 -> 21 | F17: ='Nacionalidad (esp-extr)'!G17-'Nacionalidad (esp-extr)'!F17 -> 53 | G17: ='Nacionalidad (esp-extr)'!H17-'Nacionalidad (esp-extr)'!G17 -> 64 | H17: ='Nacionalidad (esp-extr)'!I17-'Nacionalidad (esp-extr)'!H17 -> 22 | I17: ='Nacionalidad (esp-extr)'!J17-'Nacionalidad (esp-extr)'!I17 -> 106 | ... W17: ='Nacionalidad (esp-extr)'!X17-'Nacionalidad (esp-extr)'!W17 -> -1
A18: Fuente: Portal Estadístic de la Generalitat Valenciana (PEGV)
A21: Mujeres | B21: 2001 | C21: 2002 | D21: 2003 | E21: 2004 | F21: 2005 | G21: 2006 | H21: 2007 | I21: 2008 | J21: 2009 | K21: 2010 | L21: 2011 | M21: 2012 | N21: 2013 | O21: 2014 | P21: 2015 | Q21: 2016 | R21: 2017 | S21: 2018 | T21: 2019 | U21: 2020 | V21: 2021 | W21: 2022
A22: Variación Interanual TOTAL | B22: ='Nacionalidad (esp-extr)'!C22-'Nacionalidad (esp-extr)'!B22 -> -58 | C22: ='Nacionalidad (esp-extr)'!D22-'Nacionalidad (esp-extr)'!C22 -> -22 | D22: ='Nacionalidad (esp-extr)'!E22-'Nacionalidad (esp-extr)'!D22 -> -54 | E22: ='Nacionalidad (esp-extr)'!F22-'Nacionalidad (esp-extr)'!E22 -> -22 | F22: ='Nacionalidad (esp-extr)'!G22-'Nacionalidad (esp-extr)'!F22 -> -28 | G22: ='Nacionalidad (esp-extr)'!H22-'Nacionalidad (esp-extr)'!G22 -> -47 | H22: ='Nacionalidad (esp-extr)'!I22-'Nacionalidad (esp-extr)'!H22 -> -39 | I22: ='Nacionalidad (esp-extr)'!J22-'Nacionalidad (esp-extr)'!I22 -> 30 | ... W22: ='Nacionalidad (esp-extr)'!X22-'Nacionalidad (esp-extr)'!W22 -> -57
A23: Variación interanual españoles | B23: ='Nacionalidad (esp-extr)'!C23-'Nacionalidad (esp-extr)'!B23 -> -72 | C23: ='Nacionalidad (esp-extr)'!D23-'Nacionalidad (esp-extr)'!C23 -> -76 | D23: ='Nacionalidad (esp-extr)'!E23-'Nacionalidad (esp-extr)'!D23 -> -110 | E23: ='Nacionalidad (esp-extr)'!F23-'Nacionalidad (esp-extr)'!E23 -> -62 | F23: ='Nacionalidad (esp-extr)'!G23-'Nacionalidad (esp-extr)'!F23 -> -65 | G23: ='Nacionalidad (esp-extr)'!H23-'Nacionalidad (esp-extr)'!G23 -> -89 | H23: ='Nacionalidad (esp-extr)'!I23-'Nacionalidad (esp-extr)'!H23 -> -64 | I23: ='Nacionalidad (esp-extr)'!J23-'Nacionalidad (esp-extr)'!I23 -> -44 | ... W23: ='Nacionalidad (esp-extr)'!X23-'Nacionalidad (esp-extr)'!W23 -> -42
A24: Variación interanual extranjeros | B24: ='Nacionalidad (esp-extr)'!C24-'Nacionalidad (esp-extr)'!B24 -> 14 | C24: ='Nacionalidad (esp-extr)'!D24-'Nacionalidad (esp-extr)'!C24 -> 54 | D24: ='Nacionalidad (esp-extr)'!E24-'Nacionalidad (esp-extr)'!D24 -> 56 | E24: ='Nacionalidad (esp-extr)'!F24-'Nacionalidad (esp-extr)'!E24 -> 40 | F24: ='Nacionalidad (esp-extr)'!G24-'Nacionalidad (esp-extr)'!F24 -> 37 | G24: ='Nacionalidad (esp-extr)'!H24-'Nacionalidad (esp-extr)'!G24 -> 42 | H24: ='Nacionalidad (esp-extr)'!I24-'Nacionalidad (esp-extr)'!H24 -> 25 | I24: ='Nacionalidad (esp-extr)'!J24-'Nacionalidad (esp-extr)'!I24 -> 74 | ... W24: ='Nacionalidad (esp-extr)'!X24-'Nacionalidad (esp-extr)'!W24 -> -15
A25: Fuente: Portal Estadístic de la Generalitat Valenciana (PEGV)
A29: 4.2. Proporción de variación interanual de los españoles y extranjeros
A31: Ambos sexos | B31: 2001 | C31: 2002 | D31: 2003 | E31: 2004 | F31: 2005 | G31: 2006 | H31: 2007 | I31: 2008 | J31: 2009 | K31: 2010 | L31: 2011 | M31: 2012 | N31: 2013 | O31: 2014 | P31: 2015 | Q31: 2016 | R31: 2017 | S31: 2018 | T31: 2019 | U31: 2020 | V31: 2021 | W31: 2022
A32: Variación Interanual TOTAL | B32: =('Nacionalidad (esp-extr)'!C8-'Nacionalidad (esp-extr)'!B8)/'Nacionalidad (esp-extr)'!B8 -> -0.011090798 | C32: =('Nacionalidad (esp-extr)'!D8-'Nacionalidad (esp-extr)'!C8)/'Nacionalidad (esp-extr)'!C8 -> 0.0016021691 | D32: =('Nacionalidad (esp-extr)'!E8-'Nacionalidad (esp-extr)'!D8)/'Nacionalidad (esp-extr)'!D8 -> -0.0060292851 | E32: =('Nacionalidad (esp-extr)'!F8-'Nacionalidad (esp-extr)'!E8)/'Nacionalidad (esp-extr)'!E8 -> -0.0053230998 | F32: =('Nacionalidad (esp-extr)'!G8-'Nacionalidad (esp-extr)'!F8)/'Nacionalidad (esp-extr)'!F8 -> -0.0039825762 | G32: =('Nacionalidad (esp-extr)'!H8-'Nacionalidad (esp-extr)'!G8)/'Nacionalidad (esp-extr)'!G8 -> -0.011370736 | H32: =('Nacionalidad (esp-extr)'!I8-'Nacionalidad (esp-extr)'!H8)/'Nacionalidad (esp-extr)'!H8 -> -0.0083417594 | I32: =('Nacionalidad (esp-extr)'!J8-'Nacionalidad (esp-extr)'!I8)/'Nacionalidad (esp-extr)'!I8 -> 0.013000255 | ... W32: =('Nacionalidad (esp-extr)'!X8-'Nacionalidad (esp-extr)'!W8)/'Nacionalidad (esp-extr)'!W8 -> -0.01124775
A33: Variación interanual españoles | B33: =('Nacionalidad (esp-extr)'!C9-'Nacionalidad (esp-extr)'!B9)/'Nacionalidad (esp-extr)'!B9 -> -0.016097321 | C33: =('Nacionalidad (esp-extr)'!D9-'Nacionalidad (esp-extr)'!C9)/'Nacionalidad (esp-extr)'!C9 -> -0.018358936 | D33: =('Nacionalidad (esp-extr)'!E9-'Nacionalidad (esp-extr)'!D9)/'Nacionalidad (esp-extr)'!D9 -> -0.020483461 | E33: =('Nacionalidad (esp-extr)'!F9-'Nacionalidad (esp-extr)'!E9)/'Nacionalidad (esp-extr)'!E9 -> -0.013508248 | F33: =('Nacionalidad (esp-extr)'!G9-'Nacionalidad (esp-extr)'!F9)/'Nacionalidad (esp-extr)'!F9 -> -0.016063199 | G33: =('Nacionalidad (esp-extr)'!H9-'Nacionalidad (esp-extr)'!G9)/'Nacionalidad (esp-extr)'!G9 -> -0.026361568 | H33: =('Nacionalidad (esp-extr)'!I9-'Nacionalidad (esp-extr)'!H9)/'Nacionalidad (esp-extr)'!H9 -> -0.015530511 | I33: =('Nacionalidad (esp-extr)'!J9-'Nacionalidad (esp-extr)'!I9)/'Nacionalidad (esp-extr)'!I9 -> -0.010889292 | ... W33: =('Nacionalidad (esp-extr)'!X9-'Nacionalidad (esp-extr)'!W9)/'Nacionalidad (esp-extr)'!W9 -> -0.0097909061
A34: Variación interanual extranjeros | B34: =('Nacionalidad (esp-extr)'!C10-'Nacionalidad (esp-extr)'!B10)/'Nacionalidad (esp-extr)'!B10 -> 0.59701493 | C34: =('Nacionalidad (esp-extr)'!D10-'Nacionalidad (esp-extr)'!C10)/'Nacionalidad (esp-extr)'!C10 -> 1.4953271 | D34: =('Nacionalidad (esp-extr)'!E10-'Nacionalidad (esp-extr)'!D10)/'Nacionalidad (esp-extr)'!D10 -> 0.41947566 | E34: =('Nacionalidad (esp-extr)'!F10-'Nacionalidad (esp-extr)'!E10)/'Nacionalidad (esp-extr)'!E10 -> 0.16094987 | F34: =('Nacionalidad (esp-extr)'!G10-'Nacionalidad (esp-extr)'!F10)/'Nacionalidad (esp-extr)'!F10 -> 0.20454545 | G34: =('Nacionalidad (esp-extr)'!H10-'Nacionalidad (esp-extr)'!G10)/'Nacionalidad (esp-extr)'!G10 -> 0.2 | H34: =('Nacionalidad (esp-extr)'!I10-'Nacionalidad (esp-extr)'!H10)/'Nacionalidad (esp-extr)'!H10 -> 0.073899371 | I34: =('Nacionalidad (esp-extr)'!J10-'Nacionalidad (esp-extr)'!I10)/'Nacionalidad (esp-extr)'!I10 -> 0.26354319 | ... W34: =('Nacionalidad (esp-extr)'!X10-'Nacionalidad (esp-extr)'!W10)/'Nacionalidad (esp-extr)'!W10 -> -0.024922118
A35: Fuente: Elaboración Social·Lab a partir de los datos del Portal Estadístic de la Generalitat Valenciana (PEGV)
A38: Hombres | B38: 2001 | C38: 2002 | D38: 2003 | E38: 2004 | F38: 2005 | G38: 2006 | H38: 2007 | I38: 2008 | J38: 2009 | K38: 2010 | L38: 2011 | M38: 2012 | N38: 2013 | O38: 2014 | P38: 2015 | Q38: 2016 | R38: 2017 | S38: 2018 | T38: 2019 | U38: 2020 | V38: 2021 | W38: 2022
A39: Variación Interanual TOTAL | B39: =('Nacionalidad (esp-extr)'!C15-'Nacionalidad (esp-extr)'!B15)/'Nacionalidad (esp-extr)'!B15 -> -0.0081541883 | C39: =('Nacionalidad (esp-extr)'!D15-'Nacionalidad (esp-extr)'!C15)/'Nacionalidad (esp-extr)'!C15 -> 0.0087194818 | D39: =('Nacionalidad (esp-extr)'!E15-'Nacionalidad (esp-extr)'!D15)/'Nacionalidad (esp-extr)'!D15 -> 0.0012348728 | E39: =('Nacionalidad (esp-extr)'!F15-'Nacionalidad (esp-extr)'!E15)/'Nacionalidad (esp-extr)'!E15 -> -0.0051800691 | F39: =('Nacionalidad (esp-extr)'!G15-'Nacionalidad (esp-extr)'!F15)/'Nacionalidad (esp-extr)'!F15 -> -0.00099181751 | G39: =('Nacionalidad (esp-extr)'!H15-'Nacionalidad (esp-extr)'!G15)/'Nacionalidad (esp-extr)'!G15 -> -0.010920824 | H39: =('Nacionalidad (esp-extr)'!I15-'Nacionalidad (esp-extr)'!H15)/'Nacionalidad (esp-extr)'!H15 -> -0.0067754078 | I39: =('Nacionalidad (esp-extr)'!J15-'Nacionalidad (esp-extr)'!I15)/'Nacionalidad (esp-extr)'!I15 -> 0.018191006 | ... W39: =('Nacionalidad (esp-extr)'!X15-'Nacionalidad (esp-extr)'!W15)/'Nacionalidad (esp-extr)'!W15 -> -0.0053460053
A40: Variación interanual españoles | B40: =('Nacionalidad (esp-extr)'!C16-'Nacionalidad (esp-extr)'!B16)/'Nacionalidad (esp-extr)'!B16 -> -0.014761071 | C40: =('Nacionalidad (esp-extr)'!D16-'Nacionalidad (esp-extr)'!C16)/'Nacionalidad (esp-extr)'!C16 -> -0.018029457 | D40: =('Nacionalidad (esp-extr)'!E16-'Nacionalidad (esp-extr)'!D16)/'Nacionalidad (esp-extr)'!D16 -> -0.013188518 | E40: =('Nacionalidad (esp-extr)'!F16-'Nacionalidad (esp-extr)'!E16)/'Nacionalidad (esp-extr)'!E16 -> -0.011006289 | F40: =('Nacionalidad (esp-extr)'!G16-'Nacionalidad (esp-extr)'!F16)/'Nacionalidad (esp-extr)'!F16 -> -0.015103339 | G40: =('Nacionalidad (esp-extr)'!H16-'Nacionalidad (esp-extr)'!G16)/'Nacionalidad (esp-extr)'!G16 -> -0.02905569 | H40: =('Nacionalidad (esp-extr)'!I16-'Nacionalidad (esp-extr)'!H16)/'Nacionalidad (esp-extr)'!H16 -> -0.013577168 | I40: =('Nacionalidad (esp-extr)'!J16-'Nacionalidad (esp-extr)'!I16)/'Nacionalidad (esp-extr)'!I16 -> -0.0095505618 | ... W40: =('Nacionalidad (esp-extr)'!X16-'Nacionalidad (esp-extr)'!W16)/'Nacionalidad (esp-extr)'!W16 -> -0.0055829228
A41: Variación interanual extranjeros | B41: =('Nacionalidad (esp-extr)'!C17-'Nacionalidad (esp-extr)'!B17)/'Nacionalidad (esp-extr)'!B17 -> 0.52 | C41: =('Nacionalidad (esp-extr)'!D17-'Nacionalidad (esp-extr)'!C17)/'Nacionalidad (esp-extr)'!C17 -> 1.3947368 | D41: =('Nacionalidad (esp-extr)'!E17-'Nacionalidad (esp-extr)'!D17)/'Nacionalidad (esp-extr)'!D17 -> 0.30769231 | E41: =('Nacionalidad (esp-extr)'!F17-'Nacionalidad (esp-extr)'!E17)/'Nacionalidad (esp-extr)'!E17 -> 0.088235294 | F41: =('Nacionalidad (esp-extr)'!G17-'Nacionalidad (esp-extr)'!F17)/'Nacionalidad (esp-extr)'!F17 -> 0.2046332 | G41: =('Nacionalidad (esp-extr)'!H17-'Nacionalidad (esp-extr)'!G17)/'Nacionalidad (esp-extr)'!G17 -> 0.20512821 | H41: =('Nacionalidad (esp-extr)'!I17-'Nacionalidad (esp-extr)'!H17)/'Nacionalidad (esp-extr)'!H17 -> 0.058510638 | I41: =('Nacionalidad (esp-extr)'!J17-'Nacionalidad (esp-extr)'!I17)/'Nacionalidad (esp-extr)'!I17 -> 0.26633166 | ... W41: =('Nacionalidad (esp-extr)'!X17-'Nacionalidad (esp-extr)'!W17)/'Nacionalidad (esp-extr)'!W17 -> -0.0031055901
A42: Fuente: Elaboración Social·Lab a partir de los datos del Portal Estadístic de la Generalitat Valenciana (PEGV)
A45: Mujeres | B45: 2001 | C45: 2002 | D45: 2003 | E45: 2004 | F45: 2005 | G45: 2006 | H45: 2007 | I45: 2008 | J45: 2009 | K45: 2010 | L45: 2011 | M45: 2012 | N45: 2013 | O45: 2014 | P45: 2015 | Q45: 2016 | R45: 2017 | S45: 2018 | T45: 2019 | U45: 2020 | V45: 2021 | W45: 2022
A46: Variación Interanual TOTAL | B46: =('Nacionalidad (esp-extr)'!C22-'Nacionalidad (esp-extr)'!B22)/'Nacionalidad (esp-extr)'!B22 -> -0.013949014 | C46: =('Nacionalidad (esp-extr)'!D22-'Nacionalidad (esp-extr)'!C22)/'Nacionalidad (esp-extr)'!C22 -> -0.0053658537 | D46: =('Nacionalidad (esp-extr)'!E22-'Nacionalidad (esp-extr)'!D22)/'Nacionalidad (esp-extr)'!D22 -> -0.013241785 | E46: =('Nacionalidad (esp-extr)'!F22-'Nacionalidad (esp-extr)'!E22)/'Nacionalidad (esp-extr)'!E22 -> -0.0054671968 | F46: =('Nacionalidad (esp-extr)'!G22-'Nacionalidad (esp-extr)'!F22)/'Nacionalidad (esp-extr)'!F22 -> -0.0069965017 | G46: =('Nacionalidad (esp-extr)'!H22-'Nacionalidad (esp-extr)'!G22)/'Nacionalidad (esp-extr)'!G22 -> -0.011826875 | H46: =('Nacionalidad (esp-extr)'!I22-'Nacionalidad (esp-extr)'!H22)/'Nacionalidad (esp-extr)'!H22 -> -0.0099312452 | I46: =('Nacionalidad (esp-extr)'!J22-'Nacionalidad (esp-extr)'!I22)/'Nacionalidad (esp-extr)'!I22 -> 0.0077160494 | ... W46: =('Nacionalidad (esp-extr)'!X22-'Nacionalidad (esp-extr)'!W22)/'Nacionalidad (esp-extr)'!W22 -> -0.017267495
A47: Variación interanual españoles | B47: =('Nacionalidad (esp-extr)'!C23-'Nacionalidad (esp-extr)'!B23)/'Nacionalidad (esp-extr)'!B23 -> -0.017387105 | C47: =('Nacionalidad (esp-extr)'!D23-'Nacionalidad (esp-extr)'!C23)/'Nacionalidad (esp-extr)'!C23 -> -0.018677808 | D47: =('Nacionalidad (esp-extr)'!E23-'Nacionalidad (esp-extr)'!D23)/'Nacionalidad (esp-extr)'!D23 -> -0.027548209 | E47: =('Nacionalidad (esp-extr)'!F23-'Nacionalidad (esp-extr)'!E23)/'Nacionalidad (esp-extr)'!E23 -> -0.015967036 | F47: =('Nacionalidad (esp-extr)'!G23-'Nacionalidad (esp-extr)'!F23)/'Nacionalidad (esp-extr)'!F23 -> -0.017011254 | G47: =('Nacionalidad (esp-extr)'!H23-'Nacionalidad (esp-extr)'!G23)/'Nacionalidad (esp-extr)'!G23 -> -0.023695421 | H47: =('Nacionalidad (esp-extr)'!I23-'Nacionalidad (esp-extr)'!H23)/'Nacionalidad (esp-extr)'!H23 -> -0.017452959 | I47: =('Nacionalidad (esp-extr)'!J23-'Nacionalidad (esp-extr)'!I23)/'Nacionalidad (esp-extr)'!I23 -> -0.012212046 | ... W47: =('Nacionalidad (esp-extr)'!X23-'Nacionalidad (esp-extr)'!W23)/'Nacionalidad (esp-extr)'!W23 -> -0.014089232
A48: Variación interanual extranjeros | B48: =('Nacionalidad (esp-extr)'!C24-'Nacionalidad (esp-extr)'!B24)/'Nacionalidad (esp-extr)'!B24 -> 0.82352941 | C48: =('Nacionalidad (esp-extr)'!D24-'Nacionalidad (esp-extr)'!C24)/'Nacionalidad (esp-extr)'!C24 -> 1.7419355 | D48: =('Nacionalidad (esp-extr)'!E24-'Nacionalidad (esp-extr)'!D24)/'Nacionalidad (esp-extr)'!D24 -> 0.65882353 | E48: =('Nacionalidad (esp-extr)'!F24-'Nacionalidad (esp-extr)'!E24)/'Nacionalidad (esp-extr)'!E24 -> 0.28368794 | F48: =('Nacionalidad (esp-extr)'!G24-'Nacionalidad (esp-extr)'!F24)/'Nacionalidad (esp-extr)'!F24 -> 0.20441989 | G48: =('Nacionalidad (esp-extr)'!H24-'Nacionalidad (esp-extr)'!G24)/'Nacionalidad (esp-extr)'!G24 -> 0.19266055 | H48: =('Nacionalidad (esp-extr)'!I24-'Nacionalidad (esp-extr)'!H24)/'Nacionalidad (esp-extr)'!H24 -> 0.096153846 | I48: =('Nacionalidad (esp-extr)'!J24-'Nacionalidad (esp-extr)'!I24)/'Nacionalidad (esp-extr)'!I24 -> 0.25964912 | ... W48: =('Nacionalidad (esp-extr)'!X24-'Nacionalidad (esp-extr)'!W24)/'Nacionalidad (esp-extr)'!W24 -> -0.046875
A49: Fuente: Elaboración Social·Lab a partir de los datos del Portal Estadístic de la Generalitat Valenciana (PEGV)

Sheet Grupos de edad
A1: L'Alt Maestrat
A2: 5. Grandes grupos de edad de los residentes con nacionalidad extranjera. Evolución 2002-2022
A5: 5.1. Grandes grupos de edad de los residentes con nacionalidad extranjera (datos absolutos)
A7: Ambos sexos | B7: 2002 | C7: 2003 | D7: 2004 | E7: 2005 | F7: 2006 | G7: 2007 | H7: 2008 | I7: 2009 | J7: 2010 | K7: 2011 | L7: 2012 | M7: 2013 | N7: 2014 | O7: 2015 | P7: 2016 | Q7: 2017 | R7: 2018 | S7: 2019 | T7: 2020 | U7: 2021 | V7: 2022
A8: Total edades | B8: 267 | C8: 379 | D8: 440 | E8: 530 | F8: 636 | G8: 683 | H8: 863 | I8: 894 | J8: 939 | K8: 930 | L8: 923 | M8: 874 | N8: 761 | O8: 704 | P8: 673 | Q8: 618 | R8: 599 | S8: 594 | T8: 615 | U8: 642 | V8: 626
A9: Menores 16 | B9: 29 | C9: 56 | D9: 70 | E9: 74 | F9: 92 | G9: 106 | H9: 145 | I9: 153 | J9: 173 | K9: 176 | L9: 169 | M9: 156 | N9: 140 | O9: 143 | P9: 148 | Q9: 126 | R9: 126 | S9: 136 | T9: 129 | U9: 126 | V9: 119
A10: De 16 a 39 | B10: 187 | C10: 250 | D10: 292 | E10: 362 | F10: 428 | G10: 461 | H10: 559 | I10: 560 | J10: 570 | K10: 539 | L10: 523 | M10: 493 | N10: 416 | O10: 369 | P10: 328 | Q10: 290 | R10: 268 | S10: 243 | T10: 246 | U10: 259 | V10: 238
A11: De 40 a 64 | B11: 50 | C11: 70 | D11: 75 | E11: 90 | F11: 112 | G11: 112 | H11: 154 | I11: 175 | J11: 186 | K11: 202 | L11: 217 | M11: 211 | N11: 195 | O11: 181 | P11: 180 | Q11: 186 | R11: 191 | S11: 198 | T11: 222 | U11: 236 | V11: 246
A12: De 65 a 74 | B12: 0 | C12: 2 | D12: 2 | E12: 3 | F12: 3 | G12: 4 | H12: 5 | I12: 6 | J12: 8 | K12: 7 | L12: 8 | M12: 9 | N12: 6 | O12: 7 | P12: 12 | Q12: 11 | R12: 10 | S12: 12 | T12: 13 | U12: 18 | V12: 19
A13: 75 y más | B13: 1 | C13: 1 | D13: 1 | E13: 1 | F13: 1 | G13: 0 | H13: 0 | I13: 0 | J13: 2 | K13: 6 | L13: 6 | M13: 5 | N13: 4 | O13: 4 | P13: 5 | Q13: 5 | R13: 4 | S13: 5 | T13: 5 | U13: 3 | V13: 4
A14: Fuente: Portal Estadístic de la Generalitat Valenciana (PEGV)
A17: Hombres | B17: 2002 | C17: 2003 | D17: 2004 | E17: 2005 | F17: 2006 | G17: 2007 | H17: 2008 | I17: 2009 | J17: 2010 | K17: 2011 | L17: 2012 | M17: 2013 | N17: 2014 | O17: 2015 | P17: 2016 | Q17: 2017 | R17: 2018 | S17: 2019 | T17: 2020 | U17: 2021 | V17: 2022
A18: Total edades | B18: 182 | C18: 238 | D18: 259 | E18: 312 | F18: 376 | G18: 398 | H18: 504 | I18: 513 | J18: 523 | K18: 509 | L18: 505 | M18: 492 | N18: 410 | O18: 369 | P18: 343 | Q18: 305 | R18: 298 | S18: 305 | T18: 308 | U18: 322 | V18: 321
A19: Menores 16 | B19: 15 | C19: 26 | D19: 30 | E19: 32 | F19: 42 | G19: 51 | H19: 73 | I19: 81 | J19: 87 | K19: 90 | L19: 91 | M19: 85 | N19: 73 | O19: 73 | P19: 75 | Q19: 61 | R19: 61 | S19: 69 | T19: 67 | U19: 69 | V19: 65
A20: De 16 a 39 | B20: 132 | C20: 162 | D20: 182 | E20: 222 | F20: 266 | G20: 280 | H20: 340 | I20: 328 | J20: 332 | K20: 307 | L20: 293 | M20: 282 | N20: 231 | O20: 197 | P20: 173 | Q20: 144 | R20: 132 | S20: 126 | T20: 115 | U20: 122 | V20: 121
A21: De 40 a 64 | B21: 34 | C21: 48 | D21: 46 | E21: 57 | F21: 67 | G21: 66 | H21: 89 | I21: 102 | J21: 100 | K21: 107 | L21: 115 | M21: 119 | N21: 104 | O21: 97 | P21: 90 | Q21: 95 | R21: 99 | S21: 104 | T21: 120 | U21: 122 | V21: 125
A22: De 65 a 74 | B22: 0 | C22: 1 | D22: 1 | E22: 1 | F22: 1 | G22: 1 | H22: 2 | I22: 2 | J22: 3 | K22: 2 | L22: 3 | M22: 4 | N22: 2 | O22: 2 | P22: 4 | Q22: 4 | R22: 5 | S22: 6 | T22: 6 | U22: 9 | V22: 9
A23: 75 y más | B23: 1 | C23: 1 | D23: 0 | E23: 0 | F23: 0 | G23: 0 | H23: 0 | I23: 0 | J23: 1 | K23: 3 | L23: 3 | M23: 2 | N23: 0 | O23: 0 | P23: 1 | Q23: 1 | R23: 1 | S23: 0 | T23: 0 | U23: 0 | V23: 1
A24: Fuente: Portal Estadístic de la Generalitat Valenciana (PEGV)
A27: Mujeres | B27: 2002 | C27: 2003 | D27: 2004 | E27: 2005 | F27: 2006 | G27: 2007 | H27: 2008 | I27: 2009 | J27: 2010 | K27: 2011 | L27: 2012 | M27: 2013 | N27: 2014 | O27: 2015 | P27: 2016 | Q27: 2017 | R27: 2018 | S27: 2019 | T27: 2020 | U27: 2021 | V27: 2022
A28: Total edades | B28: 85 | C28: 141 | D28: 181 | E28: 218 | F28: 260 | G28: 285 | H28: 359 | I28: 381 | J28: 416 | K28: 421 | L28: 418 | M28: 382 | N28: 351 | O28: 335 | P28: 330 | Q28: 313 | R28: 301 | S28: 289 | T28: 307 | U28: 320 | V28: 305
A29: Menores 16 | B29: 14 | C29: 30 | D29: 40 | E29: 42 | F29: 50 | G29: 55 | H29: 72 | I29: 72 | J29: 86 | K29: 86 | L29: 78 | M29: 71 | N29: 67 | O29: 70 | P29: 73 | Q29: 65 | R29: 65 | S29: 67 | T29: 62 | U29: 57 | V29: 54
A30: De 16 a 39 | B30: 55 | C30: 88 | D30: 110 | E30: 140 | F30: 162 | G30: 181 | H30: 219 | I30: 232 | J30: 238 | K30: 232 | L30: 230 | M30: 211 | N30: 185 | O30: 172 | P30: 155 | Q30: 146 | R30: 136 | S30: 117 | T30: 131 | U30: 137 | V30: 117
A31: De 40 a 64 | B31: 16 | C31: 22 | D31: 29 | E31: 33 | F31: 45 | G31: 46 | H31: 65 | I31: 73 | J31: 86 | K31: 95 | L31: 102 | M31: 92 | N31: 91 | O31: 84 | P31: 90 | Q31: 91 | R31: 92 | S31: 94 | T31: 102 | U31: 114 | V31: 121
A32: De 65 a 74 | B32: 0 | C32: 1 | D32: 1 | E32: 2 | F32: 2 | G32: 3 | H32: 3 | I32: 4 | J32: 5 | K32: 5 | L32: 5 | M32: 5 | N32: 4 | O32: 5 | P32: 8 | Q32: 7 | R32: 5 | S32: 6 | T32: 7 | U32: 9 | V32: 10
A33: 75 y más | B33: 0 | C33: 0 | D33: 1 | E33: 1 | F33: 1 | G33: 0 | H33: 0 | I33: 0 | J33: 1 | K33: 3 | L33: 3 | M33: 3 | N33: 4 | O33: 4 | P33: 4 | Q33: 4 | R33: 3 | S33: 5 | T33: 5 | U33: 3 | V33: 3
A34: Fuente: Portal Estadístic de la Generalitat Valenciana (PEGV)
A38: 5.2. Proporción de grandes grupos de edad de los residentes con nacionalidad extranjera
A40: Ambos sexos | B40: 2002 | C40: 2003 | D40: 2004 | E40: 2005 | F40: 2006 | G40: 2007 | H40: 2008 | I40: 2009 | J40: 2010 | K40: 2011 | L40: 2012 | M40: 2013 | N40: 2014 | O40: 2015 | P40: 2016 | Q40: 2017 | R40: 2018 | S40: 2019 | T40: 2020 | U40: 2021 | V40: 2022
A41: Total edades | B41: =SUM(B42:B46) -> 1 | C41: =SUM(C42:C46) -> 1 | D41: =SUM(D42:D46) -> 1 | E41: =SUM(E42:E46) -> 1 | F41: =SUM(F42:F46) -> 1 | G41: =SUM(G42:G46) -> 1 | H41: =SUM(H42:H46) -> 1 | I41: =SUM(I42:I46) -> 1 | ... V41: =SUM(V42:V46) -> 1
A42: Menores 16 | B42: =B9/B8 -> 0.10861423 | C42: =C9/C8 -> 0.14775726 | D42: =D9/D8 -> 0.15909091 | E42: =E9/E8 -> 0.13962264 | F42: =F9/F8 -> 0.14465409 | G42: =G9/G8 -> 0.15519766 | H42: =H9/H8 -> 0.16801854 | I42: =I9/I8 -> 0.17114094 | ... V42: =V9/V8 -> 0.19009585
A43: De 16 a 39 | B43: =B10/B8 -> 0.70037453 | C43: =C10/C8 -> 0.65963061 | D43: =D10/D8 -> 0.66363636 | E43: =E10/E8 -> 0.68301887 | F43: =F10/F8 -> 0.67295597 | G43: =G10/G8 -> 0.6749634 | H43: =H10/H8 -> 0.64774044 | I43: =I10/I8 -> 0.62639821 | ... V43: =V10/V8 -> 0.38019169
A44: De 40 a 64 | B44: =B11/B8 -> 0.18726592 | C44: =C11/C8 -> 0.18469657 | D44: =D11/D8 -> 0.17045455 | E44: =E11/E8 -> 0.16981132 | F44: =F11/F8 -> 0.17610063 | G44: =G11/G8 -> 0.16398243 | H44: =H11/H8 -> 0.17844728 | I44: =I11/I8 -> 0.19574944 | ... V44: =V11/V8 -> 0.39297125
A45: De 65 a 74 | B45: =B12/B8 -> 0 | C45: =C12/C8 -> 0.0052770449 | D45: =D12/D8 -> 0.0045454545 | E45: =E12/E8 -> 0.0056603774 | F45: =F12/F8 -> 0.0047169811 | G45: =G12/G8 -> 0.0058565154 | H45: =H12/H8 -> 0.0057937428 | I45: =I12/I8 -> 0.0067114094 | ... V45: =V12/V8 -> 0.030351438
A46: 75 y más | B46: =B13/B8 -> 0.0037453184 | C46: =C13/C8 -> 0.0026385224 | D46: =D13/D8 -> 0.0022727273 | E46: =E13/E8 -> 0.0018867925 | F46: =F13/F8 -> 0.001572327 | G46: =G13/G8 -> 0 | H46: =H13/H8 -> 0 | I46: =I13/I8 -> 0 | ... V46: =V13/V8 -> 0.0063897764
A47: Fuente: Elaboración Social·Lab a partir de los datos del Portal Estadístic de la Generalitat Valenciana (PEGV)
A50: Hombres | B50: 2002 | C50: 2003 | D50: 2004 | E50: 2005 | F50: 2006 | G50: 2007 | H50: 2008 | I50: 2009 | J50: 2010 | K50: 2011 | L50: 2012 | M50: 2013 | N50: 2014 | O50: 2015 | P50: 2016 | Q50: 2017 | R50: 2018 | S50: 2019 | T50: 2020 | U50: 2021 | V50: 2022
A51: Total edades | B51: =SUM(B52:B56) -> 1 | C51: =SUM(C52:C56) -> 1 | D51: =SUM(D52:D56) -> 1 | E51: =SUM(E52:E56) -> 1 | F51: =SUM(F52:F56) -> 1 | G51: =SUM(G52:G56) -> 1 | H51: =SUM(H52:H56) -> 1 | I51: =SUM(I52:I56) -> 1 | ... V51: =SUM(V52:V56) -> 1
A52: Menores 16 | B52: =B19/B18 -> 0.082417582 | C52: =C19/C18 -> 0.1092437 | D52: =D19/D18 -> 0.11583012 | E52: =E19/E18 -> 0.1025641 | F52: =F19/F18 -> 0.11170213 | G52: =G19/G18 -> 0.1281407 | H52: =H19/H18 -> 0.14484127 | I52: =I19/I18 -> 0.15789474 | ... V52: =V19/V18 -> 0.20249221
A53: De 16 a 39 | B53: =B20/B18 -> 0.72527473 | C53: =C20/C18 -> 0.68067227 | D53: =D20/D18 -> 0.7027027 | E53: =E20/E18 -> 0.71153846 | F53: =F20/F18 -> 0.70744681 | G53: =G20/G18 -> 0.70351759 | H53: =H20/H18 -> 0.67460317 | I53: =I20/I18 -> 0.63937622 | ... V53: =V20/V18 -> 0.37694704
A54: De 40 a 64 | B54: =B21/B18 -> 0.18681319 | C54: =C21/C18 -> 0.20168067 | D54: =D21/D18 -> 0.17760618 | E54: =E21/E18 -> 0.18269231 | F54: =F21/F18 -> 0.17819149 | G54: =G21/G18 -> 0.16582915 | H54: =H21/H18 -> 0.1765873 | I54: =I21/I18 -> 0.19883041 | ... V54: =V21/V18 -> 0.3894081
A55: De 65 a 74 | B55: =B22/B18 -> 0 | C55: =C22/C18 -> 0.0042016807 | D55: =D22/D18 -> 0.0038610039 | E55: =E22/E18 -> 0.0032051282 | F55: =F22/F18 -> 0.0026595745 | G55: =G22/G18 -> 0.0025125628 | H55: =H22/H18 -> 0.003968254 | I55: =I22/I18 -> 0.0038986355 | ... V55: =V22/V18 -> 0.028037383
A56: 75 y más | B56: =B23/B18 -> 0.0054945055 | C56: =C23/C18 -> 0.0042016807 | D56: =D23/D18 -> 0 | E56: =E23/E18 -> 0 | F56: =F23/F18 -> 0 | G56: =G23/G18 -> 0 | H56: =H23/H18 -> 0 | I56: =I23/I18 -> 0 | ... V56: =V23/V18 -> 0.0031152648
A57: Fuente: Elaboración Social·Lab a partir de los datos del Portal Estadístic de la Generalitat Valenciana (PEGV)
A60: Mujeres | B60: 2002 | C60: 2003 | D60: 2004 | E60: 2005 | F60: 2006 | G60: 2007 | H60: 2008 | I60: 2009 | J60: 2010 | K60: 2011 | L60: 2012 | M60: 2013 | N60: 2014 | O60: 2015 | P60: 2016 | Q60: 2017 | R60: 2018 | S60: 2019 | T60: 2020 | U60: 2021 | V60: 2022
A61: Total edades | B61: =SUM(B62:B66) -> 1 | C61: =SUM(C62:C66) -> 1 | D61: =SUM(D62:D66) -> 1 | E61: =SUM(E62:E66) -> 1 | F61: =SUM(F62:F66) -> 1 | G61: =SUM(G62:G66) -> 1 | H61: =SUM(H62:H66) -> 1 | I61: =SUM(I62:I66) -> 1 | ... V61: =SUM(V62:V66) -> 1
A62: Menores 16 | B62: =B29/B28 -> 0.16470588 | C62: =C29/C28 -> 0.21276596 | D62: =D29/D28 -> 0.22099448 | E62: =E29/E28 -> 0.19266055 | F62: =F29/F28 -> 0.19230769 | G62: =G29/G28 -> 0.19298246 | H62: =H29/H28 -> 0.2005571 | I62: =I29/I28 -> 0.18897638 | ... V62: =V29/V28 -> 0.17704918
A63: De 16 a 39 | B63: =B30/B28 -> 0.64705882 | C63: =C30/C28 -> 0.62411348 | D63: =D30/D28 -> 0.60773481 | E63: =E30/E28 -> 0.64220183 | F63: =F30/F28 -> 0.62307692 | G63: =G30/G28 -> 0.63508772 | H63: =H30/H28 -> 0.61002786 | I63: =I30/I28 -> 0.60892388 | ... V63: =V30/V28 -> 0.38360656
A64: De 40 a 64 | B64: =B31/B28 -> 0.18823529 | C64: =C31/C28 -> 0.15602837 | D64: =D31/D28 -> 0.16022099 | E64: =E31/E28 -> 0.15137615 | F64: =F31/F28 -> 0.17307692 | G64: =G31/G28 -> 0.16140351 | H64: =H31/H28 -> 0.1810585 | I64: =I31/I28 -> 0.19160105 | ... V64: =V31/V28 -> 0.39672131
A65: De 65 a 74 | B65: =B32/B28 -> 0 | C65: =C32/C28 -> 0.0070921986 | D65: =D32/D28 -> 0.0055248619 | E65: =E32/E28 -> 0.0091743119 | F65: =F32/F28 -> 0.0076923077 | G65: =G32/G28 -> 0.010526316 | H65: =H32/H28 -> 0.008356546 | I65: =I32/I28 -> 0.010498688 | ... V65: =V32/V28 -> 0.032786885
A66: 75 y más | B66: =B33/B28 -> 0 | C66: =C33/C28 -> 0 | D66: =D33/D28 -> 0.0055248619 | E66: =E33/E28 -> 0.004587156 | F66: =F33/F28 -> 0.0038461538 | G66: =G33/G28 -> 0 | H66: =H33/H28 -> 0 | I66: =I33/I28 -> 0 | ... V66: =V33/V28 -> 0.0098360656
A67: Fuente: Elaboración Social·Lab a partir de los datos del Portal Estadístic de la Generalitat Valenciana (PEGV)

Sheet Continente de nacimiento
A1: L'Alt Maestrat
A2: 6. Residentes nacidos en el extranjero según continentes. Evolución 2002-2022
A5: 6.1. Residentes nacidos en el extranjero según continentes (datos absolutos)
A7: Ambos sexos | B7: 2002 | C7: 2003 | D7: 2004 | E7: 2005 | F7: 2006 | G7: 2007 | H7: 2008 | I7: 2009 | J7: 2010 | K7: 2011 | L7: 2012 | M7: 2013 | N7: 2014 | O7: 2015 | P7: 2016 | Q7: 2017 | R7: 2018 | S7: 2019 | T7: 2020 | U7: 2021 | V7: 2022
A8: Total | B8: 299 | C8: 419 | D8: 481 | E8: 564 | F8: 657 | G8: 691 | H8: 865 | I8: 888 | J8: 927 | K8: 907 | L8: 893 | M8: 842 | N8: 726 | O8: 665 | P8: 632 | Q8: 580 | R8: 551 | S8: 534 | T8: 560 | U8: 613 | V8: 599
A9: Unión Europea | B9: 30 | C9: 32 | D9: 32 | E9: 33 | F9: 31 | G9: 465 | H9: 570 | I9: 613 | J9: 654 | K9: 660 | L9: 656 | M9: 612 | N9: 497 | O9: 434 | P9: 411 | Q9: 384 | R9: 353 | S9: 334 | T9: 317 | U9: 309 | V9: 298
A10: Europa (sin UE) | B10: 122 | C10: 211 | D10: 271 | E10: 362 | F10: 432 | G10: 5 | H10: 7 | I10: 7 | J10: 6 | K10: 5 | L10: 4 | M10: 4 | N10: 4 | O10: 4 | P10: 7 | Q10: 5 | R10: 6 | S10: 6 | T10: 10 | U10: 24 | V10: 23
A11: África | B11: 118 | C11: 126 | D11: 126 | E11: 115 | F11: 134 | G11: 146 | H11: 193 | I11: 178 | J11: 165 | K11: 156 | L11: 149 | M11: 146 | N11: 148 | O11: 151 | P11: 147 | Q11: 131 | R11: 132 | S11: 142 | T11: 152 | U11: 170 | V11: 167
A12: América del Norte | B12: 0 | C12: 0 | D12: 0 | E12: 0 | F12: 0 | G12: 0 | H12: 0 | I12: 0 | J12: 2 | K12: 2 | L12: 0 | M12: 0 | N12: 0 | O12: 0 | P12: 1 | Q12: 1 | R12: 2 | S12: 1 | T12: 1 | U12: 2 | V12: 2
A13: América Central/Caribe | B13: 1 | C13: 5 | D13: 4 | E13: 5 | F13: 4 | G13: 4 | H13: 5 | I13: 5 | J13: 6 | K13: 9 | L13: 9 | M13: 9 | N13: 8 | O13: 7 | P13: 6 | Q13: 8 | R13: 8 | S13: 4 | T13: 11 | U13: 19 | V13: 21
A14: América del Sur | B14: 27 | C14: 41 | D14: 42 | E14: 41 | F14: 51 | G14: 63 | H14: 78 | I14: 71 | J14: 73 | K14: 54 | L14: 51 | M14: 43 | N14: 38 | O14: 37 | P14: 34 | Q14: 28 | R14: 30 | S14: 29 | T14: 38 | U14: 50 | V14: 63
A15: Asia | B15: 1 | C15: 4 | D15: 6 | E15: 8 | F15: 5 | G15: 8 | H15: 12 | I15: 14 | J15: 21 | K15: 21 | L15: 24 | M15: 28 | N15: 31 | O15: 32 | P15: 26 | Q15: 23 | R15: 20 | S15: 18 | T15: 31 | U15: 39 | V15: 25
A16: Oceanía | B16: 0 | C16: 0 | D16: 0 | E16: 0 | F16: 0 | G16: 0 | H16: 0 | I16: 0 | J16: 0 | K16: 0 | L16: 0 | M16: 0 | N16: 0 | O16: 0 | P16: 0 | Q16: 0 | R16: 0 | S16: 0 | T16: 0 | U16: 0 | V16: 0
A17: Fuente: Portal Estadístic de la Generalitat Valenciana (PEGV)
A20: Hombres | B20: 2002 | C20: 2003 | D20: 2004 | E20: 2005 | F20: 2006 | G20: 2007 | H20: 2008 | I20: 2009 | J20: 2010 | K20: 2011 | L20: 2012 | M20: 2013 | N20: 2014 | O20: 2015 | P20: 2016 | Q20: 2017 | R20: 2018 | S20: 2019 | T20: 2020 | U20: 2021 | V20: 2022
A21: Total | B21: 199 | C21: 259 | D21: 283 | E21: 329 | F21: 383 | G21: 399 | H21: 499 | I21: 501 | J21: 513 | K21: 490 | L21: 477 | M21: 461 | N21: 379 | O21: 338 | P21: 311 | Q21: 278 | R21: 266 | S21: 266 | T21: 272 | U21: 295 | V21: 295
A22: Unión Europea | B22: 15 | C22: 17 | D22: 17 | E22: 17 | F22: 16 | G22: 271 | H22: 329 | I22: 347 | J22: 366 | K22: 361 | L22: 355 | M22: 340 | N22: 262 | O22: 219 | P22: 201 | Q22: 181 | R22: 171 | S22: 162 | T22: 148 | U22: 147 | V22: 143
A23: Europa (sin UE) | B23: 83 | C23: 139 | D23: 164 | E23: 219 | F23: 254 | G23: 2 | H23: 4 | I23: 4 | J23: 3 | K23: 2 | L23: 1 | M23: 1 | N23: 1 | O23: 1 | P23: 3 | Q23: 2 | R23: 3 | S23: 3 | T23: 4 | U23: 8 | V23: 8
A24: África | B24: 88 | C24: 86 | D24: 80 | E24: 72 | F24: 90 | G24: 93 | H24: 125 | I24: 111 | J24: 101 | K24: 93 | L24: 86 | M24: 83 | N24: 82 | O24: 83 | P24: 79 | Q24: 72 | R24: 71 | S24: 82 | T24: 91 | U24: 102 | V24: 106
A25: América del Norte | B25: 0 | C25: 0 | D25: 0 | E25: 0 | F25: 0 | G25: 0 | H25: 0 | I25: 0 | J25: 1 | K25: 1 | L25: 0 | M25: 0 | N25: 0 | O25: 0 | P25: 1 | Q25: 1 | R25: 2 | S25: 1 | T25: 1 | U25: 1 | V25: 0
A26: América Central/Caribe | B26: 0 | C26: 1 | D26: 1 | E26: 1 | F26: 1 | G26: 1 | H26: 1 | I26: 1 | J26: 1 | K26: 2 | L26: 2 | M26: 2 | N26: 1 | O26: 1 | P26: 1 | Q26: 1 | R26: 1 | S26: 1 | T26: 2 | U26: 5 | V26: 6
A27: América del Sur | B27: 13 | C27: 15 | D27: 17 | E27: 15 | F27: 19 | G27: 29 | H27: 35 | I27: 31 | J27: 27 | K27: 17 | L27: 16 | M27: 14 | N27: 11 | O27: 11 | P27: 9 | Q27: 7 | R27: 7 | S27: 7 | T27: 9 | U27: 13 | V27: 20
A28: Asia | B28: 0 | C28: 1 | D28: 4 | E28: 5 | F28: 3 | G28: 3 | H28: 5 | I28: 7 | J28: 14 | K28: 14 | L28: 17 | M28: 21 | N28: 22 | O28: 23 | P28: 17 | Q28: 14 | R28: 11 | S28: 10 | T28: 17 | U28: 19 | V28: 12
A29: Oceanía | B29: 0 | C29: 0 | D29: 0 | E29: 0 | F29: 0 | G29: 0 | H29: 0 | I29: 0 | J29: 0 | K29: 0 | L29: 0 | M29: 0 | N29: 0 | O29: 0 | P29: 0 | Q29: 0 | R29: 0 | S29: 0 | T29: 0 | U29: 0 | V29: 0
A30: Fuente: Portal Estadístic de la Generalitat Valenciana (PEGV)
A33: Mujeres | B33: 2002 | C33: 2003 | D33: 2004 | E33: 2005 | F33: 2006 | G33: 2007 | H33: 2008 | I33: 2009 | J33: 2010 | K33: 2011 | L33: 2012 | M33: 2013 | N33: 2014 | O33: 2015 | P33: 2016 | Q33: 2017 | R33: 2018 | S33: 2019 | T33: 2020 | U33: 2021 | V33: 2022
A34: Total | B34: 100 | C34: 160 | D34: 198 | E34: 235 | F34: 274 | G34: 292 | H34: 366 | I34: 387 | J34: 414 | K34: 417 | L34: 416 | M34: 381 | N34: 347 | O34: 327 | P34: 321 | Q34: 302 | R34: 285 | S34: 268 | T34: 288 | U34: 318 | V34: 304
A35: Unión Europea | B35: 15 | C35: 15 | D35: 15 | E35: 16 | F35: 15 | G35: 194 | H35: 241 | I35: 266 | J35: 288 | K35: 299 | L35: 301 | M35: 272 | N35: 235 | O35: 215 | P35: 210 | Q35: 203 | R35: 182 | S35: 172 | T35: 169 | U35: 162 | V35: 155
A36: Europa (sin UE) | B36: 39 | C36: 72 | D36: 107 | E36: 143 | F36: 178 | G36: 3 | H36: 3 | I36: 3 | J36: 3 | K36: 3 | L36: 3 | M36: 3 | N36: 3 | O36: 3 | P36: 4 | Q36: 3 | R36: 3 | S36: 3 | T36: 6 | U36: 16 | V36: 15
A37: África | B37: 30 | C37: 40 | D37: 46 | E37: 43 | F37: 44 | G37: 53 | H37: 68 | I37: 67 | J37: 64 | K37: 63 | L37: 63 | M37: 63 | N37: 66 | O37: 68 | P37: 68 | Q37: 59 | R37: 61 | S37: 60 | T37: 61 | U37: 68 | V37: 61
A38: América del Norte | B38: 0 | C38: 0 | D38: 0 | E38: 0 | F38: 0 | G38: 0 | H38: 0 | I38: 0 | J38: 1 | K38: 1 | L38: 0 | M38: 0 | N38: 0 | O38: 0 | P38: 0 | Q38: 0 | R38: 0 | S38: 0 | T38: 0 | U38: 1 | V38: 2
A39: América Central/Caribe | B39: 1 | C39: 4 | D39: 3 | E39: 4 | F39: 3 | G39: 3 | H39: 4 | I39: 4 | J39: 5 | K39: 7 | L39: 7 | M39: 7 | N39: 7 | O39: 6 | P39: 5 | Q39: 7 | R39: 7 | S39: 3 | T39: 9 | U39: 14 | V39: 15
A40: América del Sur | B40: 14 | C40: 26 | D40: 25 | E40: 26 | F40: 32 | G40: 34 | H40: 43 | I40: 40 | J40: 46 | K40: 37 | L40: 35 | M40: 29 | N40: 27 | O40: 26 | P40: 25 | Q40: 21 | R40: 23 | S40: 22 | T40: 29 | U40: 37 | V40: 43
A41: Asia | B41: 1 | C41: 3 | D41: 2 | E41: 3 | F41: 2 | G41: 5 | H41: 7 | I41: 7 | J41: 7 | K41: 7 | L41: 7 | M41: 7 | N41: 9 | O41: 9 | P41: 9 | Q41: 9 | R41: 9 | S41: 8 | T41: 14 | U41: 20 | V41: 13
A42: Oceanía | B42: 0 | C42: 0 | D42: 0 | E42: 0 | F42: 0 | G42: 0 | H42: 0 | I42: 0 | J42: 0 | K42: 0 | L42: 0 | M42: 0 | N42: 0 | O42: 0 | P42: 0 | Q42: 0 | R42: 0 | S42: 0 | T42: 0 | U42: 0 | V42: 0
A43: Fuente: Portal Estadístic de la Generalitat Valenciana (PEGV)
A47: 6.2. Proporción de residentes nacidos en el extranjero según continentes
A49: Ambos sexos | B49: 2002 | C49: 2003 | D49: 2004 | E49: 2005 | F49: 2006 | G49: 2007 | H49: 2008 | I49: 2009 | J49: 2010 | K49: 2011 | L49: 2012 | M49: 2013 | N49: 2014 | O49: 2015 | P49: 2016 | Q49: 2017 | R49: 2018 | S49: 2019 | T49: 2020 | U49: 2021 | V49: 2022
A50: Total | B50: =SUM(B51:B58) -> 1 | C50: =SUM(C51:C58) -> 1 | D50: =SUM(D51:D58) -> 1 | E50: =SUM(E51:E58) -> 1 | F50: =SUM(F51:F58) -> 1 | G50: =SUM(G51:G58) -> 1 | H50: =SUM(H51:H58) -> 1 | I50: =SUM(I51:I58) -> 1 | ... V50: =SUM(V51:V58) -> 1
A51: Unión Europea | B51: =B9/B8 -> 0.10033445 | C51: =C9/C8 -> 0.076372315 | D51: =D9/D8 -> 0.066528067 | E51: =E9/E8 -> 0.058510638 | F51: =F9/F8 -> 0.04718417 | G51: =G9/G8 -> 0.67293777 | H51: =H9/H8 -> 0.65895954 | I51: =I9/I8 -> 0.69031532 | ... V51: =V9/V8 -> 0.49749583
A52: Europa (sin UE) | B52: =B10/B8 -> 0.40802676 | C52: =C10/C8 -> 0.50357995 | D52: =D10/D8 -> 0.56340956 | E52: =E10/E8 -> 0.64184397 | F52: =F10/F8 -> 0.65753425 | G52: =G10/G8 -> 0.00723589 | H52: =H10/H8 -> 0.0080924855 | I52: =I10/I8 -> 0.0078828829 | ... V52: =V10/V8 -> 0.038397329
A53: África | B53: =B11/B8 -> 0.39464883 | C53: =C11/C8 -> 0.30071599 | D53: =D11/D8 -> 0.26195426 | E53: =E11/E8 -> 0.20390071 | F53: =F11/F8 -> 0.20395738 | G53: =G11/G8 -> 0.21128799 | H53: =H11/H8 -> 0.22312139 | I53: =I11/I8 -> 0.20045045 | ... V53: =V11/V8 -> 0.278798
A54: América del Norte | B54: =B12/B8 -> 0 | C54: =C12/C8 -> 0 | D54: =D12/D8 -> 0 | E54: =E12/E8 -> 0 | F54: =F12/F8 -> 0 | G54: =G12/G8 -> 0 | H54: =H12/H8 -> 0 | I54: =I12/I8 -> 0 | ... V54: =V12/V8 -> 0.0033388982
A55: América Central/Caribe | B55: =B13/B8 -> 0.0033444816 | C55: =C13/C8 -> 0.011933174 | D55: =D13/D8 -> 0.0083160083 | E55: =E13/E8 -> 0.0088652482 | F55: =F13/F8 -> 0.0060882801 | G55: =G13/G8 -> 0.005788712 | H55: =H13/H8 -> 0.0057803468 | I55: =I13/I8 -> 0.0056306306 | ... V55: =V13/V8 -> 0.035058431
A56: América del Sur | B56: =B14/B8 -> 0.090301003 | C56: =C14/C8 -> 0.097852029 | D56: =D14/D8 -> 0.087318087 | E56: =E14/E8 -> 0.072695035 | F56: =F14/F8 -> 0.077625571 | G56: =G14/G8 -> 0.091172214 | H56: =H14/H8 -> 0.09017341 | I56: =I14/I8 -> 0.079954955 | ... V56: =V14/V8 -> 0.10517529
A57: Asia | B57: =B15/B8 -> 0.0033444816 | C57: =C15/C8 -> 0.0095465394 | D57: =D15/D8 -> 0.012474012 | E57: =E15/E8 -> 0.014184397 | F57: =F15/F8 -> 0.0076103501 | G57: =G15/G8 -> 0.011577424 | H57: =H15/H8 -> 0.013872832 | I57: =I15/I8 -> 0.015765766 | ... V57: =V15/V8 -> 0.041736227
A58: Oceanía | B58: =B16/B8 -> 0 | C58: =C16/C8 -> 0 | D58: =D16/D8 -> 0 | E58: =E16/E8 -> 0 | F58: =F16/F8 -> 0 | G58: =G16/G8 -> 0 | H58: =H16/H8 -> 0 | I58: =I16/I8 -> 0 | ... V58: =V16/V8 -> 0
A59: Fuente: Elaboración Social·Lab a partir de los datos del Portal Estadístic de la Generalitat Valenciana (PEGV)
A62: Hombres | B62: 2002 | C62: 2003 | D62: 2004 | E62: 2005 | F62: 2006 | G62: 2007 | H62: 2008 | I62: 2009 | J62: 2010 | K62: 2011 | L62: 2012 | M62: 2013 | N62: 2014 | O62: 2015 | P62: 2016 | Q62: 2017 | R62: 2018 | S62: 2019 | T62: 2020 | U62: 2021 | V62: 2022
A63: Total | B63: =SUM(B64:B71) -> 1 | C63: =SUM(C64:C71) -> 1 | D63: =SUM(D64:D71) -> 1 | E63: =SUM(E64:E71) -> 1 | F63: =SUM(F64:F71) -> 1 | G63: =SUM(G64:G71) -> 1 | H63: =SUM(H64:H71) -> 1 | I63: =SUM(I64:I71) -> 1 | ... V63: =SUM(V64:V71) -> 1
A64: Unión Europea | B64: =B22/B21 -> 0.075376884 | C64: =C22/C21 -> 0.065637066 | D64: =D22/D21 -> 0.060070671 | E64: =E22/E21 -> 0.051671733 | F64: =F22/F21 -> 0.041775457 | G64: =G22/G21 -> 0.67919799 | H64: =H22/H21 -> 0.65931864 | I64: =I22/I21 -> 0.69261477 | ... V64: =V22/V21 -> 0.48474576
A65: Europa (sin UE) | B65: =B23/B21 -> 0.41708543 | C65: =C23/C21 -> 0.53667954 | D65: =D23/D21 -> 0.5795053 | E65: =E23/E21 -> 0.6656535 | F65: =F23/F21 -> 0.66318538 | G65: =G23/G21 -> 0.0050125313 | H65: =H23/H21 -> 0.0080160321 | I65: =I23/I21 -> 0.0079840319 | ... V65: =V23/V21 -> 0.027118644
A66: África | B66: =B24/B21 -> 0.44221106 | C66: =C24/C21 -> 0.33204633 | D66: =D24/D21 -> 0.28268551 | E66: =E24/E21 -> 0.21884498 | F66: =F24/F21 -> 0.23498695 | G66: =G24/G21 -> 0.23308271 | H66: =H24/H21 -> 0.250501 | I66: =I24/I21 -> 0.22155689 | ... V66: =V24/V21 -> 0.35932203
A67: América del Norte | B67: =B25/B21 -> 0 | C67: =C25/C21 -> 0 | D67: =D25/D21 -> 0 | E67: =E25/E21 -> 0 | F67: =F25/F21 -> 0 | G67: =G25/G21 -> 0 | H67: =H25/H21 -> 0 | I67: =I25/I21 -> 0 | ... V67: =V25/V21 -> 0
A68: América Central/Caribe | B68: =B26/B21 -> 0 | C68: =C26/C21 -> 0.0038610039 | D68: =D26/D21 -> 0.0035335689 | E68: =E26/E21 -> 0.0030395137 | F68: =F26/F21 -> 0.0026109661 | G68: =G26/G21 -> 0.0025062657 | H68: =H26/H21 -> 0.002004008 | I68: =I26/I21 -> 0.001996008 | ... V68: =V26/V21 -> 0.020338983
A69: América del Sur | B69: =B27/B21 -> 0.065326633 | C69: =C27/C21 -> 0.057915058 | D69: =D27/D21 -> 0.060070671 | E69: =E27/E21 -> 0.045592705 | F69: =F27/F21 -> 0.049608355 | G69: =G27/G21 -> 0.072681704 | H69: =H27/H21 -> 0.070140281 | I69: =I27/I21 -> 0.061876248 | ... V69: =V27/V21 -> 0.06779661
A70: Asia | B70: =B28/B21 -> 0 | C70: =C28/C21 -> 0.0038610039 | D70: =D28/D21 -> 0.014134276 | E70: =E28/E21 -> 0.015197568 | F70: =F28/F21 -> 0.0078328982 | G70: =G28/G21 -> 0.007518797 | H70: =H28/H21 -> 0.01002004 | I70: =I28/I21 -> 0.013972056 | ... V70: =V28/V21 -> 0.040677966
A71: Oceanía | B71: =B29/B21 -> 0 | C71: =C29/C21 -> 0 | D71: =D29/D21 -> 0 | E71: =E29/E21 -> 0 | F71: =F29/F21 -> 0 | G71: =G29/G21 -> 0 | H71: =H29/H21 -> 0 | I71: =I29/I21 -> 0 | ... V71: =V29/V21 -> 0
A72: Fuente: Elaboración Social·Lab a partir de los datos del Portal Estadístic de la Generalitat Valenciana (PEGV)
A75: Mujeres | B75: 2002 | C75: 2003 | D75: 2004 | E75: 2005 | F75: 2006 | G75: 2007 | H75: 2008 | I75: 2009 | J75: 2010 | K75: 2011 | L75: 2012 | M75: 2013 | N75: 2014 | O75: 2015 | P75: 2016 | Q75: 2017 | R75: 2018 | S75: 2019 | T75: 2020 | U75: 2021 | V75: 2022
A76: Total | B76: =SUM(B77:B84) -> 1 | C76: =SUM(C77:C84) -> 1 | D76: =SUM(D77:D84) -> 1 | E76: =SUM(E77:E84) -> 1 | F76: =SUM(F77:F84) -> 1 | G76: =SUM(G77:G84) -> 1 | H76: =SUM(H77:H84) -> 1 | I76: =SUM(I77:I84) -> 1 | ... V76: =SUM(V77:V84) -> 1
A77: Unión Europea | B77: =B35/B34 -> 0.15 | C77: =C35/C34 -> 0.09375 | D77: =D35/D34 -> 0.075757576 | E77: =E35/E34 -> 0.068085106 | F77: =F35/F34 -> 0.054744526 | G77: =G35/G34 -> 0.66438356 | H77: =H35/H34 -> 0.65846995 | I77: =I35/I34 -> 0.6873385 | ... V77: =V35/V34 -> 0.50986842
A78: Europa (sin UE) | B78: =B36/B34 -> 0.39 | C78: =C36/C34 -> 0.45 | D78: =D36/D34 -> 0.54040404 | E78: =E36/E34 -> 0.60851064 | F78: =F36/F34 -> 0.64963504 | G78: =G36/G34 -> 0.010273973 | H78: =H36/H34 -> 0.0081967213 | I78: =I36/I34 -> 0.007751938 | ... V78: =V36/V34 -> 0.049342105
A79: África | B79: =B37/B34 -> 0.3 | C79: =C37/C34 -> 0.25 | D79: =D37/D34 -> 0.23232323 | E79: =E37/E34 -> 0.18297872 | F79: =F37/F34 -> 0.16058394 | G79: =G37/G34 -> 0.18150685 | H79: =H37/H34 -> 0.18579235 | I79: =I37/I34 -> 0.17312661 | ... V79: =V37/V34 -> 0.20065789
A80: América del Norte | B80: =B38/B34 -> 0 | C80: =C38/C34 -> 0 | D80: =D38/D34 -> 0 | E80: =E38/E34 -> 0 | F80: =F38/F34 -> 0 | G80: =G38/G34 -> 0 | H80: =H38/H34 -> 0 | I80: =I38/I34 -> 0 | ... V80: =V38/V34 -> 0.0065789474
A81: América Central/Caribe | B81: =B39/B34 -> 0.01 | C81: =C39/C34 -> 0.025 | D81: =D39/D34 -> 0.015151515 | E81: =E39/E34 -> 0.017021277 | F81: =F39/F34 -> 0.010948905 | G81: =G39/G34 -> 0.010273973 | H81: =H39/H34 -> 0.010928962 | I81: =I39/I34 -> 0.010335917 | ... V81: =V39/V34 -> 0.049342105
A82: América del Sur | B82: =B40/B34 -> 0.14 | C82: =C40/C34 -> 0.1625 | D82: =D40/D34 -> 0.12626263 | E82: =E40/E34 -> 0.1106383 | F82: =F40/F34 -> 0.11678832 | G82: =G40/G34 -> 0.11643836 | H82: =H40/H34 -> 0.11748634 | I82: =I40/I34 -> 0.10335917 | ... V82: =V40/V34 -> 0.14144737
A83: Asia | B83: =B41/B34 -> 0.01 | C83: =C41/C34 -> 0.01875 | D83: =D41/D34 -> 0.01010101 | E83: =E41/E34 -> 0.012765957 | F83: =F41/F34 -> 0.0072992701 | G83: =G41/G34 -> 0.017123288 | H83: =H41/H34 -> 0.019125683 | I83: =I41/I34 -> 0.018087855 | ... V83: =V41/V34 -> 0.042763158
A84: Oceanía | B84: =B42/B34 -> 0 | C84: =C42/C34 -> 0 | D84: =D42/D34 -> 0 | E84: =E42/E34 -> 0 | F84: =F42/F34 -> 0 | G84: =G42/G34 -> 0 | H84: =H42/H34 -> 0 | I84: =I42/I34 -> 0 | ... V84: =V42/V34 -> 0
A85: Fuente: Elaboración Social·Lab a partir de los datos del Portal Estadístic de la Generalitat Valenciana (PEGV)

Sheet Continente de nacionalidad
A1: L'Alt Maestrat
A2: 7. Residentes con nacionalidad extranjera según continentes. Evolución 2002-2022
A5: 7.1. Residentes con nacionalidad extranjera según continentes (datos absolutos)
A7: Ambos sexos | B7: 2002 | C7: 2003 | D7: 2004 | E7: 2005 | F7: 2006 | G7: 2007 | H7: 2008 | I7: 2009 | J7: 2010 | K7: 2011 | L7: 2012 | M7: 2013 | N7: 2014 | O7: 2015 | P7: 2016 | Q7: 2017 | R7: 2018 | S7: 2019 | T7: 2020 | U7: 2021 | V7: 2022
A8: Total | B8: 267 | C8: 379 | D8: 440 | E8: 530 | F8: 636 | G8: 683 | H8: 863 | I8: 894 | J8: 939 | K8: 930 | L8: 923 | M8: 874 | N8: 761 | O8: 704 | P8: 673 | Q8: 618 | R8: 599 | S8: 594 | T8: 615 | U8: 642 | V8: 626
A9: Unión Europea | B9: 4 | C9: 6 | D9: 8 | E9: 10 | F9: 10 | G9: 453 | H9: 567 | I9: 612 | J9: 662 | K9: 673 | L9: 673 | M9: 631 | N9: 516 | O9: 457 | P9: 444 | Q9: 409 | R9: 385 | S9: 372 | T9: 356 | U9: 341 | V9: 340
A10: Europa (sin UE) | B10: 124 | C10: 204 | D10: 263 | E10: 356 | F10: 435 | G10: 4 | H10: 6 | I10: 6 | J10: 5 | K10: 4 | L10: 4 | M10: 4 | N10: 4 | O10: 4 | P10: 7 | Q10: 5 | R10: 6 | S10: 7 | T10: 10 | U10: 19 | V10: 18
A11: África | B11: 114 | C11: 125 | D11: 126 | E11: 116 | F11: 136 | G11: 155 | H11: 204 | I11: 196 | J11: 185 | K11: 182 | L11: 182 | M11: 181 | N11: 184 | O11: 186 | P11: 175 | Q11: 163 | R11: 166 | S11: 175 | T11: 187 | U11: 201 | V11: 188
A12: América del Norte | B12: 0 | C12: 1 | D12: 1 | E12: 1 | F12: 1 | G12: 0 | H12: 0 | I12: 0 | J12: 2 | K12: 2 | L12: 0 | M12: 0 | N12: 0 | O12: 0 | P12: 1 | Q12: 1 | R12: 1 | S12: 1 | T12: 1 | U12: 1 | V12: 1
A13: América Central/Caribe | B13: 2 | C13: 5 | D13: 4 | E13: 5 | F13: 4 | G13: 4 | H13: 5 | I13: 4 | J13: 4 | K13: 7 | L13: 7 | M13: 7 | N13: 6 | O13: 5 | P13: 4 | Q13: 5 | R13: 5 | S13: 4 | T13: 9 | U13: 18 | V13: 20
A14: América del Sur | B14: 22 | C14: 34 | D14: 32 | E14: 34 | F14: 45 | G14: 59 | H14: 69 | I14: 61 | J14: 59 | K14: 40 | L14: 32 | M14: 22 | N14: 18 | O14: 17 | P14: 14 | Q14: 11 | R14: 13 | S14: 14 | T14: 18 | U14: 26 | V14: 35
A15: Asia | B15: 1 | C15: 4 | D15: 6 | E15: 8 | F15: 5 | G15: 8 | H15: 12 | I15: 15 | J15: 22 | K15: 22 | L15: 25 | M15: 29 | N15: 33 | O15: 35 | P15: 28 | Q15: 24 | R15: 23 | S15: 21 | T15: 34 | U15: 36 | V15: 24
A16: Oceanía | B16: 0 | C16: 0 | D16: 0 | E16: 0 | F16: 0 | G16: 0 | H16: 0 | I16: 0 | J16: 0 | K16: 0 | L16: 0 | M16: 0 | N16: 0 | O16: 0 | P16: 0 | Q16: 0 | R16: 0 | S16: 0 | T16: 0 | U16: 0 | V16: 0
A17: Apátridas | B17: 0 | C17: 0 | D17: 0 | E17: 0 | F17: 0 | G17: 0 | H17: 0 | I17: 0 | J17: 0 | K17: 0 | L17: 0 | M17: 0 | N17: 0 | O17: 0 | P17: 0 | Q17: 0 | R17: 0 | S17: 0 | T17: 0 | U17: 0 | V17: 0
A18: Fuente: Portal Estadístic de la Generalitat Valenciana (PEGV)
A21: Hombres | B21: 2002 | C21: 2003 | D21: 2004 | E21: 2005 | F21: 2006 | G21: 2007 | H21: 2008 | I21: 2009 | J21: 2010 | K21: 2011 | L21: 2012 | M21: 2013 | N21: 2014 | O21: 2015 | P21: 2016 | Q21: 2017 | R21: 2018 | S21: 2019 | T21: 2020 | U21: 2021 | V21: 2022
A22: Total | B22: 182 | C22: 238 | D22: 259 | E22: 312 | F22: 376 | G22: 398 | H22: 504 | I22: 513 | J22: 523 | K22: 509 | L22: 505 | M22: 492 | N22: 410 | O22: 369 | P22: 343 | Q22: 305 | R22: 298 | S22: 305 | T22: 308 | U22: 322 | V22: 321
A23: Unión Europea | B23: 3 | C23: 5 | D23: 5 | E23: 6 | F23: 7 | G23: 267 | H23: 332 | I23: 351 | J23: 374 | K23: 374 | L23: 372 | M23: 358 | N23: 279 | O23: 237 | P23: 223 | Q23: 197 | R23: 191 | S23: 186 | T23: 172 | U23: 169 | V23: 170
A24: Europa (sin UE) | B24: 86 | C24: 134 | D24: 159 | E24: 215 | F24: 257 | G24: 1 | H24: 3 | I24: 3 | J24: 2 | K24: 1 | L24: 1 | M24: 1 | N24: 1 | O24: 1 | P24: 3 | Q24: 2 | R24: 3 | S24: 3 | T24: 4 | U24: 7 | V24: 7
A25: África | B25: 84 | C25: 85 | D25: 79 | E25: 72 | F25: 90 | G25: 97 | H25: 130 | I25: 122 | J25: 110 | K25: 104 | L25: 102 | M25: 101 | N25: 99 | O25: 99 | P25: 93 | Q25: 85 | R25: 86 | S25: 100 | T25: 110 | U25: 119 | V25: 119
A26: América del Norte | B26: 0 | C26: 0 | D26: 0 | E26: 0 | F26: 0 | G26: 0 | H26: 0 | I26: 0 | J26: 1 | K26: 1 | L26: 0 | M26: 0 | N26: 0 | O26: 0 | P26: 1 | Q26: 1 | R26: 1 | S26: 1 | T26: 1 | U26: 1 | V26: 0
A27: América Central/Caribe | B27: 0 | C27: 1 | D27: 1 | E27: 1 | F27: 1 | G27: 1 | H27: 1 | I27: 1 | J27: 1 | K27: 2 | L27: 2 | M27: 2 | N27: 1 | O27: 1 | P27: 1 | Q27: 1 | R27: 1 | S27: 1 | T27: 0 | U27: 4 | V27: 5
A28: América del Sur | B28: 9 | C28: 12 | D28: 11 | E28: 13 | F28: 18 | G28: 29 | H28: 33 | I28: 28 | J28: 20 | K28: 12 | L28: 10 | M28: 8 | N28: 6 | O28: 6 | P28: 4 | Q28: 4 | R28: 4 | S28: 4 | T28: 4 | U28: 6 | V28: 9
A29: Asia | B29: 0 | C29: 1 | D29: 4 | E29: 5 | F29: 3 | G29: 3 | H29: 5 | I29: 8 | J29: 15 | K29: 15 | L29: 18 | M29: 22 | N29: 24 | O29: 25 | P29: 18 | Q29: 15 | R29: 12 | S29: 10 | T29: 17 | U29: 16 | V29: 11
A30: Oceanía | B30: 0 | C30: 0 | D30: 0 | E30: 0 | F30: 0 | G30: 0 | H30: 0 | I30: 0 | J30: 0 | K30: 0 | L30: 0 | M30: 0 | N30: 0 | O30: 0 | P30: 0 | Q30: 0 | R30: 0 | S30: 0 | T30: 0 | U30: 0 | V30: 0
A31: Apátridas | B31: 0 | C31: 0 | D31: 0 | E31: 0 | F31: 0 | G31: 0 | H31: 0 | I31: 0 | J31: 0 | K31: 0 | L31: 0 | M31: 0 | N31: 0 | O31: 0 | P31: 0 | Q31: 0 | R31: 0 | S31: 0 | T31: 0 | U31: 0 | V31: 0
A32: Fuente: Portal Estadístic de la Generalitat Valenciana (PEGV)
A35: Mujeres | B35: 2002 | C35: 2003 | D35: 2004 | E35: 2005 | F35: 2006 | G35: 2007 | H35: 2008 | I35: 2009 | J35: 2010 | K35: 2011 | L35: 2012 | M35: 2013 | N35: 2014 | O35: 2015 | P35: 2016 | Q35: 2017 | R35: 2018 | S35: 2019 | T35: 2020 | U35: 2021 | V35: 2022
A36: Total | B36: 85 | C36: 141 | D36: 181 | E36: 218 | F36: 260 | G36: 285 | H36: 359 | I36: 381 | J36: 416 | K36: 421 | L36: 418 | M36: 382 | N36: 351 | O36: 335 | P36: 330 | Q36: 313 | R36: 301 | S36: 289 | T36: 307 | U36: 320 | V36: 305
A37: Unión Europea | B37: 1 | C37: 1 | D37: 3 | E37: 4 | F37: 3 | G37: 186 | H37: 235 | I37: 261 | J37: 288 | K37: 299 | L37: 301 | M37: 273 | N37: 237 | O37: 220 | P37: 221 | Q37: 212 | R37: 194 | S37: 186 | T37: 184 | U37: 172 | V37: 170
A38: Europa (sin UE) | B38: 38 | C38: 70 | D38: 104 | E38: 141 | F38: 178 | G38: 3 | H38: 3 | I38: 3 | J38: 3 | K38: 3 | L38: 3 | M38: 3 | N38: 3 | O38: 3 | P38: 4 | Q38: 3 | R38: 3 | S38: 4 | T38: 6 | U38: 12 | V38: 11
A39: África | B39: 30 | C39: 40 | D39: 47 | E39: 44 | F39: 46 | G39: 58 | H39: 74 | I39: 74 | J39: 75 | K39: 78 | L39: 80 | M39: 80 | N39: 85 | O39: 87 | P39: 82 | Q39: 78 | R39: 80 | S39: 75 | T39: 77 | U39: 82 | V39: 69
A40: América del Norte | B40: 0 | C40: 1 | D40: 1 | E40: 1 | F40: 1 | G40: 0 | H40: 0 | I40: 0 | J40: 1 | K40: 1 | L40: 0 | M40: 0 | N40: 0 | O40: 0 | P40: 0 | Q40: 0 | R40: 0 | S40: 0 | T40: 0 | U40: 0 | V40: 1
A41: América Central/Caribe | B41: 2 | C41: 4 | D41: 3 | E41: 4 | F41: 3 | G41: 3 | H41: 4 | I41: 3 | J41: 3 | K41: 5 | L41: 5 | M41: 5 | N41: 5 | O41: 4 | P41: 3 | Q41: 4 | R41: 4 | S41: 3 | T41: 9 | U41: 14 | V41: 15
A42: América del Sur | B42: 13 | C42: 22 | D42: 21 | E42: 21 | F42: 27 | G42: 30 | H42: 36 | I42: 33 | J42: 39 | K42: 28 | L42: 22 | M42: 14 | N42: 12 | O42: 11 | P42: 10 | Q42: 7 | R42: 9 | S42: 10 | T42: 14 | U42: 20 | V42: 26
A43: Asia | B43: 1 | C43: 3 | D43: 2 | E43: 3 | F43: 2 | G43: 5 | H43: 7 | I43: 7 | J43: 7 | K43: 7 | L43: 7 | M43: 7 | N43: 9 | O43: 10 | P43: 10 | Q43: 9 | R43: 11 | S43: 11 | T43: 17 | U43: 20 | V43: 13
A44: Oceanía | B44: 0 | C44: 0 | D44: 0 | E44: 0 | F44: 0 | G44: 0 | H44: 0 | I44: 0 | J44: 0 | K44: 0 | L44: 0 | M44: 0 | N44: 0 | O44: 0 | P44: 0 | Q44: 0 | R44: 0 | S44: 0 | T44: 0 | U44: 0 | V44: 0
A45: Apátridas | B45: 0 | C45: 0 | D45: 0 | E45: 0 | F45: 0 | G45: 0 | H45: 0 | I45: 0 | J45: 0 | K45: 0 | L45: 0 | M45: 0 | N45: 0 | O45: 0 | P45: 0 | Q45: 0 | R45: 0 | S45: 0 | T45: 0 | U45: 0 | V45: 0
A46: Fuente: Portal Estadístic de la Generalitat Valenciana (PEGV)
A50: 7.2. Proporción de residentes con nacionalidad extranjera según continentes
A52: Ambos sexos | B52: 2002 | C52: 2003 | D52: 2004 | E52: 2005 | F52: 2006 | G52: 2007 | H52: 2008 | I52: 2009 | J52: 2010 | K52: 2011 | L52: 2012 | M52: 2013 | N52: 2014 | O52: 2015 | P52: 2016 | Q52: 2017 | R52: 2018 | S52: 2019 | T52: 2020 | U52: 2021 | V52: 2022
A53: Total | B53: =SUM(B54:B62) -> 1 | C53: =SUM(C54:C62) -> 1 | D53: =SUM(D54:D62) -> 1 | E53: =SUM(E54:E62) -> 1 | F53: =SUM(F54:F62) -> 1 | G53: =SUM(G54:G62) -> 1 | H53: =SUM(H54:H62) -> 1 | I53: =SUM(I54:I62) -> 1 | ... V53: =SUM(V54:V62) -> 1
A54: Unión Europea | B54: =B9/B8 -> 0.014981273 | C54: =C9/C8 -> 0.015831135 | D54: =D9/D8 -> 0.018181818 | E54: =E9/E8 -> 0.018867925 | F54: =F9/F8 -> 0.01572327 | G54: =G9/G8 -> 0.66325037 | H54: =H9/H8 -> 0.65701043 | I54: =I9/I8 -> 0.68456376 | ... V54: =V9/V8 -> 0.54313099
A55: Europa (sin UE) | B55: =B10/B8 -> 0.46441948 | C55: =C10/C8 -> 0.53825858 | D55: =D10/D8 -> 0.59772727 | E55: =E10/E8 -> 0.67169811 | F55: =F10/F8 -> 0.68396226 | G55: =G10/G8 -> 0.0058565154 | H55: =H10/H8 -> 0.0069524913 | I55: =I10/I8 -> 0.0067114094 | ... V55: =V10/V8 -> 0.028753994
A56: África | B56: =B11/B8 -> 0.42696629 | C56: =C11/C8 -> 0.3298153 | D56: =D11/D8 -> 0.28636364 | E56: =E11/E8 -> 0.21886792 | F56: =F11/F8 -> 0.21383648 | G56: =G11/G8 -> 0.22693997 | H56: =H11/H8 -> 0.2363847 | I56: =I11/I8 -> 0.21923937 | ... V56: =V11/V8 -> 0.30031949
A57: América del Norte | B57: =B12/B8 -> 0 | C57: =C12/C8 -> 0.0026385224 | D57: =D12/D8 -> 0.0022727273 | E57: =E12/E8 -> 0.0018867925 | F57: =F12/F8 -> 0.001572327 | G57: =G12/G8 -> 0 | H57: =H12/H8 -> 0 | I57: =I12/I8 -> 0 | ... V57: =V12/V8 -> 0.0015974441
A58: América Central/Caribe | B58: =B13/B8 -> 0.0074906367 | C58: =C13/C8 -> 0.013192612 | D58: =D13/D8 -> 0.0090909091 | E58: =E13/E8 -> 0.0094339623 | F58: =F13/F8 -> 0.0062893082 | G58: =G13/G8 -> 0.0058565154 | H58: =H13/H8 -> 0.0057937428 | I58: =I13/I8 -> 0.0044742729 | ... V58: =V13/V8 -> 0.031948882
A59: América del Sur | B59: =B14/B8 -> 0.082397004 | C59: =C14/C8 -> 0.089709763 | D59: =D14/D8 -> 0.072727273 | E59: =E14/E8 -> 0.064150943 | F59: =F14/F8 -> 0.070754717 | G59: =G14/G8 -> 0.086383602 | H59: =H14/H8 -> 0.07995365 | I59: =I14/I8 -> 0.068232662 | ... V59: =V14/V8 -> 0.055910543
A60: Asia | B60: =B15/B8 -> 0.0037453184 | C60: =C15/C8 -> 0.01055409 | D60: =D15/D8 -> 0.013636364 | E60: =E15/E8 -> 0.01509434 | F60: =F15/F8 -> 0.0078616352 | G60: =G15/G8 -> 0.011713031 | H60: =H15/H8 -> 0.013904983 | I60: =I15/I8 -> 0.016778523 | ... V60: =V15/V8 -> 0.038338658
A61: Oceanía | B61: =B16/B8 -> 0 | C61: =C16/C8 -> 0 | D61: =D16/D8 -> 0 | E61: =E16/E8 -> 0 | F61: =F16/F8 -> 0 | G61: =G16/G8 -> 0 | H61: =H16/H8 -> 0 | I61: =I16/I8 -> 0 | ... V61: =V16/V8 -> 0
A62: Apátridas | B62: =B17/B8 -> 0 | C62: =C17/C8 -> 0 | D62: =D17/D8 -> 0 | E62: =E17/E8 -> 0 | F62: =F17/F8 -> 0 | G62: =G17/G8 -> 0 | H62: =H17/H8 -> 0 | I62: =I17/I8 -> 0 | ... V62: =V17/V8 -> 0
A63: Fuente: Elaboración Social·Lab a partir de los datos del Portal Estadístic de la Generalitat Valenciana (PEGV)
A66: Hombres | B66: 2002 | C66: 2003 | D66: 2004 | E66: 2005 | F66: 2006 | G66: 2007 | H66: 2008 | I66: 2009 | J66: 2010 | K66: 2011 | L66: 2012 | M66: 2013 | N66: 2014 | O66: 2015 | P66: 2016 | Q66: 2017 | R66: 2018 | S66: 2019 | T66: 2020 | U66: 2021 | V66: 2022
A67: Total | B67: =SUM(B68:B76) -> 1 | C67: =SUM(C68:C76) -> 1 | D67: =SUM(D68:D76) -> 1 | E67: =SUM(E68:E76) -> 1 | F67: =SUM(F68:F76) -> 1 | G67: =SUM(G68:G76) -> 1 | H67: =SUM(H68:H76) -> 1 | I67: =SUM(I68:I76) -> 1 | ... V67: =SUM(V68:V76) -> 1
A68: Unión Europea | B68: =B23/B22 -> 0.016483516 | C68: =C23/C22 -> 0.021008403 | D68: =D23/D22 -> 0.019305019 | E68: =E23/E22 -> 0.019230769 | F68: =F23/F22 -> 0.018617021 | G68: =G23/G22 -> 0.67085427 | H68: =H23/H22 -> 0.65873016 | I68: =I23/I22 -> 0.68421053 | ... V68: =V23/V22 -> 0.52959502
A69: Europa (sin UE) | B69: =B24/B22 -> 0.47252747 | C69: =C24/C22 -> 0.56302521 | D69: =D24/D22 -> 0.61389961 | E69: =E24/E22 -> 0.68910256 | F69: =F24/F22 -> 0.68351064 | G69: =G24/G22 -> 0.0025125628 | H69: =H24/H22 -> 0.005952381 | I69: =I24/I22 -> 0.0058479532 | ... V69: =V24/V22 -> 0.021806854
A70: África | B70: =B25/B22 -> 0.46153846 | C70: =C25/C22 -> 0.35714286 | D70: =D25/D22 -> 0.30501931 | E70: =E25/E22 -> 0.23076923 | F70: =F25/F22 -> 0.2393617 | G70: =G25/G22 -> 0.24371859 | H70: =H25/H22 -> 0.25793651 | I70: =I25/I22 -> 0.23781676 | ... V70: =V25/V22 -> 0.37071651
A71: América del Norte | B71: =B26/B22 -> 0 | C71: =C26/C22 -> 0 | D71: =D26/D22 -> 0 | E71: =E26/E22 -> 0 | F71: =F26/F22 -> 0 | G71: =G26/G22 -> 0 | H71: =H26/H22 -> 0 | I71: =I26/I22 -> 0 | ... V71: =V26/V22 -> 0
A72: América Central/Caribe | B72: =B27/B22 -> 0 | C72: =C27/C22 -> 0.0042016807 | D72: =D27/D22 -> 0.0038610039 | E72: =E27/E22 -> 0.0032051282 | F72: =F27/F22 -> 0.0026595745 | G72: =G27/G22 -> 0.0025125628 | H72: =H27/H22 -> 0.001984127 | I72: =I27/I22 -> 0.0019493177 | ... V72: =V27/V22 -> 0.015576324
A73: América del Sur | B73: =B28/B22 -> 0.049450549 | C73: =C28/C22 -> 0.050420168 | D73: =D28/D22 -> 0.042471042 | E73: =E28/E22 -> 0.041666667 | F73: =F28/F22 -> 0.04787234 | G73: =G28/G22 -> 0.072864322 | H73: =H28/H22 -> 0.06547619 | I73: =I28/I22 -> 0.054580897 | ... V73: =V28/V22 -> 0.028037383
A74: Asia | B74: =B29/B22 -> 0 | C74: =C29/C22 -> 0.0042016807 | D74: =D29/D22 -> 0.015444015 | E74: =E29/E22 -> 0.016025641 | F74: =F29/F22 -> 0.0079787234 | G74: =G29/G22 -> 0.0075376884 | H74: =H29/H22 -> 0.0099206349 | I74: =I29/I22 -> 0.015594542 | ... V74: =V29/V22 -> 0.034267913
A75: Oceanía | B75: =B30/B22 -> 0 | C75: =C30/C22 -> 0 | D75: =D30/D22 -> 0 | E75: =E30/E22 -> 0 | F75: =F30/F22 -> 0 | G75: =G30/G22 -> 0 | H75: =H30/H22 -> 0 | I75: =I30/I22 -> 0 | ... V75: =V30/V22 -> 0
A76: Apátridas | B76: =B31/B22 -> 0 | C76: =C31/C22 -> 0 | D76: =D31/D22 -> 0 | E76: =E31/E22 -> 0 | F76: =F31/F22 -> 0 | G76: =G31/G22 -> 0 | H76: =H31/H22 -> 0 | I76: =I31/I22 -> 0 | ... V76: =V31/V22 -> 0
A77: Fuente: Elaboración Social·Lab a partir de los datos del Portal Estadístic de la Generalitat Valenciana (PEGV)
A80: Mujeres | B80: 2002 | C80: 2003 | D80: 2004 | E80: 2005 | F80: 2006 | G80: 2007 | H80: 2008 | I80: 2009 | J80: 2010 | K80: 2011 | L80: 2012 | M80: 2013 | N80: 2014 | O80: 2015 | P80: 2016 | Q80: 2017 | R80: 2018 | S80: 2019 | T80: 2020 | U80: 2021 | V80: 2022
A81: Total | B81: =SUM(B82:B90) -> 1 | C81: =SUM(C82:C90) -> 1 | D81: =SUM(D82:D90) -> 1 | E81: =SUM(E82:E90) -> 1 | F81: =SUM(F82:F90) -> 1 | G81: =SUM(G82:G90) -> 1 | H81: =SUM(H82:H90) -> 1 | I81: =SUM(I82:I90) -> 1 | ... V81: =SUM(V82:V90) -> 1
A82: Unión Europea | B82: =B37/B36 -> 0.011764706 | C82: =C37/C36 -> 0.0070921986 | D82: =D37/D36 -> 0.016574586 | E82: =E37/E36 -> 0.018348624 | F82: =F37/F36 -> 0.011538462 | G82: =G37/G36 -> 0.65263158 | H82: =H37/H36 -> 0.6545961 | I82: =I37/I36 -> 0.68503937 | ... V82: =V37/V36 -> 0.55737705
A83: Europa (sin UE) | B83: =B38/B36 -> 0.44705882 | C83: =C38/C36 -> 0.4964539 | D83: =D38/D36 -> 0.57458564 | E83: =E38/E36 -> 0.64678899 | F83: =F38/F36 -> 0.68461538 | G83: =G38/G36 -> 0.010526316 | H83: =H38/H36 -> 0.008356546 | I83: =I38/I36 -> 0.0078740157 | ... V83: =V38/V36 -> 0.036065574
A84: África | B84: =B39/B36 -> 0.35294118 | C84: =C39/C36 -> 0.28368794 | D84: =D39/D36 -> 0.25966851 | E84: =E39/E36 -> 0.20183486 | F84: =F39/F36 -> 0.17692308 | G84: =G39/G36 -> 0.20350877 | H84: =H39/H36 -> 0.20612813 | I84: =I39/I36 -> 0.19422572 | ... V84: =V39/V36 -> 0.22622951
A85: América del Norte | B85: =B40/B36 -> 0 | C85: =C40/C36 -> 0.0070921986 | D85: =D40/D36 -> 0.0055248619 | E85: =E40/E36 -> 0.004587156 | F85: =F40/F36 -> 0.0038461538 | G85: =G40/G36 -> 0 | H85: =H40/H36 -> 0 | I85: =I40/I36 -> 0 | ... V85: =V40/V36 -> 0.0032786885
A86: América Central/Caribe | B86: =B41/B36 -> 0.023529412 | C86: =C41/C36 -> 0.028368794 | D86: =D41/D36 -> 0.016574586 | E86: =E41/E36 -> 0.018348624 | F86: =F41/F36 -> 0.011538462 | G86: =G41/G36 -> 0.010526316 | H86: =H41/H36 -> 0.011142061 | I86: =I41/I36 -> 0.0078740157 | ... V86: =V41/V36 -> 0.049180328
A87: América del Sur | B87: =B42/B36 -> 0.15294118 | C87: =C42/C36 -> 0.15602837 | D87: =D42/D36 -> 0.1160221 | E87: =E42/E36 -> 0.096330275 | F87: =F42/F36 -> 0.10384615 | G87: =G42/G36 -> 0.10526316 | H87: =H42/H36 -> 0.10027855 | I87: =I42/I36 -> 0.086614173 | ... V87: =V42/V36 -> 0.085245902
A88: Asia | B88: =B43/B36 -> 0.011764706 | C88: =C43/C36 -> 0.021276596 | D88: =D43/D36 -> 0.011049724 | E88: =E43/E36 -> 0.013761468 | F88: =F43/F36 -> 0.0076923077 | G88: =G43/G36 -> 0.01754386 | H88: =H43/H36 -> 0.019498607 | I88: =I43/I36 -> 0.018372703 | ... V88: =V43/V36 -> 0.042622951
A89: Oceanía | B89: =B44/B36 -> 0 | C89: =C44/C36 -> 0 | D89: =D44/D36 -> 0 | E89: =E44/E36 -> 0 | F89: =F44/F36 -> 0 | G89: =G44/G36 -> 0 | H89: =H44/H36 -> 0 | I89: =I44/I36 -> 0 | ... V89: =V44/V36 -> 0
A90: Apátridas | B90: =B45/B36 -> 0 | C90: =C45/C36 -> 0 | D90: =D45/D36 -> 0 | E90: =E45/E36 -> 0 | F90: =F45/F36 -> 0 | G90: =G45/G36 -> 0 | H90: =H45/H36 -> 0 | I90: =I45/I36 -> 0 | ... V90: =V45/V36 -> 0
A91: Fuente: Elaboración Social·Lab a partir de los datos del Portal Estadístic de la Generalitat Valenciana (PEGV)

Sheet Principales países nacimiento
A1: L'Alt Maestrat
A2: 8. Residentes nacidos en el extranjero, según los 16 principales países de nacimiento. Evolución 2002-2022 (datos absolutos)
A5: Ambos sexos | B5: 2002 | C5: 2003 | D5: 2004 | E5: 2005 | F5: 2006 | G5: 2007 | H5: 2008 | I5: 2009 | J5: 2010 | K5: 2011 | L5: 2012 | M5: 2013 | N5: 2014 | O5: 2015 | P5: 2016 | Q5: 2017 | R5: 2018 | S5: 2019 | T5: 2020 | U5: 2021 | V5: 2022
A6: Alemania | B6: 2 | C6: 2 | D6: 2 | E6: 2 | F6: 4 | G6: 5 | H6: 4 | I6: 5 | J6: 5 | K6: 6 | L6: 6 | M6: 6 | N6: 4 | O6: 3 | P6: 5 | Q6: 5 | R6: 4 | S6: 4 | T6: 5 | U6: 6 | V6: 6
A7: Francia | B7: 26 | C7: 28 | D7: 26 | E7: 23 | F7: 21 | G7: 18 | H7: 18 | I7: 18 | J7: 18 | K7: 16 | L7: 15 | M7: 12 | N7: 10 | O7: 10 | P7: 9 | Q7: 9 | R7: 7 | S7: 5 | T7: 6 | U7: 6 | V7: 7
A8: Polonia | B8: 1 | C8: 2 | D8: 2 | E8: 2 | F8: 2 | G8: 3 | H8: 4 | I8: 5 | J8: 5 | K8: 6 | L8: 6 | M8: 6 | N8: 7 | O8: 6 | P8: 4 | Q8: 3 | R8: 3 | S8: 12 | T8: 4 | U8: 4 | V8: 4
A9: Reino Unido | B9: 0 | C9: 0 | D9: 0 | E9: 0 | F9: 0 | G9: 0 | H9: 8 | I9: 11 | J9: 11 | K9: 11 | L9: 12 | M9: 8 | N9: 5 | O9: 3 | P9: 4 | Q9: 6 | R9: 9 | S9: 10 | T9: 11 | U9: 13 | V9: 13
A10: Rumanía | B10: 114 | C10: 200 | D10: 260 | E10: 354 | F10: 424 | G10: 428 | H10: 525 | I10: 562 | J10: 600 | K10: 603 | L10: 601 | M10: 567 | N10: 461 | O10: 402 | P10: 379 | Q10: 349 | R10: 322 | S10: 296 | T10: 285 | U10: 278 | V10: 268
A11: Rusia | B11: 0 | C11: 1 | D11: 1 | E11: 2 | F11: 2 | G11: 2 | H11: 3 | I11: 3 | J11: 2 | K11: 2 | L11: 1 | M11: 1 | N11: 1 | O11: 1 | P11: 1 | Q11: 1 | R11: 1 | S11: 0 | T11: 2 | U11: 3
A12: Ucrania | B12: 5 | C12: 6 | D12: 5 | E12: 4 | F12: 4 | G12: 3 | H12: 3 | I12: 3 | J12: 3 | K12: 3 | L12: 3 | M12: 3 | N12: 3 | O12: 3 | P12: 3 | Q12: 2 | R12: 2 | S12: 3 | T12: 3 | U12: 3 | V12: 3
A13: Argelia | B13: 5 | C13: 6 | D13: 4 | E13: 3 | F13: 3 | G13: 3 | H13: 3 | I13: 1 | J13: 1 | K13: 1 | L13: 1 | M13: 1 | N13: 1 | O13: 1 | P13: 1 | Q13: 1 | R13: 1 | S13: 1 | T13: 2 | U13: 4 | V13: 6
A14: Marruecos | B14: 105 | C14: 114 | D14: 121 | E14: 111 | F14: 131 | G14: 142 | H14: 187 | I14: 175 | J14: 163 | K14: 155 | L14: 148 | M14: 145 | N14: 142 | O14: 143 | P14: 138 | Q14: 128 | R14: 129 | S14: 137 | T14: 146 | U14: 164 | V14: 156
A15: Cuba | B15: 1 | C15: 5 | D15: 4 | E15: 5 | F15: 4 | G15: 4 | H15: 4 | I15: 4 | J15: 2 | K15: 5 | L15: 5 | M15: 5 | N15: 5 | O15: 5 | P15: 5 | Q15: 4 | R15: 4 | S15: 3 | T15: 3 | U15: 2 | V15: 1
A16: Honduras | B16: - | C16: - | D16: - | E16: - | F16: - | G16: 0 | H16: 0 | I16: 0 | J16: 0 | K16: 0 | L16: 0 | M16: 0 | N16: 0 | O16: 0 | P16: 0 | Q16: 2 | R16: 2 | S16: 1 | T16: 8 | U16: 12 | V16: 11
A17: Brasil | B17: 1 | C17: 11 | D17: 8 | E17: 10 | F17: 13 | G17: 34 | H17: 42 | I17: 40 | J17: 42 | K17: 25 | L17: 21 | M17: 19 | N17: 14 | O17: 15 | P17: 13 | Q17: 11 | R17: 13 | S17: 12 | T17: 12 | U17: 11 | V17: 11
A18: Colombia | B18: 17 | C18: 24 | D18: 28 | E18: 27 | F18: 32 | G18: 23 | H18: 27 | I18: 22 | J18: 21 | K18: 20 | L18: 21 | M18: 17 | N18: 17 | O18: 13 | P18: 13 | Q18: 11 | R18: 10 | S18: 9 | T18: 16 | U18: 21 | V18: 30
A19: Perú | B19: 1 | C19: 1 | D19: 1 | E19: 1 | F19: 2 | G19: 3 | H19: 3 | I19: 3 | J19: 3 | K19: 3 | L19: 3 | M19: 3 | N19: 3 | O19: 3 | P19: 3 | Q19: 3 | R19: 3 | S19: 3 | T19: 3 | U19: 3 | V19: 3
A20: China | B20: 1 | C20: 4 | D20: 6 | E20: 8 | F20: 5 | G20: 4 | H20: 5 | I20: 5 | J20: 2 | K20: 3 | L20: 3 | M20: 3 | N20: 3 | O20: 3 | P20: 3 | Q20: 5 | R20: 5 | S20: 5 | T20: 5 | U20: 5 | V20: 5
A21: Pakistán | B21: 0 | C21: 0 | D21: 0 | E21: 0 | F21: 0 | G21: 4 | H21: 7 | I21: 9 | J21: 19 | K21: 18 | L21: 21 | M21: 25 | N21: 27 | O21: 28 | P21: 22 | Q21: 18 | R21: 15 | S21: 13 | T21: 25 | U21: 28 | V21: 16
A22: Total 16 países | B22: =SUM(B6:B21) -> 279 | C22: =SUM(C6:C21) -> 404 | D22: =SUM(D6:D21) -> 468 | E22: =SUM(E6:E21) -> 552 | F22: =SUM(F6:F21) -> 647 | G22: =SUM(G6:G21) -> 676 | H22: =SUM(H6:H21) -> 843 | I22: =SUM(I6:I21) -> 866 | ... V22: =SUM(V6:V21) -> 540
A23: Resto de países | B23: =B24-B22 -> 20 | C23: =C24-C22 -> 15 | D23: =D24-D22 -> 13 | E23: =E24-E22 -> 12 | F23: =F24-F22 -> 10 | G23: =G24-G22 -> 15 | H23: =H24-H22 -> 22 | I23: =I24-I22 -> 22 | ... V23: =V24-V22 -> 59
A24: Total | B24: 299 | C24: 419 | D24: 481 | E24: 564 | F24: 657 | G24: 691 | H24: 865 | I24: 888 | J24: 927 | K24: 907 | L24: 893 | M24: 842 | N24: 726 | O24: 665 | P24: 632 | Q24: 580 | R24: 551 | S24: 534 | T24: 560 | U24: 613 | V24: 599
A25: Fuente: Elaboración Social·Lab a partir de los datos del Portal Estadístic de la Generalitat Valenciana (PEGV)
A26: Nota: Esta tabla ha sido diseñada en base a los 15 principales países de nacimiento (con base 2008) + Honduras (en lugar de Portugal)
A29: Hombres | B29: 2002 | C29: 2003 | D29: 2004 | E29: 2005 | F29: 2006 | G29: 2007 | H29: 2008 | I29: 2009 | J29: 2010 | K29: 2011 | L29: 2012 | M29: 2013 | N29: 2014 | O29: 2015 | P29: 2016 | Q29: 2017 | R29: 2018 | S29: 2019 | T29: 2020 | U29: 2021 | V29: 2022
A30: Alemania | B30: 2 | C30: 2 | D30: 2 | E30: 2 | F30: 3 | G30: 3 | H30: 2 | I30: 3 | J30: 3 | K30: 3 | L30: 3 | M30: 3 | N30: 2 | O30: 2 | P30: 3 | Q30: 3 | R30: 2 | S30: 2 | T30: 3 | U30: 4 | V30: 3
A31: Francia | B31: 11 | C31: 13 | D31: 13 | E31: 10 | F31: 8 | G31: 7 | H31: 7 | I31: 7 | J31: 7 | K31: 5 | L31: 4 | M31: 2 | N31: 2 | O31: 2 | P31: 2 | Q31: 2 | R31: 1 | S31: 0 | T31: 0 | U31: 0 | V31: 1
A32: Polonia | B32: 0 | C32: 1 | D32: 1 | E32: 1 | F32: 1 | G32: 2 | H32: 3 | I32: 4 | J32: 4 | K32: 4 | L32: 4 | M32: 4 | N32: 5 | O32: 5 | P32: 3 | Q32: 2 | R32: 2 | S32: 9 | T32: 3 | U32: 3 | V32: 3
A33: Reino Unido | B33: 0 | C33: 0 | D33: 0 | E33: 0 | F33: 0 | G33: 0 | H33: 4 | I33: 5 | J33: 5 | K33: 5 | L33: 6 | M33: 5 | N33: 3 | O33: 2 | P33: 2 | Q33: 3 | R33: 4 | S33: 4 | T33: 4 | U33: 4 | V33: 4
A34: Rumanía | B34: 80 | C34: 133 | D34: 158 | E34: 215 | F34: 250 | G34: 249 | H34: 303 | I34: 317 | J34: 335 | K34: 332 | L34: 327 | M34: 316 | N34: 244 | O34: 202 | P34: 187 | Q34: 165 | R34: 156 | S34: 142 | T34: 134 | U34: 132 | V34: 130
A35: Rusia | B35: 0 | C35: 1 | D35: 1 | E35: 1 | F35: 1 | G35: 1 | H35: 2 | I35: 2 | J35: 1 | K35: 1 | L35: 0 | M35: 0 | N35: 0 | O35: 0 | P35: 0 | Q35: 0 | R35: 0 | S35: 0 | T35: 1 | U35: 1
A36: Ucrania | B36: 2 | C36: 3 | D36: 2 | E36: 2 | F36: 2 | G36: 1 | H36: 1 | I36: 1 | J36: 1 | K36: 1 | L36: 1 | M36: 1 | N36: 1 | O36: 1 | P36: 1 | Q36: 1 | R36: 1 | S36: 1 | T36: 1 | U36: 1 | V36: 1
A37: Argelia | B37: 4 | C37: 4 | D37: 2 | E37: 1 | F37: 1 | G37: 2 | H37: 2 | I37: 0 | J37: 0 | K37: 0 | L37: 0 | M37: 0 | N37: 0 | O37: 0 | P37: 0 | Q37: 0 | R37: 1 | S37: 1 | T37: 2 | U37: 3 | V37: 4
A38: Marruecos | B38: 78 | C38: 79 | D38: 78 | E38: 71 | F38: 89 | G38: 90 | H38: 121 | I38: 109 | J38: 100 | K38: 93 | L38: 86 | M38: 83 | N38: 80 | O38: 79 | P38: 74 | Q38: 70 | R38: 68 | S38: 77 | T38: 85 | U38: 97 | V38: 97
A39: Cuba | B39: 0 | C39: 1 | D39: 1 | F39: 1 | G39: 1 | H39: 1 | I39: 1 | J39: 0 | K39: 1 | L39: 1 | M39: 1 | N39: 1 | O39: 1 | P39: 1 | Q39: 1 | R39: 1 | S39: 1 | T39: 1 | U39: 0 | V39: 0
A40: Honduras | B40: - | C40: - | D40: - | E40: - | F40: - | G40: 0 | H40: 0 | I40: 0 | J40: 0 | K40: 0 | L40: 0 | M40: 0 | N40: 0 | O40: 0 | P40: 0 | Q40: 0 | R40: 0 | S40: 0 | T40: 1 | U40: 1 | V40: 1
A41: Brasil | B41: 0 | C41: 3 | D41: 2 | E41: 2 | F41: 5 | G41: 19 | H41: 20 | I41: 19 | J41: 16 | K41: 8 | L41: 6 | M41: 5 | N41: 2 | O41: 3 | P41: 3 | Q41: 3 | R41: 3 | S41: 3 | T41: 3 | U41: 4 | V41: 4
A42: Colombia | B42: 6 | C42: 6 | D42: 9 | E42: 10 | F42: 11 | G42: 9 | H42: 12 | I42: 9 | J42: 7 | K42: 5 | L42: 6 | M42: 6 | N42: 6 | O42: 4 | P42: 3 | Q42: 3 | R42: 3 | S42: 2 | T42: 4 | U42: 4 | V42: 9
A43: Perú | B43: 1 | C43: 1 | D43: 1 | E43: 1 | F43: 0 | G43: 0 | H43: 0 | I43: 0 | J43: 0 | K43: 0 | L43: 0 | M43: 0 | N43: 0 | O43: 0 | P43: 0 | Q43: 0 | R43: 0 | S43: 0 | T43: 0 | U43: 0 | V43: 0
A44: China | B44: 0 | C44: 1 | D44: 4 | E44: 5 | F44: 3 | G44: 2 | H44: 3 | I44: 3 | J44: 1 | K44: 2 | L44: 2 | M44: 2 | N44: 2 | O44: 2 | P44: 2 | Q44: 3 | R44: 3 | S44: 3 | T44: 3 | U44: 2 | V44: 2
A45: Pakistán | B45: 0 | C45: 0 | D45: 0 | E45: 0 | F45: 0 | G45: 1 | H45: 2 | I45: 4 | J45: 13 | K45: 12 | L45: 15 | M45: 19 | N45: 20 | O45: 21 | P45: 15 | Q45: 11 | R45: 8 | S45: 7 | T45: 14 | U45: 15 | V45: 9
A46: Total 16 países | B46: =SUM(B30:B45) -> 184 | C46: =SUM(C30:C45) -> 248 | D46: =SUM(D30:D45) -> 274 | E46: =SUM(E30:E45) -> 321 | F46: =SUM(F30:F45) -> 375 | G46: =SUM(G30:G45) -> 387 | H46: =SUM(H30:H45) -> 483 | I46: =SUM(I30:I45) -> 484 | ... V46: =SUM(V30:V45) -> 268
A47: Resto de países | B47: =B48-B46 -> 15 | C47: =C48-C46 -> 11 | D47: =D48-D46 -> 9 | E47: =E48-E46 -> 8 | F47: =F48-F46 -> 8 | G47: =G48-G46 -> 12 | H47: =H48-H46 -> 16 | I47: =I48-I46 -> 17 | ... V47: =V48-V46 -> 27
A48: Total | B48: 199 | C48: 259 | D48: 283 | E48: 329 | F48: 383 | G48: 399 | H48: 499 | I48: 501 | J48: 513 | K48: 490 | L48: 477 | M48: 461 | N48: 379 | O48: 338 | P48: 311 | Q48: 278 | R48: 266 | S48: 266 | T48: 272 | U48: 295 | V48: 295
A49: Fuente: Elaboración Social·Lab a partir de los datos del Portal Estadístic de la Generalitat Valenciana (PEGV)
A50: Nota: Esta tabla ha sido diseñada en base a los 15 principales países de nacimiento (con base 2008) + Honduras (en lugar de Portugal)
A53: Mujeres | B53: 2002 | C53: 2003 | D53: 2004 | E53: 2005 | F53: 2006 | G53: 2007 | H53: 2008 | I53: 2009 | J53: 2010 | K53: 2011 | L53: 2012 | M53: 2013 | N53: 2014 | O53: 2015 | P53: 2016 | Q53: 2017 | R53: 2018 | S53: 2019 | T53: 2020 | U53: 2021 | V53: 2022
A54: Alemania | B54: 0 | C54: 0 | D54: 0 | E54: 0 | F54: 1 | G54: 2 | H54: 2 | I54: 2 | J54: 2 | K54: 3 | L54: 3 | M54: 3 | N54: 2 | O54: 1 | P54: 2 | Q54: 2 | R54: 2 | S54: 2 | T54: 2 | U54: 2 | V54: 3
A55: Francia | B55: 15 | C55: 15 | D55: 13 | E55: 13 | F55: 13 | G55: 11 | H55: 11 | I55: 11 | J55: 11 | K55: 11 | L55: 11 | M55: 10 | N55: 8 | O55: 8 | P55: 7 | Q55: 7 | R55: 6 | S55: 5 | T55: 6 | U55: 6 | V55: 6
A56: Polonia | B56: 1 | C56: 1 | D56: 1 | E56: 1 | F56: 1 | G56: 1 | H56: 1 | I56: 1 | J56: 1 | K56: 2 | L56: 2 | M56: 2 | N56: 2 | O56: 1 | P56: 1 | Q56: 1 | R56: 1 | S56: 3 | T56: 1 | U56: 1 | V56: 1
A57: Reino Unido | B57: 0 | C57: 0 | D57: 0 | E57: 0 | F57: 0 | G57: 0 | H57: 4 | I57: 6 | J57: 6 | K57: 6 | L57: 6 | M57: 3 | N57: 2 | O57: 1 | P57: 2 | Q57: 3 | R57: 5 | S57: 6 | T57: 7 | U57: 9 | V57: 9
A58: Rumanía | B58: 34 | C58: 67 | D58: 102 | E58: 139 | F58: 174 | G58: 179 | H58: 222 | I58: 245 | J58: 265 | K58: 271 | L58: 274 | M58: 251 | N58: 217 | O58: 200 | P58: 192 | Q58: 184 | R58: 166 | S58: 154 | T58: 151 | U58: 146 | V58: 138
A59: Rusia | B59: 0 | C59: 0 | D59: 0 | E59: 1 | F59: 1 | G59: 1 | H59: 1 | I59: 1 | J59: 1 | K59: 1 | L59: 1 | M59: 1 | N59: 1 | O59: 1 | P59: 1 | Q59: 1 | R59: 1 | S59: 0 | T59: 1 | U59: 2
A60: Ucrania | B60: 3 | C60: 3 | D60: 3 | E60: 2 | F60: 2 | G60: 2 | H60: 2 | I60: 2 | J60: 2 | K60: 2 | L60: 2 | M60: 2 | N60: 2 | O60: 2 | P60: 2 | Q60: 1 | R60: 1 | S60: 2 | T60: 2 | U60: 2 | V60: 2
A61: Argelia | B61: 1 | C61: 2 | D61: 2 | E61: 2 | F61: 2 | G61: 1 | H61: 1 | I61: 1 | J61: 1 | K61: 1 | L61: 1 | M61: 1 | N61: 1 | O61: 1 | P61: 1 | Q61: 1 | R61: 0 | S61: 0 | T61: 0 | U61: 1 | V61: 2
A62: Marruecos | B62: 27 | C62: 35 | D62: 43 | E62: 40 | F62: 42 | G62: 52 | H62: 66 | I62: 66 | J62: 63 | K62: 62 | L62: 62 | M62: 62 | N62: 62 | O62: 64 | P62: 64 | Q62: 58 | R62: 61 | S62: 60 | T62: 61 | U62: 67 | V62: 59
A63: Cuba | B63: 1 | C63: 4 | D63: 3 | E63: 5 | F63: 3 | G63: 3 | H63: 3 | I63: 3 | J63: 2 | K63: 4 | L63: 4 | M63: 4 | N63: 4 | O63: 4 | P63: 4 | Q63: 3 | R63: 3 | S63: 2 | T63: 2 | U63: 2 | V63: 1
A64: Honduras | B64: - | C64: - | D64: - | E64: - | F64: - | G64: 0 | H64: 0 | I64: 0 | J64: 0 | K64: 0 | L64: 0 | M64: 0 | N64: 0 | O64: 0 | P64: 0 | Q64: 2 | R64: 2 | S64: 1 | T64: 7 | U64: 11 | V64: 10
A65: Brasil | B65: 1 | C65: 8 | D65: 6 | E65: 8 | F65: 8 | G65: 15 | H65: 22 | I65: 21 | J65: 26 | K65: 17 | L65: 15 | M65: 14 | N65: 12 | O65: 12 | P65: 10 | Q65: 8 | R65: 10 | S65: 9 | T65: 9 | U65: 7 | V65: 7
A66: Colombia | B66: 11 | C66: 18 | D66: 19 | E66: 17 | F66: 21 | G66: 14 | H66: 15 | I66: 13 | J66: 14 | K66: 15 | L66: 15 | M66: 11 | N66: 11 | O66: 9 | P66: 10 | Q66: 8 | R66: 7 | S66: 7 | T66: 12 | U66: 17 | V66: 21
A67: Perú | B67: 0 | C67: 0 | D67: 0 | E67: 0 | F67: 2 | G67: 3 | H67: 3 | I67: 3 | J67: 3 | K67: 3 | L67: 3 | M67: 3 | N67: 3 | O67: 3 | P67: 3 | Q67: 3 | R67: 3 | S67: 3 | T67: 3 | U67: 3 | V67: 3
A68: China | B68: 1 | C68: 3 | D68: 2 | E68: 3 | F68: 2 | G68: 2 | H68: 2 | I68: 2 | J68: 1 | K68: 1 | L68: 1 | M68: 1 | N68: 1 | O68: 1 | P68: 1 | Q68: 2 | R68: 2 | S68: 2 | T68: 2 | U68: 3 | V68: 3
A69: Pakistán | B69: 0 | C69: 0 | D69: 0 | E69: 0 | F69: 0 | G69: 3 | H69: 5 | I69: 5 | J69: 6 | K69: 6 | L69: 6 | M69: 6 | N69: 7 | O69: 7 | P69: 7 | Q69: 7 | R69: 7 | S69: 6 | T69: 11 | U69: 13 | V69: 7
A70: Total 16 países | B70: =SUM(B54:B69) -> 95 | C70: =SUM(C54:C69) -> 156 | D70: =SUM(D54:D69) -> 194 | E70: =SUM(E54:E69) -> 231 | F70: =SUM(F54:F69) -> 272 | G70: =SUM(G54:G69) -> 289 | H70: =SUM(H54:H69) -> 360 | I70: =SUM(I54:I69) -> 382 | ... V70: =SUM(V54:V69) -> 272
A71: Resto de países | B71: =B72-B70 -> 5 | C71: =C72-C70 -> 4 | D71: =D72-D70 -> 4 | E71: =E72-E70 -> 4 | F71: =F72-F70 -> 2 | G71: =G72-G70 -> 3 | H71: =H72-H70 -> 6 | I71: =I72-I70 -> 5 | ... V71: =V72-V70 -> 32
A72: Total | B72: 100 | C72: 160 | D72: 198 | E72: 235 | F72: 274 | G72: 292 | H72: 366 | I72: 387 | J72: 414 | K72: 417 | L72: 416 | M72: 381 | N72: 347 | O72: 327 | P72: 321 | Q72: 302 | R72: 285 | S72: 268 | T72: 288 | U72: 318 | V72: 304
A73: Fuente: Elaboración Social·Lab a partir de los datos del Portal Estadístic de la Generalitat Valenciana (PEGV)
A74: Nota: Esta tabla ha sido diseñada en base a los 15 principales países de nacimiento (con base 2008) + Honduras (en lugar de Portugal)

Sheet Principales nacionalidades
A1: L'Alt Maestrat
A2: 9. Residentes con nacionalidad extranjera, según las 16 principales nacionalidades. Evolución 2002-2022 (datos absolutos)
A5: Ambos sexos | B5: 2002 | C5: 2003 | D5: 2004 | E5: 2005 | F5: 2006 | G5: 2007 | H5: 2008 | I5: 2009 | J5: 2010 | K5: 2011 | L5: 2012 | M5: 2013 | N5: 2014 | O5: 2015 | P5: 2016 | Q5: 2017 | R5: 2018 | S5: 2019 | T5: 2020 | U5: 2021 | V5: 2022
A6: Alemania | B6: 0 | C6: 0 | D6: 0 | E6: 0 | F6: 2 | G6: 2 | H6: 2 | I6: 2 | J6: 2 | K6: 2 | L6: 2 | M6: 2 | N6: 0 | O6: 0 | P6: 2 | Q6: 2 | R6: 2 | S6: 2 | T6: 3 | U6: 3 | V6: 4
A7: Francia | B7: 3 | C7: 5 | D7: 5 | E7: 3 | F7: 3 | G7: 3 | H7: 3 | I7: 3 | J7: 3 | K7: 3 | L7: 3 | M7: 1 | N7: 0 | O7: 0 | P7: 1 | Q7: 0 | R7: 0 | S7: 0 | T7: 1 | U7: 3 | V7: 7
A8: Países Bajos | B8: 0 | C8: 0 | D8: 0 | E8: 0 | F8: 0 | G8: 1 | H8: 1 | I8: 1 | J8: 2 | K8: 2 | L8: 2 | M8: 2 | N8: 1 | O8: 1 | P8: 1 | Q8: 4 | R8: 4 | S8: 6 | T8: 6 | U8: 6 | V8: 6
A9: Polonia | B9: 1 | C9: 2 | D9: 2 | E9: 2 | F9: 2 | G9: 3 | H9: 4 | I9: 5 | J9: 5 | K9: 6 | L9: 6 | M9: 6 | N9: 7 | O9: 6 | P9: 4 | Q9: 3 | R9: 3 | S9: 12 | T9: 4 | U9: 4 | V9: 4
A10: Portugal | B10: 0 | C10: 0 | D10: 0 | E10: 1 | F10: 2 | G10: 6 | H10: 6 | I10: 5 | J10: 4 | K10: 4 | L10: 4 | M10: 4 | N10: 1 | O10: 1 | P10: 1 | Q10: 1 | R10: 1 | S10: 1 | T10: 1 | U10: 1 | V10: 0
A11: Reino Unido | B11: 0 | C11: 0 | D11: 0 | E11: 0 | F11: 0 | G11: 0 | H11: 8 | I11: 11 | J11: 12 | K11: 12 | L11: 13 | M11: 8 | N11: 5 | O11: 3 | P11: 4 | Q11: 6 | R11: 10 | S11: 11 | T11: 12 | U11: 11 | V11: 11
A12: Rumanía | B12: 117 | C12: 194 | D12: 253 | E12: 350 | F12: 429 | G12: 435 | H12: 540 | I12: 581 | J12: 625 | K12: 631 | L12: 632 | M12: 600 | N12: 493 | O12: 437 | P12: 425 | Q12: 387 | R12: 361 | S12: 337 | T12: 326 | U12: 318 | V12: 312
A13: Ucrania | B13: 5 | C13: 6 | D13: 6 | E13: 5 | F13: 5 | G13: 4 | H13: 4 | I13: 4 | J13: 4 | K13: 4 | L13: 4 | M13: 4 | N13: 4 | O13: 4 | P13: 4 | Q13: 3 | R13: 3 | S13: 4 | T13: 3 | U13: 1 | V13: 1
A14: Argelia | B14: 4 | C14: 5 | D14: 3 | E14: 2 | F14: 2 | G14: 2 | H14: 2 | I14: 0 | J14: 0 | K14: 0 | L14: 0 | M14: 0 | N14: 0 | O14: 0 | P14: 0 | Q14: 0 | R14: 1 | S14: 1 | T14: 2 | U14: 5 | V14: 5
A15: Marruecos | B15: 106 | C15: 116 | D15: 122 | E15: 113 | F15: 134 | G15: 152 | H15: 199 | I15: 194 | J15: 184 | K15: 182 | L15: 182 | M15: 181 | N15: 179 | O15: 179 | P15: 167 | Q15: 161 | R15: 163 | S15: 170 | T15: 181 | U15: 194 | V15: 178
A16: Cuba | B16: 1 | C16: 5 | D16: 4 | E16: 5 | F16: 4 | G16: 4 | H16: 4 | I16: 3 | J16: 1 | K16: 4 | L16: 4 | M16: 4 | N16: 4 | O16: 4 | P16: 4 | Q16: 3 | R16: 3 | S16: 3 | T16: 2 | U16: 2 | V16: 1
A17: Honduras | B17: - | C17: - | D17: - | E17: - | F17: - | G17: 0 | H17: 0 | I17: 0 | J17: 0 | K17: 0 | L17: 0 | M17: 0 | N17: 0 | O17: 0 | P17: 0 | Q17: 2 | R17: 2 | S17: 1 | T17: 7 | U17: 11 | V17: 10
A18: Brasil | B18: 1 | C18: 8 | D18: 5 | E18: 6 | F18: 8 | G18: 31 | H18: 39 | I18: 37 | J18: 38 | K18: 22 | L18: 15 | M18: 13 | N18: 9 | O18: 10 | P18: 9 | Q18: 6 | R18: 8 | S18: 8 | T18: 7 | U18: 7 | V18: 7
A19: Colombia | B19: 15 | C19: 21 | D19: 25 | E19: 25 | F19: 31 | G19: 22 | H19: 22 | I19: 17 | J19: 16 | K19: 13 | L19: 11 | M19: 6 | N19: 6 | O19: 2 | P19: 1 | Q19: 2 | R19: 1 | S19: 1 | T19: 6 | U19: 11 | V19: 18
A20: China | B20: 1 | C20: 4 | D20: 6 | E20: 0 | F20: 5 | G20: 4 | H20: 5 | I20: 5 | J20: 2 | K20: 3 | L20: 3 | M20: 3 | N20: 3 | O20: 3 | P20: 3 | Q20: 5 | R20: 5 | S20: 5 | T20: 5 | U20: 5 | V20: 5
A21: Pakistán | B21: 0 | C21: 0 | D21: 0 | E21: 8 | F21: 0 | G21: 4 | H21: 7 | I21: 10 | J21: 20 | K21: 19 | L21: 22 | M21: 26 | N21: 29 | O21: 31 | P21: 24 | Q21: 19 | R21: 18 | S21: 16 | T21: 28 | U21: 29 | V21: 16
A22: Total 16 países | B22: =SUM(B6:B21) -> 254 | C22: =SUM(C6:C21) -> 366 | D22: =SUM(D6:D21) -> 431 | E22: =SUM(E6:E21) -> 520 | F22: =SUM(F6:F21) -> 627 | G22: =SUM(G6:G21) -> 673 | H22: =SUM(H6:H21) -> 846 | I22: =SUM(I6:I21) -> 878 | ... V22: =SUM(V6:V21) -> 585
A23: Resto de países | B23: =B24-B22 -> 13 | C23: =C24-C22 -> 13 | D23: =D24-D22 -> 9 | E23: =E24-E22 -> 10 | F23: =F24-F22 -> 9 | G23: =G24-G22 -> 10 | H23: =H24-H22 -> 17 | I23: =I24-I22 -> 16 | ... V23: =V24-V22 -> 41
A24: Total | B24: 267 | C24: 379 | D24: 440 | E24: 530 | F24: 636 | G24: 683 | H24: 863 | I24: 894 | J24: 939 | K24: 930 | L24: 923 | M24: 874 | N24: 761 | O24: 704 | P24: 673 | Q24: 618 | R24: 599 | S24: 594 | T24: 615 | U24: 642 | V24: 626
A25: Fuente: Elaboración Social·Lab a partir de los datos del Portal Estadístic de la Generalitat Valenciana (PEGV)
A26: Nota: Esta tabla ha sido diseñada en base a las 14 principales nacionalidades (con base 2008) + Países Bajos y Honduras (en lugar de Ecuador y Perú)
A29: Hombres | B29: 2002 | C29: 2003 | D29: 2004 | E29: 2005 | F29: 2006 | G29: 2007 | H29: 2008 | I29: 2009 | J29: 2010 | K29: 2011 | L29: 2012 | M29: 2013 | N29: 2014 | O29: 2015 | P29: 2016 | Q29: 2017 | R29: 2018 | S29: 2019 | T29: 2020 | U29: 2021 | V29: 2022
A30: Alemania | B30: 0 | C30: 0 | D30: 0 | E30: 0 | F30: 1 | G30: 1 | H30: 1 | I30: 1 | J30: 1 | K30: 1 | L30: 1 | M30: 1 | N30: 0 | O30: 0 | P30: 1 | Q30: 1 | R30: 1 | S30: 1 | T30: 2 | U30: 2 | V30: 2
A31: Francia | B31: 2 | C31: 4 | D31: 4 | E31: 2 | F31: 2 | G31: 2 | H31: 2 | I31: 2 | J31: 2 | K31: 2 | L31: 2 | M31: 0 | N31: 0 | O31: 0 | P31: 1 | Q31: 0 | R31: 0 | S31: 0 | T31: 0 | U31: 0 | V31: 2
A32: Países Bajos | B32: 0 | C32: 0 | D32: 0 | E32: 0 | F32: 0 | G32: 1 | H32: 1 | I32: 1 | J32: 1 | K32: 1 | L32: 1 | M32: 1 | N32: 0 | O32: 0 | P32: 0 | Q32: 1 | R32: 1 | S32: 5 | T32: 5 | U32: 4 | V32: 4
A33: Polonia | B33: 0 | C33: 1 | D33: 1 | E33: 1 | F33: 1 | G33: 2 | H33: 3 | I33: 4 | J33: 4 | K33: 4 | L33: 4 | M33: 4 | N33: 5 | O33: 5 | P33: 3 | Q33: 2 | R33: 2 | S33: 9 | T33: 3 | U33: 3 | V33: 3
A34: Portugal | B34: 0 | C34: 0 | D34: 0 | E34: 1 | F34: 2 | G34: 6 | H34: 6 | I34: 5 | J34: 4 | K34: 4 | L34: 4 | M34: 4 | N34: 1 | O34: 1 | P34: 1 | Q34: 1 | R34: 1 | S34: 1 | T34: 1 | U34: 1 | V34: 0
A35: Reino Unido | B35: 0 | C35: 0 | D35: 0 | E35: 0 | F35: 0 | G35: 0 | H35: 4 | I35: 5 | J35: 5 | K35: 5 | L35: 6 | M35: 5 | N35: 3 | O35: 2 | P35: 2 | Q35: 3 | R35: 4 | S35: 4 | T35: 4 | U35: 4 | V35: 4
A36: Rumanía | B36: 83 | C36: 128 | D36: 154 | E36: 212 | F36: 254 | G36: 253 | H36: 313 | I36: 330 | J36: 350 | K36: 349 | L36: 347 | M36: 337 | N36: 264 | O36: 223 | P36: 212 | Q36: 185 | R36: 178 | S36: 164 | T36: 155 | U36: 155 | V36: 154
A37: Ucrania | B37: 2 | C37: 3 | D37: 2 | E37: 2 | F37: 2 | G37: 1 | H37: 1 | I37: 1 | J37: 1 | K37: 1 | L37: 1 | M37: 1 | N37: 1 | O37: 1 | P37: 1 | Q37: 1 | R37: 1 | S37: 1 | T37: 1 | U37: 0 | V37: 0
A38: Argelia | B38: 4 | C38: 4 | D38: 2 | E38: 1 | F38: 1 | G38: 2 | H38: 2 | I38: 0 | J38: 0 | K38: 0 | L38: 0 | M38: 0 | N38: 0 | O38: 0 | P38: 0 | Q38: 0 | R38: 1 | S38: 1 | T38: 2 | U38: 4 | V38: 4
A39: Marruecos | B39: 77 | C39: 79 | D39: 77 | E39: 71 | F39: 89 | G39: 94 | H39: 126 | I39: 120 | J39: 109 | K39: 104 | L39: 102 | M39: 101 | N39: 97 | O39: 95 | P39: 88 | Q39: 83 | R39: 83 | S39: 95 | T39: 104 | U39: 113 | V39: 110
A40: Cuba | B40: 0 | C40: 1 | D40: 1 | E40: 1 | F40: 1 | G40: 1 | H40: 1 | I40: 1 | J40: 0 | K40: 1 | L40: 1 | M40: 1 | N40: 1 | O40: 1 | P40: 1 | Q40: 1 | R40: 1 | S40: 1 | T40: 0 | U40: 0 | V40: 0
A41: Honduras | B41: - | C41: - | D41: - | E41: - | F41: - | G41: 0 | H41: 0 | I41: 0 | J41: 0 | K41: 0 | L41: 0 | M41: 0 | N41: 0 | O41: 0 | P41: 0 | Q41: 0 | R41: 0 | S41: 0 | T41: 0 | U41: 0 | V41: 0
A42: Brasil | B42: 0 | C42: 2 | D42: 1 | E42: 1 | F42: 4 | G42: 19 | H42: 20 | I42: 19 | J42: 14 | K42: 7 | L42: 5 | M42: 4 | N42: 1 | O42: 2 | P42: 2 | Q42: 2 | R42: 2 | S42: 2 | T42: 2 | U42: 3 | V42: 2
A43: Colombia | B43: 5 | C43: 5 | D43: 8 | E43: 10 | F43: 11 | G43: 9 | H43: 11 | I43: 8 | J43: 5 | K43: 3 | L43: 3 | M43: 3 | N43: 4 | O43: 1 | P43: 0 | Q43: 1 | R43: 1 | S43: 0 | T43: 1 | U43: 2 | V43: 6
A44: China | B44: 0 | C44: 1 | D44: 4 | E44: 0 | F44: 3 | G44: 2 | H44: 3 | I44: 3 | J44: 1 | K44: 2 | L44: 2 | M44: 2 | N44: 2 | O44: 2 | P44: 2 | Q44: 3 | R44: 3 | S44: 3 | T44: 3 | U44: 2 | V44: 2
A45: Pakistán | B45: 0 | C45: 0 | D45: 0 | E45: 5 | F45: 0 | G45: 1 | H45: 2 | I45: 5 | J45: 14 | K45: 13 | L45: 16 | M45: 20 | N45: 22 | O45: 23 | P45: 16 | Q45: 12 | R45: 9 | S45: 7 | T45: 14 | U45: 13 | V45: 8
A46: Total 16 países | B46: =SUM(B30:B45) -> 173 | C46: =SUM(C30:C45) -> 228 | D46: =SUM(D30:D45) -> 254 | E46: =SUM(E30:E45) -> 307 | F46: =SUM(F30:F45) -> 371 | G46: =SUM(G30:G45) -> 394 | H46: =SUM(H30:H45) -> 496 | I46: =SUM(I30:I45) -> 505 | ... V46: =SUM(V30:V45) -> 301
A47: Resto de países | B47: =B48-B46 -> 9 | C47: =C48-C46 -> 10 | D47: =D48-D46 -> 5 | E47: =E48-E46 -> 5 | F47: =F48-F46 -> 5 | G47: =G48-G46 -> 4 | H47: =H48-H46 -> 8 | I47: =I48-I46 -> 8 | ... V47: =V48-V46 -> 20
A48: Total | B48: 182 | C48: 238 | D48: 259 | E48: 312 | F48: 376 | G48: 398 | H48: 504 | I48: 513 | J48: 523 | K48: 509 | L48: 505 | M48: 492 | N48: 410 | O48: 369 | P48: 343 | Q48: 305 | R48: 298 | S48: 305 | T48: 308 | U48: 322 | V48: 321
A49: Fuente: Elaboración Social·Lab a partir de los datos del Portal Estadístic de la Generalitat Valenciana (PEGV)
A50: Nota: Esta tabla ha sido diseñada en base a las 14 principales nacionalidades (con base 2008) + Países Bajos y Honduras (en lugar de Ecuador y Perú)
A53: Mujeres | B53: 2002 | C53: 2003 | D53: 2004 | E53: 2005 | F53: 2006 | G53: 2007 | H53: 2008 | I53: 2009 | J53: 2010 | K53: 2011 | L53: 2012 | M53: 2013 | N53: 2014 | O53: 2015 | P53: 2016 | Q53: 2017 | R53: 2018 | S53: 2019 | T53: 2020 | U53: 2021 | V53: 2022
A54: Alemania | B54: 0 | C54: 0 | D54: 0 | E54: 0 | F54: 1 | G54: 1 | H54: 1 | I54: 1 | J54: 1 | K54: 1 | L54: 1 | M54: 1 | N54: 0 | O54: 0 | P54: 1 | Q54: 1 | R54: 1 | S54: 1 | T54: 1 | U54: 1 | V54: 2
A55: Francia | B55: 1 | C55: 1 | D55: 1 | E55: 1 | F55: 1 | G55: 1 | H55: 1 | I55: 1 | J55: 1 | K55: 1 | L55: 1 | M55: 1 | N55: 0 | O55: 0 | P55: 0 | Q55: 0 | R55: 0 | S55: 0 | T55: 1 | U55: 3 | V55: 5
A56: Países Bajos | B56: 0 | C56: 0 | D56: 0 | E56: 0 | F56: 0 | G56: 0 | H56: 0 | I56: 0 | J56: 1 | K56: 1 | L56: 1 | M56: 1 | N56: 1 | O56: 1 | P56: 1 | Q56: 3 | R56: 3 | S56: 1 | T56: 1 | U56: 2 | V56: 2
A57: Polonia | B57: 1 | C57: 1 | D57: 1 | E57: 1 | F57: 1 | G57: 1 | H57: 1 | I57: 1 | J57: 1 | K57: 2 | L57: 2 | M57: 2 | N57: 2 | O57: 1 | P57: 1 | Q57: 1 | R57: 1 | S57: 3 | T57: 1 | U57: 1 | V57: 1
A58: Portugal | B58: 0 | C58: 0 | D58: 0 | E58: 0 | F58: 0 | G58: 0 | H58: 0 | I58: 0 | J58: 0 | K58: 0 | L58: 0 | M58: 0 | N58: 0 | O58: 0 | P58: 0 | Q58: 0 | R58: 0 | S58: 0 | T58: 0 | U58: 0 | V58: 0
A59: Reino Unido | B59: 0 | C59: 0 | D59: 0 | E59: 0 | F59: 0 | G59: 0 | H59: 4 | I59: 6 | J59: 7 | K59: 7 | L59: 7 | M59: 3 | N59: 2 | O59: 1 | P59: 2 | Q59: 3 | R59: 6 | S59: 7 | T59: 8 | U59: 7 | V59: 7
A60: Rumanía | B60: 34 | C60: 66 | D60: 99 | E60: 138 | F60: 175 | G60: 182 | H60: 227 | I60: 251 | J60: 275 | K60: 282 | L60: 285 | M60: 263 | N60: 229 | O60: 214 | P60: 213 | Q60: 202 | R60: 183 | S60: 173 | T60: 171 | U60: 163 | V60: 158
A61: Ucrania | B61: 3 | C61: 3 | D61: 4 | E61: 3 | F61: 3 | G61: 3 | H61: 3 | I61: 3 | J61: 3 | K61: 3 | L61: 3 | M61: 3 | N61: 3 | O61: 3 | P61: 3 | Q61: 2 | R61: 2 | S61: 3 | T61: 2 | U61: 1 | V61: 1
A62: Argelia | B62: 0 | C62: 1 | D62: 1 | E62: 1 | F62: 1 | G62: 0 | H62: 0 | I62: 0 | J62: 0 | K62: 0 | L62: 0 | M62: 0 | N62: 0 | O62: 0 | P62: 0 | Q62: 0 | R62: 0 | S62: 0 | T62: 0 | U62: 1 | V62: 1
A63: Marruecos | B63: 29 | C63: 37 | D63: 45 | E63: 42 | F63: 45 | G63: 58 | H63: 73 | I63: 74 | J63: 75 | K63: 78 | L63: 80 | M63: 80 | N63: 82 | O63: 84 | P63: 79 | Q63: 78 | R63: 80 | S63: 75 | T63: 77 | U63: 81 | V63: 68
A64: Cuba | B64: 1 | C64: 4 | D64: 3 | E64: 4 | F64: 3 | G64: 3 | H64: 3 | I64: 2 | J64: 1 | K64: 3 | L64: 3 | M64: 3 | N64: 3 | O64: 3 | P64: 3 | Q64: 2 | R64: 2 | S64: 2 | T64: 2 | U64: 2 | V64: 1
A65: Honduras | B65: - | C65: - | D65: - | E65: - | F65: - | G65: 0 | H65: 0 | I65: 0 | J65: 0 | K65: 0 | L65: 0 | M65: 0 | N65: 0 | O65: 0 | P65: 0 | Q65: 2 | R65: 2 | S65: 1 | T65: 7 | U65: 11 | V65: 10
A66: Brasil | B66: 1 | C66: 6 | D66: 4 | E66: 5 | F66: 4 | G66: 12 | H66: 19 | I66: 18 | J66: 24 | K66: 15 | L66: 10 | M66: 9 | N66: 8 | O66: 8 | P66: 7 | Q66: 4 | R66: 6 | S66: 6 | T66: 5 | U66: 4 | V66: 5
A67: Colombia | B67: 10 | C67: 16 | D67: 17 | E67: 15 | F67: 20 | G67: 13 | H67: 11 | I67: 9 | J67: 11 | K67: 10 | L67: 8 | M67: 3 | N67: 2 | O67: 1 | P67: 1 | Q67: 1 | R67: 0 | S67: 1 | T67: 5 | U67: 9 | V67: 12
A68: China | B68: 1 | C68: 3 | D68: 2 | E68: 0 | F68: 2 | G68: 2 | H68: 2 | I68: 2 | J68: 1 | K68: 1 | L68: 1 | M68: 1 | N68: 1 | O68: 1 | P68: 1 | Q68: 2 | R68: 2 | S68: 2 | T68: 2 | U68: 3 | V68: 3
A69: Pakistán | B69: 0 | C69: 0 | D69: 0 | E69: 3 | F69: 0 | G69: 3 | H69: 5 | I69: 5 | J69: 6 | K69: 6 | L69: 6 | M69: 6 | N69: 7 | O69: 8 | P69: 8 | Q69: 7 | R69: 9 | S69: 9 | T69: 14 | U69: 16 | V69: 8
A70: Total 16 países | B70: =SUM(B54:B69) -> 81 | C70: =SUM(C54:C69) -> 138 | D70: =SUM(D54:D69) -> 177 | E70: =SUM(E54:E69) -> 213 | F70: =SUM(F54:F69) -> 256 | G70: =SUM(G54:G69) -> 279 | H70: =SUM(H54:H69) -> 350 | I70: =SUM(I54:I69) -> 373 | ... V70: =SUM(V54:V69) -> 284
A71: Resto de países | B71: =B72-B70 -> 4 | C71: =C72-C70 -> 3 | D71: =D72-D70 -> 4 | E71: =E72-E70 -> 5 | F71: =F72-F70 -> 4 | G71: =G72-G70 -> 6 | H71: =H72-H70 -> 9 | I71: =I72-I70 -> 8 | ... V71: =V72-V70 -> 21
A72: Total | B72: 85 | C72: 141 | D72: 181 | E72: 218 | F72: 260 | G72: 285 | H72: 359 | I72: 381 | J72: 416 | K72: 421 | L72: 418 | M72: 382 | N72: 351 | O72: 335 | P72: 330 | Q72: 313 | R72: 301 | S72: 289 | T72: 307 | U72: 320 | V72: 305
A73: Fuente: Elaboración Social·Lab a partir de los datos del Portal Estadístic de la Generalitat Valenciana (PEGV)
A74: Nota: Esta tabla ha sido diseñada en base a las 14 principales nacionalidades (con base 2008) + Países Bajos y Honduras (en lugar de Ecuador y Perú)

Sheet Nacimientos
A1: L'Alt Maestrat
A2: 10. Total de nacimientos según la nacionalidad de la madre. Evolución 2002-2020
A4: 10.1. Total de nacimientos según la nacionalidad de la madre (datos absolutos)
B6: 2002 | C6: 2003 | D6: 2004 | E6: 2005 | F6: 2006 | G6: 2007 | H6: 2008 | I6: 2009 | J6: 2010 | K6: 2011 | L6: 2012 | M6: 2013 | N6: 2014 | O6: 2015 | P6: 2016 | Q6: 2017 | R6: 2018 | S6: 2019 | T6: 2020 | U6: 2021 | V6: 2022
A7: Total | B7: 59 | C7: 59 | D7: 59 | E7: 42 | F7: 43 | G7: 51 | H7: 60 | I7: 47 | J7: 47 | K7: 47 | L7: 47 | M7: 35 | N7: 50 | O7: 47 | P7: 40 | Q7: 47 | R7: 46 | S7: 49 | T7: 36 | U7: =SUM(U8:U9) -> 30 | V7: =SUM(V8:V9) -> 38
A8: Nacionalidad española | B8: 53 | C8: 52 | D8: 53 | E8: 37 | F8: 29 | G8: 43 | H8: 40 | I8: 37 | J8: 37 | K8: 31 | L8: 33 | M8: 24 | N8: 38 | O8: 34 | P8: 31 | Q8: 34 | R8: 35 | S8: 39 | T8: 26 | U8: 24 | V8: 31
A9: Nacionalidad extranjera | B9: 6 | C9: 7 | D9: 6 | E9: 5 | F9: 14 | G9: 8 | H9: 20 | I9: 10 | J9: 10 | K9: 16 | L9: 14 | M9: 11 | N9: 12 | O9: 13 | P9: 9 | Q9: 13 | R9: 11 | S9: 10 | T9: 10 | U9: 6 | V9: 7
A10: Fuente: Portal Estadístic de la Generalitat Valenciana (PEGV)
A12: 10.2. Proporción de nacimientos según la nacionalidad de la madre
B14: 2002 | C14: 2003 | D14: 2004 | E14: 2005 | F14: 2006 | G14: 2007 | H14: 2008 | I14: 2009 | J14: 2010 | K14: 2011 | L14: 2012 | M14: 2013 | N14: 2014 | O14: 2015 | P14: 2016 | Q14: 2017 | R14: 2018 | S14: 2019 | T14: 2020 | U14: 2021 | V14: 2022
A15: Total | B15: 1 | C15: 1 | D15: 1 | E15: 1 | F15: 1 | G15: 1 | H15: 1 | I15: 1 | J15: 1 | K15: 1 | L15: 1 | M15: 1 | N15: 1 | O15: 1 | P15: 1 | Q15: 1 | R15: 1 | S15: 1 | T15: 1 | U15: =SUM(U16:U17) -> 1 | V15: =SUM(V16:V17) -> 1
A16: Nacionalidad española | B16: 0.89830508 | C16: 0.88135593 | D16: 0.89830508 | E16: 0.88095238 | F16: 0.6744186 | G16: 0.84313725 | H16: 0.66666667 | I16: 0.78723404 | J16: 0.78723404 | K16: 0.65957447 | L16: 0.70212766 | M16: 0.68571429 | N16: 0.76 | O16: 0.72340426 | P16: 0.775 | Q16: 0.72340426 | R16: 0.76086957 | S16: 0.79591837 | T16: =T8/$T$7 -> 0.72222222 | U16: =U8/U7 -> 0.8 | V16: =V8/V7 -> 0.81578947
A17: Nacionalidad extranjera | B17: 0.10169492 | C17: 0.11864407 | D17: 0.10169492 | E17: 0.11904762 | F17: 0.3255814 | G17: 0.15686275 | H17: 0.33333333 | I17: 0.21276596 | J17: 0.21276596 | K17: 0.34042553 | L17: 0.29787234 | M17: 0.31428571 | N17: 0.24 | O17: 0.27659574 | P17: 0.225 | Q17: 0.27659574 | R17: 0.23913043 | S17: 0.20408163 | T17: =T9/$T$7 -> 0.27777778 | U17: =U9/U7 -> 0.2 | V17: =V9/V7 -> 0.18421053
A18: Fuente: Elaboración Social·Lab a partir de los datos del Portal Estadístic de la Generalitat Valenciana (PEGV)
